BEGIN:VCALENDAR
VERSION:2.0
PRODID:-//The City of Springfield, Georgia - ECPv6.15.20//NONSGML v1.0//EN
CALSCALE:GREGORIAN
METHOD:PUBLISH
X-WR-CALNAME:The City of Springfield, Georgia
X-ORIGINAL-URL:https://springfieldga.org
X-WR-CALDESC:Events for The City of Springfield, Georgia
REFRESH-INTERVAL;VALUE=DURATION:PT1H
X-Robots-Tag:noindex
X-PUBLISHED-TTL:PT1H
BEGIN:VTIMEZONE
TZID:UTC
BEGIN:STANDARD
TZOFFSETFROM:+0000
TZOFFSETTO:+0000
TZNAME:UTC
DTSTART:20220101T000000
END:STANDARD
END:VTIMEZONE
BEGIN:VEVENT
DTSTART;TZID=UTC:20230602T160000
DTEND;TZID=UTC:20230602T200000
DTSTAMP:20260421T212734
CREATED:20230427T151312Z
LAST-MODIFIED:20230427T152940Z
UID:10000257-1685721600-1685736000@springfieldga.org
SUMMARY:June First Friday
DESCRIPTION:A Magical Night Out\nMars Theatre\n\nInfo coming soon\nParking lot next to the Theatre will be closed for vendors and food trucks from 4pm to 8pm.\n\nFood Trucks:\n\nKona Ice\n\nVendors:\n\nFull list coming soon
URL:https://springfieldga.org/event/june-first-friday/
LOCATION:City Hall\, 130 S. Laurel Street\, Springfield\, GA\, 31329\, United States
CATEGORIES:Administrative,Community Events,Vendor Event
ATTACH;FMTTYPE=image/png:https://springfieldga.org/wp-content/uploads/2023/04/2023-First-Friday-FB-Headers-with-Dates-05.png
ORGANIZER;CN="City of Springfield":MAILTO:jsmith@springfieldga.org
END:VEVENT
BEGIN:VEVENT
DTSTART;TZID=UTC:20230605T180000
DTEND;TZID=UTC:20230605T181500
DTSTAMP:20260421T212734
CREATED:20230427T141408Z
LAST-MODIFIED:20230510T144109Z
UID:10000116-1685988000-1685988900@springfieldga.org
SUMMARY:Public Hearing of Planning and Zoning Board
DESCRIPTION:Public Hearing Time: 6:00 pm  \nPublic Hearing to hear comments on: \n\nOrdinance 2023-11 proposing changes to the Zoning Ordinance\, Article III\, Section 3.7 “DT” Downtown District Building and Site Regulations.\n\n\nRequest for a Special Exemption to allow a digital sign within the DT Downtown District located at 712 N. Laurel Street (Parcel S101-2\n\nAny interested parties are encouraged to attend the public hearings to speak for or against these items. Questions can be directed to the Zoning Office at Springfield City Hall by calling (912) 754-7617. Written comments can be submitted to ephillips@Springfieldga.org. \nThe press and public are invited to attend. \nThe Public Hearing Policies and Procedures are adopted by ordinance and can be found in section 5.1.6.2 Policies and Procedures of the Zoning Ordinance of the City of Springfield. This section can be found here:  https://library.municode.com/ga/springfield/codes/code_of_ordinances?nodeId=PTIICOSPGE_APXAZOOR_ARTVPLZOPR_5.1ORPRPLZOBO
URL:https://springfieldga.org/event/public-hearing-of-planning-and-zoning-board-9-2023-06-05/
LOCATION:City Hall\, 130 S. Laurel Street\, Springfield\, GA\, 31329\, United States
CATEGORIES:Administrative
ORGANIZER;CN="City of Springfield":MAILTO:jsmith@springfieldga.org
END:VEVENT
BEGIN:VEVENT
DTSTART;TZID=UTC:20230605T180000
DTEND;TZID=UTC:20230605T190000
DTSTAMP:20260421T212734
CREATED:20230427T142233Z
LAST-MODIFIED:20230427T142256Z
UID:10000247-1685988000-1685991600@springfieldga.org
SUMMARY:Planning & Zoning Board Meeting
DESCRIPTION:Planning Board Meeting Time:  6:00 pm  \nMonthly meeting of the Springfield Planning and Zoning Board. \nAgenda or minutes can be requested by emailing ephillips@springfieldga.org \nThe Planning Board regularly meets on the Monday prior to the second Tuesday of each month. \nMeetings length will vary based on business discussion.
URL:https://springfieldga.org/event/planning-zoning-board-meeting-3/2023-06-05/
LOCATION:City Hall\, 130 S. Laurel Street\, Springfield\, GA\, 31329\, United States
CATEGORIES:Administrative
ORGANIZER;CN="City of Springfield":MAILTO:jsmith@springfieldga.org
END:VEVENT
BEGIN:VEVENT
DTSTART;TZID=UTC:20230615T180000
DTEND;TZID=UTC:20230615T181500
DTSTAMP:20260421T212734
CREATED:20230605T175550Z
LAST-MODIFIED:20230605T175550Z
UID:10000132-1686852000-1686852900@springfieldga.org
SUMMARY:Public Hearing - Annexation
DESCRIPTION:The City of Springfield Planning and Zoning Board and City of Springfield Mayor and Council will hold public hearings on Thursday\, June 15\, 2023 beginning at 6:00pm to receive comments on the following items: \nRequest for Annexation and Rezoning of \nParcels 429A-05 & 429-1B located at 283 Industrial Boulevard and consisting of approximately 6.4 Acres; and \nParcels 429A-1C01 & 429A-1C located on Ebenezer Road consisting of approximately 23.05 acres. \nEach of the four properties above currently have an Effingham County Zoning designation of I-1 and are requesting a Springfield Zoning designation of I-1. \nAll public hearings and meetings will be held in the Springfield Council Room located at 130 S. Laurel Street (located between Springfield City Hall and Springfield Police Department).
URL:https://springfieldga.org/event/public-hearing-annexation-2/
LOCATION:City Hall\, 130 S. Laurel Street\, Springfield\, GA\, 31329\, United States
CATEGORIES:Administrative
ORGANIZER;CN="City of Springfield":MAILTO:jsmith@springfieldga.org
END:VEVENT
BEGIN:VEVENT
DTSTART;TZID=UTC:20230626T173000
DTEND;TZID=UTC:20230626T183000
DTSTAMP:20260421T212734
CREATED:20230427T135255Z
LAST-MODIFIED:20230427T153145Z
UID:10000244-1687800600-1687804200@springfieldga.org
SUMMARY:DDA Board Meeting
DESCRIPTION:Regular Monthly Meeting of The Downtown Development Authority of Springfield\, GA \nRegular Time: 5:30 pm  \nMonthly meeting of the Springfield Downtown Development Authority (DDA). \nAgenda or minutes can be requested by emailing ephillips@springfieldga.org \nThe DDA typically meets on the third Monday of each month. The June Meeting dates has been moved from the regular meeting date as our offices will be closed on July 19thin observance of Junteenth. \nMeetings length will vary based on business discussion.
URL:https://springfieldga.org/event/dda-board-meeting-2-2023-06-19/
LOCATION:City Hall\, 130 S. Laurel Street\, Springfield\, GA\, 31329\, United States
CATEGORIES:Administrative
ORGANIZER;CN="City of Springfield":MAILTO:jsmith@springfieldga.org
END:VEVENT
END:VCALENDAR