BEGIN:VCALENDAR
VERSION:2.0
PRODID:-//The City of Springfield, Georgia - ECPv6.15.20//NONSGML v1.0//EN
CALSCALE:GREGORIAN
METHOD:PUBLISH
X-WR-CALNAME:The City of Springfield, Georgia
X-ORIGINAL-URL:https://springfieldga.org
X-WR-CALDESC:Events for The City of Springfield, Georgia
REFRESH-INTERVAL;VALUE=DURATION:PT1H
X-Robots-Tag:noindex
X-PUBLISHED-TTL:PT1H
BEGIN:VTIMEZONE
TZID:UTC
BEGIN:STANDARD
TZOFFSETFROM:+0000
TZOFFSETTO:+0000
TZNAME:UTC
DTSTART:20230101T000000
END:STANDARD
END:VTIMEZONE
BEGIN:VEVENT
DTSTART;TZID=UTC:20240212T180000
DTEND;TZID=UTC:20240212T181500
DTSTAMP:20260421T223325
CREATED:20231213T174553Z
LAST-MODIFIED:20240110T151427Z
UID:10000278-1707760800-1707761700@springfieldga.org
SUMMARY:Public Hearing of the Planning & Zoning Board
DESCRIPTION:Public Hearing Time: 6:00 pm  \nPublic Hearing to hear comments on: \n\nProposed amendment to the Zoning Map and rezoning a portion of Parcel S109-45 from R-1 to R-2.\n\n  \n\nProposed amendment to the Zoning Ordinance\, Section 3.2 “R-2” Residential District regarding townhome dwellings.\n\n  \n\nProposed amendment to the Zoning Ordinance\, Section 5.1 “Organization and Procedures of the Planning and Zoning Board”.\n\n  \n\nProposed amendment to the Zoning Ordinance\, Section 4.20 “Home Occupations”.\n\n  \nAny interested parties are encouraged to attend the public hearings to speak for or against these items. Questions can be directed to the Zoning Office at Springfield City Hall by calling (912) 754-7617. Written comments can be submitted to ephillips@Springfieldga.org. \nThe press and public are invited to attend. \nThe Public Hearing Policies and Procedures are adopted by ordinance and can be found in section 5.1.6.2 Policies and Procedures of the Zoning Ordinance of the City of Springfield. This section can be found here:  https://library.municode.com/ga/springfield/codes/code_of_ordinances?nodeId=PTIICOSPGE_APXAZOOR_ARTVPLZOPR_5.1ORPRPLZOBO \n 
URL:https://springfieldga.org/event/public-hearing-of-the-planning-zoning-board-4-2024-02-05/
LOCATION:City Hall\, 130 S. Laurel Street\, Springfield\, GA\, 31329\, United States
CATEGORIES:Administrative
ORGANIZER;CN="City of Springfield":MAILTO:jsmith@springfieldga.org
END:VEVENT
BEGIN:VEVENT
DTSTART;TZID=UTC:20240212T180000
DTEND;TZID=UTC:20240212T190000
DTSTAMP:20260421T223325
CREATED:20231213T174414Z
LAST-MODIFIED:20240108T152425Z
UID:10000152-1707760800-1707764400@springfieldga.org
SUMMARY:Planning & Zoning Board Meeting
DESCRIPTION:Planning Board Meeting Time:  6:00 pm  \nMonthly meeting of the Springfield Planning and Zoning Board. Agenda or minutes can be requested by emailing ephillips@springfieldga.org \nThe Planning Board regularly meets on the Monday prior to the second Tuesday of each month. Meetings length will vary based on business discussion. \nThe press and public are invited to attend. \nAny interested parties are encouraged to attend the meetings. The public is encouraged to ask questions or seek clarification about agenda items prior to the meeting. Questions can be directed to the Zoning Office at Springfield City Hall by calling (912) 754-7617. Written comments can be submitted to ephillips@Springfieldga.org. \nThe Public Hearing Policies and Procedures are adopted by ordinance and can be found in section 5.1.6.2 Policies and Procedures of the Zoning Ordinance of the City of Springfield. This section can be found here:  https://library.municode.com/ga/springfield/codes/code_of_ordinances?nodeId=PTIICOSPGE_APXAZOOR_ARTVPLZOPR_5.1ORPRPLZOBO
URL:https://springfieldga.org/event/planning-zoning-board-meeting-2024-02-05/
LOCATION:City Hall\, 130 S. Laurel Street\, Springfield\, GA\, 31329\, United States
CATEGORIES:Administrative
ORGANIZER;CN="City of Springfield":MAILTO:jsmith@springfieldga.org
END:VEVENT
BEGIN:VEVENT
DTSTART;TZID=UTC:20240213T180000
DTEND;TZID=UTC:20240213T183000
DTSTAMP:20260421T223325
CREATED:20240110T151720Z
LAST-MODIFIED:20240110T151720Z
UID:10000312-1707847200-1707849000@springfieldga.org
SUMMARY:Public Hearing of Mayor & Council
DESCRIPTION:Public Hearing Time: 6:00 pm  \nPublic Hearing to hear comments on: \n\nProposed amendment to the Zoning Map and rezoning a portion of Parcel S109-45 from R-1 to R-2.\n\n  \n\nProposed amendment to the Zoning Ordinance\, Section 3.2 “R-2” Residential District regarding townhome dwellings.\n\n  \n\nProposed amendment to the Zoning Ordinance\, Section 5.1 “Organization and Procedures of the Planning and Zoning Board”.\n\n  \n\nProposed amendment to the Zoning Ordinance\, Section 4.20 “Home Occupations”.\n\n  \nAny interested parties are encouraged to attend the public hearings to speak for or against these items. Questions can be directed to the Zoning Office at Springfield City Hall by calling (912) 754-7617. Written comments can be submitted to jsmith@Springfieldga.org. \nThe press and public are invited to attend. \nThe Public Hearing Policies and Procedures are adopted by ordinance and can be found in section 5.1.6.2 Policies and Procedures of the Zoning Ordinance of the City of Springfield. This section can be found here:  https://library.municode.com/ga/springfield/codes/code_of_ordinances?nodeId=PTIICOSPGE_APXAZOOR_ARTVPLZOPR_5.1ORPRPLZOBO \n 
URL:https://springfieldga.org/event/public-hearing-of-mayor-council-2/
LOCATION:City Hall\, 130 S. Laurel Street\, Springfield\, GA\, 31329\, United States
CATEGORIES:Administrative
ORGANIZER;CN="City of Springfield":MAILTO:jsmith@springfieldga.org
END:VEVENT
BEGIN:VEVENT
DTSTART;TZID=UTC:20240213T180000
DTEND;TZID=UTC:20240213T200000
DTSTAMP:20260421T223325
CREATED:20240209T150056Z
LAST-MODIFIED:20240209T150056Z
UID:10000314-1707847200-1707854400@springfieldga.org
SUMMARY:City Council Meeting
DESCRIPTION:Monthly meeting of the Mayor and City Council \nAgenda or minutes can be requested by emailing jsmith@springfieldga.org \nCity Council regularly meets on the second Tuesday of each month.
URL:https://springfieldga.org/event/city-council-meeting-2/2024-02-13/
LOCATION:City Hall\, 130 S. Laurel Street\, Springfield\, GA\, 31329\, United States
CATEGORIES:Administrative
ORGANIZER;CN="City of Springfield":MAILTO:jsmith@springfieldga.org
END:VEVENT
BEGIN:VEVENT
DTSTART;VALUE=DATE:20240219
DTEND;VALUE=DATE:20240220
DTSTAMP:20260421T223325
CREATED:20231213T180157Z
LAST-MODIFIED:20231213T180157Z
UID:10000301-1708300800-1708387199@springfieldga.org
SUMMARY:City Hall Closed
DESCRIPTION:City Hall will be closed in observance of Presidents’ Day.
URL:https://springfieldga.org/event/city-hall-closed-18/
LOCATION:City Hall\, 130 S. Laurel Street\, Springfield\, GA\, 31329\, United States
CATEGORIES:Administrative
ORGANIZER;CN="City of Springfield":MAILTO:jsmith@springfieldga.org
END:VEVENT
BEGIN:VEVENT
DTSTART;TZID=UTC:20240226T173000
DTEND;TZID=UTC:20240226T183000
DTSTAMP:20260421T223325
CREATED:20231213T175720Z
LAST-MODIFIED:20231213T175833Z
UID:10000290-1708968600-1708972200@springfieldga.org
SUMMARY:Meeting of the Downtown Development Authority of Springfield\, GA
DESCRIPTION:Regular Time: 5:30 pm  \nMonthly meeting of the Springfield Downtown Development Authority (DDA). \nAgenda or minutes can be requested by emailing ephillips@springfieldga.org \nThe DDA typically meets on the third Monday of each month. \nMeetings length will vary based on business discussion.
URL:https://springfieldga.org/event/meeting-of-the-downtown-development-authority-of-springfield-ga-2024-02-19/
LOCATION:City Hall\, 130 S. Laurel Street\, Springfield\, GA\, 31329\, United States
CATEGORIES:Administrative
ORGANIZER;CN="City of Springfield":MAILTO:jsmith@springfieldga.org
END:VEVENT
BEGIN:VEVENT
DTSTART;TZID=UTC:20240227T180000
DTEND;TZID=UTC:20240227T200000
DTSTAMP:20260421T223325
CREATED:20240222T211348Z
LAST-MODIFIED:20240222T211415Z
UID:10000374-1709056800-1709064000@springfieldga.org
SUMMARY:PUBLIC HEARING\, SPECIAL CALLED MEETING AND WORKSHOP
DESCRIPTION:City of Springfield GA \nNOTICE OF PUBLIC HEARING\, SPECIAL CALLED MEETING AND WORKSHOP \nThe City of Springfield Planning and Zoning Board and City of Springfield Mayor and Council will hold a public hearing on February 27\, 2024 beginning at 6:00pm to receive comments on the following item: \n\nRequest for Annexation and Rezoning of Parcel 410-61\, Parcel 410-62 and Parcel 410-63 located at 1479 Hwy 21 S in Springfield\, GA. These Parcels\, consisting of approximately 72.5 acres in total and currently County Zoning Classification of AR-1\, are requesting Springfield Zoning Classification of: B-1 “General Commercial District” for 9.25 acres adjacent to GA Hwy 21; and R-2B “Townhome Residential District” for the remaining approximately 63.25 acres. \n\n  \nImmediately following the close of the Public Hearing the City of Springfield Mayor and Council will hold a Special Called Meeting regarding: \n\nSewer Moratorium \nExecutive Session: Real Estate\n\n  \nThe City of Springfield Mayor and Council will hold a workshop upon adjournment of the Special Called Meeting regarding: \n\nHighway 21 Density\n\n  \n All public hearings\, workshops and meetings will be held in the Springfield Council Room located at 130 S. Laurel Street\, Springfield\, GA 31329. \n  \n 
URL:https://springfieldga.org/event/notice-of-public-hearing-special-called-meeting-and-workshop/
LOCATION:City Hall\, 130 S. Laurel Street\, Springfield\, GA\, 31329\, United States
CATEGORIES:Administrative
ORGANIZER;CN="City of Springfield":MAILTO:jsmith@springfieldga.org
END:VEVENT
END:VCALENDAR