BEGIN:VCALENDAR
VERSION:2.0
PRODID:-//The City of Springfield, Georgia - ECPv6.15.20//NONSGML v1.0//EN
CALSCALE:GREGORIAN
METHOD:PUBLISH
X-WR-CALNAME:The City of Springfield, Georgia
X-ORIGINAL-URL:https://springfieldga.org
X-WR-CALDESC:Events for The City of Springfield, Georgia
REFRESH-INTERVAL;VALUE=DURATION:PT1H
X-Robots-Tag:noindex
X-PUBLISHED-TTL:PT1H
BEGIN:VTIMEZONE
TZID:UTC
BEGIN:STANDARD
TZOFFSETFROM:+0000
TZOFFSETTO:+0000
TZNAME:UTC
DTSTART:20230101T000000
END:STANDARD
END:VTIMEZONE
BEGIN:VEVENT
DTSTART;TZID=UTC:20240502T183000
DTEND;TZID=UTC:20240502T193000
DTSTAMP:20260422T025250
CREATED:20240410T183659Z
LAST-MODIFIED:20240422T133412Z
UID:10000452-1714674600-1714678200@springfieldga.org
SUMMARY:A Call to Prayer
DESCRIPTION:Thursday\, May 2nd is the 73rd annual National Day of Prayer.  Let us come together from 6:30pm to 7:30pm for a community service at the Veterans Park in Springfield (located beside the Effingham Hospital).  Join us in lifting up the Word of God as we embrace His promises.  May we shine His light to the world! \nPlease bring your own chair for the service.  If the weather is raining\, the service will be held in the Board of Education’s auditorium (405 North Ash Street\, Springfield\, GA 31329).  If you have any questions\, please contact Morgan Phillips at (912)-659-1373.
URL:https://springfieldga.org/event/a-call-to-prayer/
LOCATION:Effingham County Veteran’s Park\, W 1st St Ext\, Springfield\, GA\, 31329\, United States
CATEGORIES:Community Events
END:VEVENT
BEGIN:VEVENT
DTSTART;TZID=UTC:20240503T160000
DTEND;TZID=UTC:20240503T200000
DTSTAMP:20260422T025250
CREATED:20240312T162829Z
LAST-MODIFIED:20240429T201958Z
UID:10000441-1714752000-1714766400@springfieldga.org
SUMMARY:May First Friday Downtown
DESCRIPTION:Downtown Beach Party!\n			\n			\n				\n				\n				\n				\n			\n				\n				\n				\n				\n				\n				\n				\n				\n				\n				\n				Food Trucks:\n			\n			\n				\n				\n				\n				\n				\n			\n				\n				\n				\n				\n			\n				\n				\n				\n				\n				\n				\n				\n				\n				\n				\n				\n					\n					\n						Donut NV\n						Our hot\, mini donuts are always made fresh to order\, flipping right before your eyes! These light and fluffy donut morsels are finished with your choice of toppings – from classics like our cinnamon sugar or powdered sugar to new favorites like strawberry shortcake and dirt n’ worms.  \n					\n				\n			\n			\n				\n				\n				\n				\n				\n				\n				\n				\n				\n				\n					\n					\n						Molly MacPherson's Scottish Pub's Food Truck\n						Scottish and American Food. \n					\n				\n			\n				\n				\n				\n				\n				\n					\n					\n						Frencheese \n						Burgers\,  Pulled Pork\, BBQ Chicken\, Fried Chicken\, Philly Cheesesteak\, Sausage Dogs.  \n					\n				\n			\n			\n				\n				\n				\n				\n				\n				\n				\n				\n				\n				\n					\n					\n						Royal Tasty Avenue\n						With more than 35 years experience\, I have no doubt that you’ve lucked up and made the right choice \n \n					\n				\n			\n				\n				\n				\n				\n				\n					\n					\n						Starship Icecream\n						Hand made Ice Cream in Custom Flavors!  \n  \n					\n				\n			\n			\n				\n				\n				\n				\n			\n				\n				\n			\n				\n				\n				\n				\n				\n				\n				\n				\n				\n				\n				\n				\n				\n				\n				\n				\n				\n				Activities:\n			\n			\n				\n				\n				\n				\n			\n				\n				\n				\n				\n				\n				\n				\n				\n				\n				\n				\n					\n					\n						Scavenger Hunt\n						We’ve hidden extra ducks downtown this year\, but look close\, they are extra small this year! Find a duck and return it to the Mars for your prize! \n					\n				\n			\n			\n				\n				\n				\n				\n				\n				\n				\n				\n				\n				\n					\n					\n						Shag Dancing\n						See the Savannah Shag Club in action starting at 5:00! They will dance and entertain until the TAMS start at 7pm! \n					\n				\n			\n			\n				\n				\n				\n				\n				\n				\n				\n				\n				\n				\n					\n					\n						Street Maket\n						Vendors will be set up on First Street! Come check them out from 4pm to 8pm! \n					\n				\n			\n			\n				\n				\n				\n				\n				\n				\n				\n				\n				\n				\n					\n					\n						Beach Ball Volley Ball\n						Let the kids (or adults!) play a round of beach ball volley ball! A small court and beach balls will set up next to the the food court! \n					\n				\n			\n			\n				\n				\n				\n				\n			\n				\n				\n			\n				\n				\n				\n				\n				\n				\n				\n				\n				\n				\n				\n				\n				\n				\n				\n				\n				\n				Entertainment\n			\n			\n				\n				\n				\n				\n			\n				\n				\n				\n				\n				\n				\n				\n				\n				\n				\n				\n			\n			\n				\n				\n				\n				\n			\n				\n				\n			\n				\n				\n				\n				\n				\n				\n				\n				\n				\n				\n				\n				\n				\n				\n				\n				\n				\n				Plan for Food Trucks\, Fun\, and Family Friendly Activities May through September in 2024!
URL:https://springfieldga.org/event/may-first-friday-downtown/
LOCATION:City Hall\, 130 S. Laurel Street\, Springfield\, GA\, 31329\, United States
CATEGORIES:Community Events,Vendor Event
ATTACH;FMTTYPE=image/png:https://springfieldga.org/wp-content/uploads/2024/03/May-Date-Only.png
ORGANIZER;CN="City of Springfield":MAILTO:jsmith@springfieldga.org
END:VEVENT
BEGIN:VEVENT
DTSTART;TZID=UTC:20240506T180000
DTEND;TZID=UTC:20240506T181500
DTSTAMP:20260422T025250
CREATED:20240408T132731Z
LAST-MODIFIED:20240408T132733Z
UID:10000281-1715018400-1715019300@springfieldga.org
SUMMARY:Public Hearing of the Planning & Zoning Board
DESCRIPTION:Public Hearing Time: 6:00 pm  \nPublic Hearing to hear comments on: \n\nRequest for Special Exemption to allow a roof mounted illuminated channel letter sign at DT Zoned property located at 506 N. Pine Street (Parcel S101-16A).\nRequest for Special Exemption to allow semi-trucks parked on R-1 Zoned property located at 609 S. Ash Street (Parcel S124-1) .\nRequest for Variance to reduce side setbacks for a carport expansion at R-1 Zoned property located at 701 N. Maple Street (Parcel S100-38).\n\nAny interested parties are encouraged to attend the public hearings to speak for or against these items. Questions can be directed to the Zoning Office at Springfield City Hall by calling (912) 754-7617. Written comments can be submitted to ephillips@Springfieldga.org. \nThe press and public are invited to attend. \nThe Public Hearing Policies and Procedures are adopted by ordinance and can be found in section 5.1.6.2 Policies and Procedures of the Zoning Ordinance of the City of Springfield. This section can be found here:  https://library.municode.com/ga/springfield/codes/code_of_ordinances?nodeId=PTIICOSPGE_APXAZOOR_ARTVPLZOPR_5.1ORPRPLZOBO \n 
URL:https://springfieldga.org/event/public-hearing-of-the-planning-zoning-board-4-2024-03-04-4/
LOCATION:City Hall\, 130 S. Laurel Street\, Springfield\, GA\, 31329\, United States
CATEGORIES:Administrative
ORGANIZER;CN="City of Springfield":MAILTO:jsmith@springfieldga.org
END:VEVENT
BEGIN:VEVENT
DTSTART;TZID=UTC:20240506T180000
DTEND;TZID=UTC:20240506T190000
DTSTAMP:20260422T025250
CREATED:20231213T174414Z
LAST-MODIFIED:20240108T152409Z
UID:10000156-1715018400-1715022000@springfieldga.org
SUMMARY:Planning & Zoning Board Meeting
DESCRIPTION:Planning Board Meeting Time:  6:00 pm  \nMonthly meeting of the Springfield Planning and Zoning Board. Agenda or minutes can be requested by emailing ephillips@springfieldga.org \nThe Planning Board regularly meets on the Monday prior to the second Tuesday of each month. Meetings length will vary based on business discussion. \nThe press and public are invited to attend. \nAny interested parties are encouraged to attend the meetings. The public is encouraged to ask questions or seek clarification about agenda items prior to the meeting. Questions can be directed to the Zoning Office at Springfield City Hall by calling (912) 754-7617. Written comments can be submitted to ephillips@Springfieldga.org. \nThe Public Hearing Policies and Procedures are adopted by ordinance and can be found in section 5.1.6.2 Policies and Procedures of the Zoning Ordinance of the City of Springfield. This section can be found here:  https://library.municode.com/ga/springfield/codes/code_of_ordinances?nodeId=PTIICOSPGE_APXAZOOR_ARTVPLZOPR_5.1ORPRPLZOBO
URL:https://springfieldga.org/event/planning-zoning-board-meeting-2024-03-04/2024-05-06/
LOCATION:City Hall\, 130 S. Laurel Street\, Springfield\, GA\, 31329\, United States
CATEGORIES:Administrative
ORGANIZER;CN="City of Springfield":MAILTO:jsmith@springfieldga.org
END:VEVENT
BEGIN:VEVENT
DTSTART;TZID=UTC:20240514T180000
DTEND;TZID=UTC:20240514T181500
DTSTAMP:20260422T025250
CREATED:20240408T132852Z
LAST-MODIFIED:20240408T132852Z
UID:10000449-1715709600-1715710500@springfieldga.org
SUMMARY:Public Hearing of Mayor and Council
DESCRIPTION:Public Hearing Time: 6:00 pm  \nPublic Hearing to hear comments on: \n\nRequest for Special Exemption to allow a roof mounted illuminated channel letter sign at DT Zoned property located at 506 N. Pine Street (Parcel S101-16A).\nRequest for Special Exemption to allow semi-trucks parked on R-1 Zoned property located at 609 S. Ash Street (Parcel S124-1) .\nRequest for Variance to reduce side setbacks for a carport expansion at R-1 Zoned property located at 701 N. Maple Street (Parcel S100-38).\n\nAny interested parties are encouraged to attend the public hearings to speak for or against these items. Questions can be directed to the Zoning Office at Springfield City Hall by calling (912) 754-7617. Written comments can be submitted to jsmith@Springfieldga.org. \nThe press and public are invited to attend. \nThe Public Hearing Policies and Procedures are adopted by ordinance and can be found in section 5.1.6.2 Policies and Procedures of the Zoning Ordinance of the City of Springfield. This section can be found here:  https://library.municode.com/ga/springfield/codes/code_of_ordinances?nodeId=PTIICOSPGE_APXAZOOR_ARTVPLZOPR_5.1ORPRPLZOBO
URL:https://springfieldga.org/event/public-hearing-of-mayor-and-council-6/
LOCATION:City Hall\, 130 S. Laurel Street\, Springfield\, GA\, 31329\, United States
CATEGORIES:Administrative
ORGANIZER;CN="City of Springfield":MAILTO:jsmith@springfieldga.org
END:VEVENT
BEGIN:VEVENT
DTSTART;TZID=UTC:20240514T180000
DTEND;TZID=UTC:20240514T200000
DTSTAMP:20260422T025250
CREATED:20240509T195903Z
LAST-MODIFIED:20240509T195904Z
UID:10000380-1715709600-1715716800@springfieldga.org
SUMMARY:City Council Meeting
DESCRIPTION:City of Springfield 2024-05-14_ Agenda \nMonthly meeting of the Mayor and City Council \nAgenda or minutes can be requested by emailing jsmith@springfieldga.org \nCity Council regularly meets on the second Tuesday of each month.
URL:https://springfieldga.org/event/city-council-meeting-3-4/
LOCATION:City Hall\, 130 S. Laurel Street\, Springfield\, GA\, 31329\, United States
CATEGORIES:Administrative
ORGANIZER;CN="City of Springfield":MAILTO:jsmith@springfieldga.org
END:VEVENT
BEGIN:VEVENT
DTSTART;TZID=UTC:20240516T180000
DTEND;TZID=UTC:20240516T190000
DTSTAMP:20260422T025250
CREATED:20240514T150814Z
LAST-MODIFIED:20240514T151059Z
UID:10000458-1715882400-1715886000@springfieldga.org
SUMMARY:Public Hearing (Comp Planning)
DESCRIPTION:The City of Springfield will be holding public hearings to discuss the process for updating the Springfield Comprehensive Plan and to receive feedback on the existing Comprehensive Plan. \nPublic Hearing Dates will be \nMay 16th at 6:00pm and May 21st at 6:00pm. \nCopies of the current Comprehensive Plan and full meeting schedule are available online at: \nwww.SpringfieldGA.org/comp-plan/ \n  \nAll public hearings and meetings will be held in the Springfield Council Room located at 130 S. Laurel Street (located between Springfield City Hall and Springfield Police Department).
URL:https://springfieldga.org/event/public-hearing-comp-planning/
LOCATION:City Hall\, 130 S. Laurel Street\, Springfield\, GA\, 31329\, United States
CATEGORIES:Administrative,Community Events
ORGANIZER;CN="City of Springfield":MAILTO:jsmith@springfieldga.org
END:VEVENT
BEGIN:VEVENT
DTSTART;TZID=UTC:20240517T080000
DTEND;TZID=UTC:20240517T090000
DTSTAMP:20260422T025250
CREATED:20240507T192402Z
LAST-MODIFIED:20240507T192402Z
UID:10000455-1715932800-1715936400@springfieldga.org
SUMMARY:Honor Flight Send Off
DESCRIPTION:We would like to invite all residents and business to line the street as the honor flight Veterans depart for their trip to Washington\, D.C to visit their memorials.  The bus will depart the Armory on Early Street at 8:30 a.m and proceed to I-95 Via Laurel Street and Hwy 21. \n  \nFor information on Honor Flight please visit https://www.honorflightsavannah.org/
URL:https://springfieldga.org/event/honor-flight-send-off/
LOCATION:Springfield\, GA
CATEGORIES:Community Events
END:VEVENT
BEGIN:VEVENT
DTSTART;TZID=UTC:20240520T173000
DTEND;TZID=UTC:20240520T183000
DTSTAMP:20260422T025250
CREATED:20231213T175720Z
LAST-MODIFIED:20231213T175821Z
UID:10000293-1716226200-1716229800@springfieldga.org
SUMMARY:Meeting of the Downtown Development Authority of Springfield\, GA
DESCRIPTION:Regular Time: 5:30 pm  \nMonthly meeting of the Springfield Downtown Development Authority (DDA). \nAgenda or minutes can be requested by emailing ephillips@springfieldga.org \nThe DDA typically meets on the third Monday of each month. \nMeetings length will vary based on business discussion.
URL:https://springfieldga.org/event/meeting-of-the-downtown-development-authority-of-springfield-ga-2024-03-18/2024-05-20/
LOCATION:City Hall\, 130 S. Laurel Street\, Springfield\, GA\, 31329\, United States
CATEGORIES:Administrative
ORGANIZER;CN="City of Springfield":MAILTO:jsmith@springfieldga.org
END:VEVENT
BEGIN:VEVENT
DTSTART;TZID=UTC:20240521T180000
DTEND;TZID=UTC:20240521T190000
DTSTAMP:20260422T025250
CREATED:20240514T150842Z
LAST-MODIFIED:20240514T151127Z
UID:10000459-1716314400-1716318000@springfieldga.org
SUMMARY:Public Hearing (Comp Planning)
DESCRIPTION:The City of Springfield will be holding public hearings to discuss the process for updating the Springfield Comprehensive Plan and to receive feedback on the existing Comprehensive Plan. \nPublic Hearing Dates will be \nMay 16th at 6:00pm and May 21st at 6:00pm. \nCopies of the current Comprehensive Plan and full meeting schedule are available online at: \nwww.SpringfieldGA.org/comp-plan/ \n  \nAll public hearings and meetings will be held in the Springfield Council Room located at 130 S. Laurel Street (located between Springfield City Hall and Springfield Police Department).
URL:https://springfieldga.org/event/public-hearing-comp-planning-2/
LOCATION:City Hall\, 130 S. Laurel Street\, Springfield\, GA\, 31329\, United States
CATEGORIES:Administrative,Community Events
ORGANIZER;CN="City of Springfield":MAILTO:jsmith@springfieldga.org
END:VEVENT
BEGIN:VEVENT
DTSTART;TZID=UTC:20240523T180000
DTEND;TZID=UTC:20240523T200000
DTSTAMP:20260422T025250
CREATED:20240514T152105Z
LAST-MODIFIED:20240514T152118Z
UID:10000465-1716487200-1716494400@springfieldga.org
SUMMARY:Stakeholder Meeting for Comp. Plan
DESCRIPTION:Stakeholders assisting the City in the Springfield Comprehensive Plan update will be meeting to discuss the following aspects of the Plan Update: \nHousing\, Transportation\, Land Use
URL:https://springfieldga.org/event/stakeholder-meeting-for-comp-plan/
LOCATION:City Hall\, 130 S. Laurel Street\, Springfield\, GA\, 31329\, United States
CATEGORIES:Administrative,Community Events
ORGANIZER;CN="City of Springfield":MAILTO:jsmith@springfieldga.org
END:VEVENT
BEGIN:VEVENT
DTSTART;VALUE=DATE:20240527
DTEND;VALUE=DATE:20240528
DTSTAMP:20260422T025250
CREATED:20231213T180233Z
LAST-MODIFIED:20231213T180242Z
UID:10000302-1716768000-1716854399@springfieldga.org
SUMMARY:City Hall Closed
DESCRIPTION:City Hall will be closed in observance of Memorial Day.
URL:https://springfieldga.org/event/city-hal-closed/
LOCATION:City Hall\, 130 S. Laurel Street\, Springfield\, GA\, 31329\, United States
CATEGORIES:Administrative
ORGANIZER;CN="City of Springfield":MAILTO:jsmith@springfieldga.org
END:VEVENT
BEGIN:VEVENT
DTSTART;TZID=UTC:20240530T180000
DTEND;TZID=UTC:20240530T200000
DTSTAMP:20260422T025250
CREATED:20240514T151721Z
LAST-MODIFIED:20240514T151723Z
UID:10000462-1717092000-1717099200@springfieldga.org
SUMMARY:Council Workshop - Comp. Planning
DESCRIPTION:City Council will be holding a workshop to discuss the update to the Springfield Comprehensive Plan. \nAdditional items may be discussed. Please reach out to City Hall prior to the workshop for full listing of potential discussion items.
URL:https://springfieldga.org/event/council-workshop-comp-planning/
LOCATION:City Hall\, 130 S. Laurel Street\, Springfield\, GA\, 31329\, United States
CATEGORIES:Administrative
ORGANIZER;CN="City of Springfield":MAILTO:jsmith@springfieldga.org
END:VEVENT
END:VCALENDAR