BEGIN:VCALENDAR
VERSION:2.0
PRODID:-//The City of Springfield, Georgia - ECPv6.15.20//NONSGML v1.0//EN
CALSCALE:GREGORIAN
METHOD:PUBLISH
X-WR-CALNAME:The City of Springfield, Georgia
X-ORIGINAL-URL:https://springfieldga.org
X-WR-CALDESC:Events for The City of Springfield, Georgia
REFRESH-INTERVAL;VALUE=DURATION:PT1H
X-Robots-Tag:noindex
X-PUBLISHED-TTL:PT1H
BEGIN:VTIMEZONE
TZID:UTC
BEGIN:STANDARD
TZOFFSETFROM:+0000
TZOFFSETTO:+0000
TZNAME:UTC
DTSTART:20240101T000000
END:STANDARD
END:VTIMEZONE
BEGIN:VEVENT
DTSTART;TZID=UTC:20250303T180000
DTEND;TZID=UTC:20250303T181500
DTSTAMP:20260422T104235
CREATED:20250206T183110Z
LAST-MODIFIED:20250206T183111Z
UID:10000603-1741024800-1741025700@springfieldga.org
SUMMARY:Public Hearing of the Planning & Zoning Board
DESCRIPTION:Public Hearing Time: 6:00 pm  \nPublic Hearing to hear comments on: \n\nProposed Amendment to the Zoning Ordinance regarding Permitted Uses\, Conditional Uses and Prohibited Uses.\n\n  \nAny interested parties are encouraged to attend the public hearings to speak for or against these items. Questions can be directed to the Zoning Office at Springfield City Hall by calling (912) 754-7617. Written comments can be submitted to ephillips@Springfieldga.org. \nThe press and public are invited to attend. \nThe Public Hearing Policies and Procedures are adopted by ordinance and can be found in section 5.1.6.2 Policies and Procedures of the Zoning Ordinance of the City of Springfield. This section can be found here:  https://library.municode.com/ga/springfield/codes/code_of_ordinances?nodeId=PTIICOSPGE_APXAZOOR_ARTVPLZOPR_5.1ORPRPLZOBO \n 
URL:https://springfieldga.org/event/public-hearing-of-the-planning-zoning-board-5-7/
LOCATION:City Hall\, 130 S. Laurel Street\, Springfield\, GA\, 31329\, United States
CATEGORIES:Administrative
ORGANIZER;CN="City of Springfield":MAILTO:jsmith@springfieldga.org
END:VEVENT
BEGIN:VEVENT
DTSTART;TZID=UTC:20250303T180000
DTEND;TZID=UTC:20250303T190000
DTSTAMP:20260422T104235
CREATED:20241114T185223Z
LAST-MODIFIED:20241114T185224Z
UID:10000558-1741024800-1741028400@springfieldga.org
SUMMARY:Planning & Zoning Board Meeting
DESCRIPTION:Planning Board Meeting Time:  6:00 pm  \nMonthly meeting of the Springfield Planning and Zoning Board. Agenda or minutes can be requested by emailing ephillips@springfieldga.org \nThe Planning Board regularly meets on the Monday prior to the second Tuesday of each month. Meetings length will vary based on business discussion. \nThe press and public are invited to attend. \nAny interested parties are encouraged to attend the meetings. The public is encouraged to ask questions or seek clarification about agenda items prior to the meeting. Questions can be directed to the Zoning Office at Springfield City Hall by calling (912) 754-7617. Written comments can be submitted to ephillips@Springfieldga.org. \nThe Public Hearing Policies and Procedures are adopted by ordinance and can be found in section 5.1.6.2 Policies and Procedures of the Zoning Ordinance of the City of Springfield. This section can be found here:  https://library.municode.com/ga/springfield/codes/code_of_ordinances?nodeId=PTIICOSPGE_APXAZOOR_ARTVPLZOPR_5.1ORPRPLZOBO
URL:https://springfieldga.org/event/planning-zoning-board-meeting-4-3/
LOCATION:City Hall\, 130 S. Laurel Street\, Springfield\, GA\, 31329\, United States
CATEGORIES:Administrative
ORGANIZER;CN="City of Springfield":MAILTO:jsmith@springfieldga.org
END:VEVENT
BEGIN:VEVENT
DTSTART;TZID=UTC:20250309T160000
DTEND;TZID=UTC:20250309T190000
DTSTAMP:20260422T104235
CREATED:20250206T213348Z
LAST-MODIFIED:20250206T213348Z
UID:10000682-1741536000-1741546800@springfieldga.org
SUMMARY:Spring Concert & Art Exhibit
DESCRIPTION:Come hear the Effingham Community Orchestra and the Effingham Community Orchestra Jazz Band in our Spring Concert! Featuring Brahms Symphony No. 2\, a tribute to Quincy Jones\, and more! Concert is free and will be live streamed!\nLive Stream: https://youtube.com/live/YQ-hpLiC6Q8?feature=share\nProgram:\nTickets: Free! (link coming soon)\nDonate: https://www.zeffy.com/…/don…/donate-to-support-our-music\n\nhttps://www.facebook.com/effinghamcommunityorchestrahttp://www.effinghamcommunityorchestra.org
URL:https://springfieldga.org/event/spring-concert-art-exhibit/
LOCATION:Mars Theatre\, 106 S Laurel St\, Springfield\, GA\, 31329\, United States
CATEGORIES:Community Events
ATTACH;FMTTYPE=image/jpeg:https://springfieldga.org/wp-content/uploads/2025/02/475344743_10227338535904214_9199808364628042066_n.jpg
ORGANIZER;CN="Effingham Artists":MAILTO:effinghamartists@gmail.com
END:VEVENT
BEGIN:VEVENT
DTSTART;TZID=UTC:20250311T180000
DTEND;TZID=UTC:20250311T181500
DTSTAMP:20260422T104235
CREATED:20250206T183149Z
LAST-MODIFIED:20250206T183149Z
UID:10000681-1741716000-1741716900@springfieldga.org
SUMMARY:Public Hearing of the Mayor and Council
DESCRIPTION:Public Hearing Time: 6:00 pm  \nPublic Hearing to hear comments on: \n\nProposed Amendment to the Zoning Ordinance regarding Permitted Uses\, Conditional Uses and Prohibited Uses.\n\nAny interested parties are encouraged to attend the public hearings to speak for or against these items. Questions can be directed to the Zoning Office at Springfield City Hall by calling (912) 754-7617. Written comments can be submitted to ephillips@Springfieldga.org. \nThe press and public are invited to attend. \nThe Public Hearing Policies and Procedures are adopted by ordinance and can be found in section 5.1.6.2 Policies and Procedures of the Zoning Ordinance of the City of Springfield. This section can be found here:  https://library.municode.com/ga/springfield/codes/code_of_ordinances?nodeId=PTIICOSPGE_APXAZOOR_ARTVPLZOPR_5.1ORPRPLZOBO \n 
URL:https://springfieldga.org/event/public-hearing-of-the-mayor-and-council-3/
LOCATION:City Hall\, 130 S. Laurel Street\, Springfield\, GA\, 31329\, United States
CATEGORIES:Administrative
ORGANIZER;CN="City of Springfield":MAILTO:jsmith@springfieldga.org
END:VEVENT
BEGIN:VEVENT
DTSTART;TZID=UTC:20250311T180000
DTEND;TZID=UTC:20250311T200000
DTSTAMP:20260422T104235
CREATED:20240306T170041Z
LAST-MODIFIED:20240523T173512Z
UID:10000390-1741716000-1741723200@springfieldga.org
SUMMARY:City Council Meeting
DESCRIPTION:Monthly meeting of the Mayor and City Council. \nPlease visit the Agenda Center for current agendas. Minutes  from past meetings can be requested by emailing jsmith@springfieldga.org \nCity Council regularly meets on the second Tuesday of each month.
URL:https://springfieldga.org/event/city-council-meeting-3/2025-03-11/
LOCATION:City Hall\, 130 S. Laurel Street\, Springfield\, GA\, 31329\, United States
CATEGORIES:Administrative
ORGANIZER;CN="City of Springfield":MAILTO:jsmith@springfieldga.org
END:VEVENT
BEGIN:VEVENT
DTSTART;TZID=UTC:20250317T173000
DTEND;TZID=UTC:20250317T183000
DTSTAMP:20260422T104235
CREATED:20241114T182131Z
LAST-MODIFIED:20241114T182536Z
UID:10000616-1742232600-1742236200@springfieldga.org
SUMMARY:Meeting of the Downtown Development Authority of Springfield\, GA
DESCRIPTION:Regular Time: 5:30 pm  \nMonthly meeting of the Springfield Downtown Development Authority (DDA). \nAgenda or minutes can be requested by emailing ephillips@springfieldga.org \nThe DDA typically meets on the third Monday of each month. \nMeetings length will vary based on business discussion.
URL:https://springfieldga.org/event/meeting-of-the-downtown-development-authority-of-springfield-ga-2/2025-03-17/
LOCATION:City Hall\, 130 S. Laurel Street\, Springfield\, GA\, 31329\, United States
CATEGORIES:Administrative
ORGANIZER;CN="City of Springfield":MAILTO:jsmith@springfieldga.org
END:VEVENT
BEGIN:VEVENT
DTSTART;TZID=UTC:20250318T180000
DTEND;TZID=UTC:20250318T183000
DTSTAMP:20260422T104235
CREATED:20250214T205217Z
LAST-MODIFIED:20250214T205421Z
UID:10000683-1742320800-1742322600@springfieldga.org
SUMMARY:Annexation Public Hearings
DESCRIPTION:Public Notice \nThe City of Springfield Mayor and City Council and City of Springfield Planning and Zoning Board will hold public hearing on March 18\, 2025 beginning at 6:00pm. \nPublic hearings will be held to receive comments on the following items: \n1. Request for Annexation and Rezoning of the following parcels: \na. Parcel 389-7 located McCall Rd and GA Hwy 21 consisting of 24 acres\, more or less\, and currently zoned as Effingham County designation AR-1 with request for Springfield zoning designation of AR-1 and B-1. \nb. Parcel 344-3b01 located at Wilder Road and GA Hwy 119 consisting of 24 acres\, more or less\, and currently zoned as Effingham County designation AR-1 with request for Springfield zoning designation of R-2B. \nc. Parcel 344-3 located at 1030 Hwy 119 consisting of 10 acres\, more or less\, and currently zoned as Effingham County designation AR-1 with request for Springfield zoning designation of R-2B. \nAny interested parties are encouraged to attend the public hearings to speak for or against these items. Questions can be directed to the Zoning Office at Springfield City Hall by calling (912) 754-7617.\nAll public hearings and meetings will be held in the Springfield Council Room located at 130 S. Laurel Street (located between Springfield City Hall and Springfield Police Department).
URL:https://springfieldga.org/event/annexation-public-hearings/
LOCATION:City Hall\, 130 S. Laurel Street\, Springfield\, GA\, 31329\, United States
CATEGORIES:Administrative
ORGANIZER;CN="City of Springfield":MAILTO:jsmith@springfieldga.org
END:VEVENT
BEGIN:VEVENT
DTSTART;TZID=UTC:20250329T100000
DTEND;TZID=UTC:20250329T140000
DTSTAMP:20260422T104235
CREATED:20241120T164309Z
LAST-MODIFIED:20241120T191211Z
UID:10000674-1743242400-1743256800@springfieldga.org
SUMMARY:Effingham County School District Art Exhibit
DESCRIPTION:Effingham County School District Annual Art Exhibit & Festival \nMark your calendars for a colorful celebration of creativity on Saturday\, March 29\, 2025\, from 10:00 AM to 2:00 PM as we shine a spotlight on our amazing student artists for Youth Arts Month! Youth Art Month is an annual observance emphasizing the value of art and art education for all children and supporting quality school art programs.  \nThis isn’t just any art show—it’s a festival of creativity featuring stunning work from students in Kindergarten through Twelfth grade\, along with contributions from our fabulous faculty and staff. Get ready for a day filled with fun activities including: \n🖌️ Art Stops: Roll up your sleeves and make some art of your own to take home! \n📸 Photo Booths: Capture your artistic spirit with friends and family! \n🎨 Live Demonstrations: Watch local artists in action & learn some cool techniques! \n🚚 Food Trucks: Satisfy your taste buds with delicious bites while you explore! \nEvery visitor to the exhibit gets a FREE raffle ticket for exciting door prizes\, with extra tickets available for purchase to increase your chances of winning. All proceeds will support future Visual Arts programs in our community—because great artists deserve great support! \nJoin us at the Clarence E. Morgan Complex (1750 GA-21 S\, Springfield) for this vibrant festival celebrating our young talents and the power of art education. The event is FREE and open to the public! Want to get a sneak peek? Swing by March 25 to 28 from 3 – 7 PM for additional viewing hours! \nCome together to celebrate\, support\, and make art visible in Effingham County!  \nWe can’t wait to see you there! 🎨❤️ #effinghamartists #makeartvisible #YouthArtsMonth \nFor additional information contact: \nLindsey Gerow\,  \nOrganizer\, ECSD Art Exhibit \nArt Educator\, South Effingham High School              \nlgerow@effingham.k12.ga.us        
URL:https://springfieldga.org/event/effingham-county-school-district-art-exhibit/
LOCATION:Clarence E. Morgan Complex\, 1750 GA Hwy 21 S\, Springfield\, 31329
CATEGORIES:Community Events
ATTACH;FMTTYPE=image/png:https://springfieldga.org/wp-content/uploads/2024/11/Art-Show.png
END:VEVENT
BEGIN:VEVENT
DTSTART;TZID=UTC:20250331T180000
DTEND;TZID=UTC:20250331T181500
DTSTAMP:20260422T104235
CREATED:20241114T184014Z
LAST-MODIFIED:20250318T130538Z
UID:10000604-1743444000-1743444900@springfieldga.org
SUMMARY:Public Hearing of the Planning & Zoning Board
DESCRIPTION:Public Hearing Time: 6:00 pm  \nPublic Hearing to hear comments on: \n\nProposed Amendment to City of Springfield Ordinances to create Chapter 118 Development Regulations.\n\n  \n\nConditional Use Request to allow for continued use of mini-storage on B-1 Zoned property located at 1283 Hwy 21 S.\, known as parcel S115-21.\n\n  \n\nConditional Use Request to allow for addition of diesel pumps at Parkers Store #34 located at 1453 Hwy 21 S.\, known as Parcel S115-4 with Zoning of B-1.\n\n  \n\nSpecial Exemption Request from the requirements of the Zoning Ordinance to create a larger entrance from a public road than allowed at Parkers Store #34 located at 1453 Hwy 21 S.\, known as Parcel S115-4 with B-1 Zoning.\n\n  \nAny interested parties are encouraged to attend the public hearings to speak for or against these items. Questions can be directed to the Zoning Office at Springfield City Hall by calling (912) 754-7617. Written comments can be submitted to ephillips@Springfieldga.org. \nThe press and public are invited to attend. \nThe Public Hearing Policies and Procedures are adopted by ordinance and can be found in section 5.1.6.2 Policies and Procedures of the Zoning Ordinance of the City of Springfield. This section can be found here:  https://library.municode.com/ga/springfield/codes/code_of_ordinances?nodeId=PTIICOSPGE_APXAZOOR_ARTVPLZOPR_5.1ORPRPLZOBO \n 
URL:https://springfieldga.org/event/public-hearing-of-the-planning-zoning-board-5-2/
LOCATION:City Hall\, 130 S. Laurel Street\, Springfield\, GA\, 31329\, United States
CATEGORIES:Administrative
ORGANIZER;CN="City of Springfield":MAILTO:jsmith@springfieldga.org
END:VEVENT
BEGIN:VEVENT
DTSTART;TZID=UTC:20250331T180000
DTEND;TZID=UTC:20250331T190000
DTSTAMP:20260422T104235
CREATED:20241114T183807Z
LAST-MODIFIED:20250102T205216Z
UID:10000559-1743444000-1743447600@springfieldga.org
SUMMARY:Planning & Zoning Board Meeting
DESCRIPTION:Planning Board Meeting Time:  6:00 pm  \nMonthly meeting of the Springfield Planning and Zoning Board. Agenda or minutes can be found here: https://springfieldga.org/agenda-center/ \nThe Planning Board regularly meets on the Monday prior to the second Tuesday of each month. Meetings length will vary based on business discussion. \nThe press and public are invited to attend. \nAny interested parties are encouraged to attend the meetings. The public is encouraged to ask questions or seek clarification about agenda items prior to the meeting. Questions can be directed to the Zoning Office at Springfield City Hall by calling (912) 754-7617. Written comments can be submitted to ephillips@Springfieldga.org. \nThe Public Hearing Policies and Procedures are adopted by ordinance and can be found in section 5.1.6.2 Policies and Procedures of the Zoning Ordinance of the City of Springfield. This section can be found here:  https://library.municode.com/ga/springfield/codes/code_of_ordinances?nodeId=PTIICOSPGE_APXAZOOR_ARTVPLZOPR_5.1ORPRPLZOBO
URL:https://springfieldga.org/event/planning-zoning-board-meeting-4-2-2/
LOCATION:City Hall\, 130 S. Laurel Street\, Springfield\, GA\, 31329\, United States
CATEGORIES:Administrative
ORGANIZER;CN="City of Springfield":MAILTO:jsmith@springfieldga.org
END:VEVENT
END:VCALENDAR