BEGIN:VCALENDAR
VERSION:2.0
PRODID:-//The City of Springfield, Georgia - ECPv6.15.20//NONSGML v1.0//EN
CALSCALE:GREGORIAN
METHOD:PUBLISH
X-ORIGINAL-URL:https://springfieldga.org
X-WR-CALDESC:Events for The City of Springfield, Georgia
REFRESH-INTERVAL;VALUE=DURATION:PT1H
X-Robots-Tag:noindex
X-PUBLISHED-TTL:PT1H
BEGIN:VTIMEZONE
TZID:UTC
BEGIN:STANDARD
TZOFFSETFROM:+0000
TZOFFSETTO:+0000
TZNAME:UTC
DTSTART:20240101T000000
END:STANDARD
END:VTIMEZONE
BEGIN:VEVENT
DTSTART;TZID=UTC:20250408T180000
DTEND;TZID=UTC:20250408T181500
DTSTAMP:20260422T092254
CREATED:20250318T130726Z
LAST-MODIFIED:20250318T130726Z
UID:10000689-1744135200-1744136100@springfieldga.org
SUMMARY:Public Hearing of the Mayor and Council
DESCRIPTION:Public Hearing Time: 6:00 pm  \nPublic Hearing to hear comments on: \n\nProposed Amendment to City of Springfield Ordinances to create Chapter 118 Development Regulations.\n\n  \n\nConditional Use Request to allow for continued use of mini-storage on B-1 Zoned property located at 1283 Hwy 21 S.\, known as parcel S115-21.\n\n  \n\nConditional Use Request to allow for addition of diesel pumps at Parkers Store #34 located at 1453 Hwy 21 S.\, known as Parcel S115-4 with Zoning of B-1.\n\n  \n\nSpecial Exemption Request from the requirements of the Zoning Ordinance to create a larger entrance from a public road than allowed at Parkers Store #34 located at 1453 Hwy 21 S.\, known as Parcel S115-4 with B-1 Zoning.\n\n  \nAny interested parties are encouraged to attend the public hearings to speak for or against these items. Questions can be directed to the Zoning Office at Springfield City Hall by calling (912) 754-7617. Written comments can be submitted to JSmith@Springfieldga.org. \nThe press and public are invited to attend. \nThe Public Hearing Policies and Procedures are adopted by ordinance and can be found in section 5.1.6.2 Policies and Procedures of the Zoning Ordinance of the City of Springfield. This section can be found here:  https://library.municode.com/ga/springfield/codes/code_of_ordinances?nodeId=PTIICOSPGE_APXAZOOR_ARTVPLZOPR_5.1ORPRPLZOBO \n 
URL:https://springfieldga.org/event/public-hearing-of-the-mayor-and-council-4/
LOCATION:City Hall\, 130 S. Laurel Street\, Springfield\, GA\, 31329\, United States
CATEGORIES:Administrative
ORGANIZER;CN="City of Springfield":MAILTO:jsmith@springfieldga.org
END:VEVENT
BEGIN:VEVENT
DTSTART;TZID=UTC:20250408T180000
DTEND;TZID=UTC:20250408T200000
DTSTAMP:20260422T092254
CREATED:20240306T170041Z
LAST-MODIFIED:20240523T173512Z
UID:10000391-1744135200-1744142400@springfieldga.org
SUMMARY:City Council Meeting
DESCRIPTION:Monthly meeting of the Mayor and City Council. \nPlease visit the Agenda Center for current agendas. Minutes  from past meetings can be requested by emailing jsmith@springfieldga.org \nCity Council regularly meets on the second Tuesday of each month.
URL:https://springfieldga.org/event/city-council-meeting-3/2025-04-08/
LOCATION:City Hall\, 130 S. Laurel Street\, Springfield\, GA\, 31329\, United States
CATEGORIES:Administrative
ORGANIZER;CN="City of Springfield":MAILTO:jsmith@springfieldga.org
END:VEVENT
BEGIN:VEVENT
DTSTART;TZID=UTC:20250419T100000
DTEND;TZID=UTC:20250419T170000
DTSTAMP:20260422T092254
CREATED:20250325T190439Z
LAST-MODIFIED:20250325T190533Z
UID:10000690-1745056800-1745082000@springfieldga.org
SUMMARY:Olde Effingham Day
DESCRIPTION:OLDE EFFINGHAM DAY\nSaturday\, April 19th\n10 a.m. til 5 p.m.\n\n\nSpringfield Old Jail Museum
URL:https://springfieldga.org/event/olde-effingham-day/
LOCATION:Effingham Living History Site\, 1002 N. Pine Street\, Springfield\, GA\, 31329\, United States
CATEGORIES:Community Events,Vendor Event
ATTACH;FMTTYPE=image/jpeg:https://springfieldga.org/wp-content/uploads/2024/03/Olde-Effingham-Day.jpg
END:VEVENT
BEGIN:VEVENT
DTSTART;TZID=UTC:20250421T173000
DTEND;TZID=UTC:20250421T183000
DTSTAMP:20260422T092254
CREATED:20241114T182131Z
LAST-MODIFIED:20241114T182536Z
UID:10000617-1745256600-1745260200@springfieldga.org
SUMMARY:Meeting of the Downtown Development Authority of Springfield\, GA
DESCRIPTION:Regular Time: 5:30 pm  \nMonthly meeting of the Springfield Downtown Development Authority (DDA). \nAgenda or minutes can be requested by emailing ephillips@springfieldga.org \nThe DDA typically meets on the third Monday of each month. \nMeetings length will vary based on business discussion.
URL:https://springfieldga.org/event/meeting-of-the-downtown-development-authority-of-springfield-ga-2/2025-04-21/
LOCATION:City Hall\, 130 S. Laurel Street\, Springfield\, GA\, 31329\, United States
CATEGORIES:Administrative
ORGANIZER;CN="City of Springfield":MAILTO:jsmith@springfieldga.org
END:VEVENT
BEGIN:VEVENT
DTSTART;TZID=UTC:20250425T190000
DTEND;TZID=UTC:20250425T220000
DTSTAMP:20260422T092254
CREATED:20250402T192708Z
LAST-MODIFIED:20250402T201645Z
UID:10000697-1745607600-1745618400@springfieldga.org
SUMMARY:9 to 5: The Musical
DESCRIPTION:9 to 5: The Musical \nCome join us for a spectacular evening at the Mars Theatre as we present 9 to 5: The Musical live on stage! Get ready to be entertained by talented performers bringing this classic story to life through music and dance. This in-person event promises to be a night full of laughter\, drama\, and unforgettable performances. Don’t miss out on this opportunity to experience the magic of 9 to 5: The Musical in person at the Mars Theatre! \n 
URL:https://springfieldga.org/event/9-to-5-the-musical/
LOCATION:Mars Theatre\, 106 S Laurel St\, Springfield\, GA\, 31329\, United States
CATEGORIES:Community Events
ATTACH;FMTTYPE=image/jpeg:https://springfieldga.org/wp-content/uploads/2025/04/facebook-ad-tickets.jpg
END:VEVENT
END:VCALENDAR