BEGIN:VCALENDAR
VERSION:2.0
PRODID:-//The City of Springfield, Georgia - ECPv6.15.20//NONSGML v1.0//EN
CALSCALE:GREGORIAN
METHOD:PUBLISH
X-ORIGINAL-URL:https://springfieldga.org
X-WR-CALDESC:Events for The City of Springfield, Georgia
REFRESH-INTERVAL;VALUE=DURATION:PT1H
X-Robots-Tag:noindex
X-PUBLISHED-TTL:PT1H
BEGIN:VTIMEZONE
TZID:UTC
BEGIN:STANDARD
TZOFFSETFROM:+0000
TZOFFSETTO:+0000
TZNAME:UTC
DTSTART:20240101T000000
END:STANDARD
END:VTIMEZONE
BEGIN:VEVENT
DTSTART;TZID=UTC:20250502T050000
DTEND;TZID=UTC:20250502T210000
DTSTAMP:20260422T075424
CREATED:20250317T162935Z
LAST-MODIFIED:20250429T151745Z
UID:10000684-1746162000-1746219600@springfieldga.org
SUMMARY:May First Friday
DESCRIPTION:First Friday Kick Off!\n			\n				\n				\n				\n				\n				Food Trucks: \n			\n			\n				\n				\n				\n				\n			\n				\n				\n				\n				\n				\n				\n				\n				\n				\n				\n				\n					\n					\n						The Big Cheese\n						Gourmet grilled cheese sandwhiches and deserts. \n					\n				\n			\n			\n				\n				\n				\n				\n				\n				\n				\n				\n				\n				\n					\n					\n						Frencheese \n						Burgers\,  Pulled Pork\, BBQ Chicken\, Fried Chicken\, Philly Cheesesteak\, Sausage Dogs.  \n					\n				\n			\n			\n				\n				\n				\n				\n				\n				\n				\n				\n				\n				\n					\n					\n						Starship Icecream\n						Hand made Ice Cream in Custom Flavors!  \n  \n					\n				\n			\n			\n				\n				\n				\n				\n				\n				\n				\n				\n				\n				\n					\n					\n						Molly MacPherson's Scottish Pub's Food Truck\n						Scottish and American Food. \n					\n				\n			\n			\n				\n				\n				\n				\n			\n				\n				\n				\n				\n				\n				\n				\n				\n				\n				\n				Activities: \n			\n			\n				\n				\n				\n				\n			\n				\n				\n				\n				\n				\n				\n				\n				\n				\n				\n				\n					\n					\n						Yard Games\n						Yard games in the Food Truck Lot. Cornhole\, Giant Jenga\, Ladder Ball\, and Connect Four. Kids of all ages welcome to play!  \n					\n				\n			\n			\n				\n				\n				\n				\n				\n				\n				\n				\n				\n				\n					\n					\n						Vendor Market\n						Vendor Market will be set up along First Street. To sign up to be a vendor\, please contact City Hall.  \n					\n				\n			\n			\n				\n				\n				\n				\n				\n				\n				\n				\n				\n				\n					\n					\n						Scavenger Hunt\n						Learn more about the Ga Hi Lo Trail and visit the downtown businesses and venues with with our monthly scavenger hunt. More details to come! \n					\n				\n			\n			\n				\n				\n				\n				\n			\n				\n				\n				\n				\n				\n				\n				\n				\n				\n				\n				\n			\n				\n				\n				\n				\n				Happening at the Mars Theatre:  \n			\n			\n				\n				\n				\n				\n			\n				\n				\n				\n				\n				\n				\n				\n				\n				\n				\n				\n					\n					\n						Documentary: Searching Hi & Lo\n						Watch a documentary on the GA Hi Lo Trail and get updates on the progress and purpose this amazing upcoming project. Showtimes are 6:00\, 6:30\, and 7:00pm \n					\n				\n			\n			\n				\n				\n				\n				\n				\n				\n				\n				\n				\n				\n					\n					\n						Movie: Thunderbolts\n						Ensnared in a death trap\, an unconventional team of antiheroes embarks on a dangerous mission that forces them to confront the darkest corners of their pasts. Showtime is 7:30pm. \n					\n				\n			\n			\n				\n				\n				\n				\n			\n				\n				\n				\n				\n				\n				\n				\n				\n				\n				\n				Join us for the rest of our First Fridays of 2025. Dates are listed below and more information is available on the City Calendar. 
URL:https://springfieldga.org/event/may-first-friday/
LOCATION:City Hall\, 130 S. Laurel Street\, Springfield\, GA\, 31329\, United States
CATEGORIES:Community Events
ATTACH;FMTTYPE=image/jpeg:https://springfieldga.org/wp-content/uploads/2025/03/2025-Dates-01-1-scaled.jpg
ORGANIZER;CN="City of Springfield":MAILTO:jsmith@springfieldga.org
END:VEVENT
BEGIN:VEVENT
DTSTART;TZID=UTC:20250503T080000
DTEND;TZID=UTC:20250503T120000
DTSTAMP:20260422T075424
CREATED:20250325T191754Z
LAST-MODIFIED:20250325T191754Z
UID:10000692-1746259200-1746273600@springfieldga.org
SUMMARY:Revolution on the Run
DESCRIPTION:We had so much fun participating in the Savannah Bridge Run with our members! We decided to bring the fun a little closer to home! On May 3\, 2025\, Revolution Cycle & Fitness is stepping out of the studio to bring you a fun-filled morning of activity! Run\, walk or ruck your way around Downtown Springfield in our 1st Annual Revolution on the Run 10K\, 5K\, and Kid’s Fun Run. All 5k & 10k participants will receive a Revolution branded sweat towel! \nAfter the race\, be sure to join us for the after party! Celebrate your achievements with a post race stretch led by Revolution instructors\, shop local vendors\, and check out Springfield’s dining and shopping options! \nA HUGE Thank You to our Title Sponsors: \nBen Williams Insurance\nEffingham Martial Arts\nEffingham Combat Academy \nA portion of the proceeds from Revolution on the Run will benefit the Effingham Backpack Buddies program! \nCheckout our Facebook event for more details! Registration is open! Bring the whole family and help us make our first annual Revolution on the Run event a huge success! \nRegister Online: https://runsignup.com/race/GA/Springfield/RevolutionOnTheRun
URL:https://springfieldga.org/event/revolution-on-the-run/
LOCATION:Ulmer Ball Park\, 503 N. Oak Street\, Springfield\, Georgia\, 31329
CATEGORIES:Athletic,Community Events
ORGANIZER;CN="Revolution Cycle & Fitness":MAILTO:Revolutioncycleandfitness@gmail.com
END:VEVENT
BEGIN:VEVENT
DTSTART;TZID=UTC:20250505T180000
DTEND;TZID=UTC:20250505T181500
DTSTAMP:20260422T075424
CREATED:20250407T124518Z
LAST-MODIFIED:20250407T124522Z
UID:10000605-1746468000-1746468900@springfieldga.org
SUMMARY:Public Hearing of the Planning & Zoning Board
DESCRIPTION:Public Hearing Time: 6:00 pm  \nPublic Hearing to hear comments on: \n\nProposed Amendment to City of Springfield Zoning Ordinance\, Article IV General Provisions proposing changes to Section 4.30 Nuisances and Section 4.39 Performance Standards.  \n\nAny interested parties are encouraged to attend the public hearings to speak for or against these items. Questions can be directed to the Zoning Office at Springfield City Hall by calling (912) 754-7617. Written comments can be submitted to ephillips@Springfieldga.org. \nThe press and public are invited to attend. \nThe Public Hearing Policies and Procedures are adopted by ordinance and can be found in section 5.1.6.2 Policies and Procedures of the Zoning Ordinance of the City of Springfield. This section can be found here:  https://library.municode.com/ga/springfield/codes/code_of_ordinances?nodeId=PTIICOSPGE_APXAZOOR_ARTVPLZOPR_5.1ORPRPLZOBO \n 
URL:https://springfieldga.org/event/public-hearing-of-the-planning-zoning-board-5-8/
LOCATION:City Hall\, 130 S. Laurel Street\, Springfield\, GA\, 31329\, United States
CATEGORIES:Administrative
ORGANIZER;CN="City of Springfield":MAILTO:jsmith@springfieldga.org
END:VEVENT
BEGIN:VEVENT
DTSTART;TZID=UTC:20250505T180000
DTEND;TZID=UTC:20250505T190000
DTSTAMP:20260422T075424
CREATED:20241114T191051Z
LAST-MODIFIED:20250102T205322Z
UID:10000640-1746468000-1746471600@springfieldga.org
SUMMARY:Planning & Zoning Board Meeting
DESCRIPTION:Planning Board Meeting Time:  6:00 pm  \nMonthly meeting of the Springfield Planning and Zoning Board. Agenda or minutes can be found here: https://springfieldga.org/agenda-center/ \nThe Planning Board regularly meets on the Monday prior to the second Tuesday of each month. Meetings length will vary based on business discussion. \nThe press and public are invited to attend. \nAny interested parties are encouraged to attend the meetings. The public is encouraged to ask questions or seek clarification about agenda items prior to the meeting. Questions can be directed to the Zoning Office at Springfield City Hall by calling (912) 754-7617. Written comments can be submitted to ephillips@Springfieldga.org. \nThe Public Hearing Policies and Procedures are adopted by ordinance and can be found in section 5.1.6.2 Policies and Procedures of the Zoning Ordinance of the City of Springfield. This section can be found here:  https://library.municode.com/ga/springfield/codes/code_of_ordinances?nodeId=PTIICOSPGE_APXAZOOR_ARTVPLZOPR_5.1ORPRPLZOBO
URL:https://springfieldga.org/event/planning-zoning-board-meeting-5/2025-05-05/
LOCATION:City Hall\, 130 S. Laurel Street\, Springfield\, GA\, 31329\, United States
CATEGORIES:Administrative
ORGANIZER;CN="City of Springfield":MAILTO:jsmith@springfieldga.org
END:VEVENT
BEGIN:VEVENT
DTSTART;TZID=UTC:20250513T180000
DTEND;TZID=UTC:20250513T181500
DTSTAMP:20260422T075424
CREATED:20250407T124614Z
LAST-MODIFIED:20250407T124614Z
UID:10000698-1747159200-1747160100@springfieldga.org
SUMMARY:Public Hearing of the Mayor & Council
DESCRIPTION:Public Hearing Time: 6:00 pm  \nPublic Hearing to hear comments on: \n\nProposed Amendment to City of Springfield Zoning Ordinance\, Article IV General Provisions proposing changes to Section 4.30 Nuisances and Section 4.39 Performance Standards.  \n\nAny interested parties are encouraged to attend the public hearings to speak for or against these items. Questions can be directed to the Zoning Office at Springfield City Hall by calling (912) 754-7617. Written comments can be submitted to jsmith@Springfieldga.org. \nThe press and public are invited to attend. \nThe Public Hearing Policies and Procedures are adopted by ordinance and can be found in section 5.1.6.2 Policies and Procedures of the Zoning Ordinance of the City of Springfield. This section can be found here:  https://library.municode.com/ga/springfield/codes/code_of_ordinances?nodeId=PTIICOSPGE_APXAZOOR_ARTVPLZOPR_5.1ORPRPLZOBO \n 
URL:https://springfieldga.org/event/public-hearing-of-the-mayor-council-2/
LOCATION:City Hall\, 130 S. Laurel Street\, Springfield\, GA\, 31329\, United States
CATEGORIES:Administrative
ORGANIZER;CN="City of Springfield":MAILTO:jsmith@springfieldga.org
END:VEVENT
BEGIN:VEVENT
DTSTART;TZID=UTC:20250513T180000
DTEND;TZID=UTC:20250513T200000
DTSTAMP:20260422T075424
CREATED:20240306T170041Z
LAST-MODIFIED:20240523T173512Z
UID:10000392-1747159200-1747166400@springfieldga.org
SUMMARY:City Council Meeting
DESCRIPTION:Monthly meeting of the Mayor and City Council. \nPlease visit the Agenda Center for current agendas. Minutes  from past meetings can be requested by emailing jsmith@springfieldga.org \nCity Council regularly meets on the second Tuesday of each month.
URL:https://springfieldga.org/event/city-council-meeting-3/2025-05-13/
LOCATION:City Hall\, 130 S. Laurel Street\, Springfield\, GA\, 31329\, United States
CATEGORIES:Administrative
ORGANIZER;CN="City of Springfield":MAILTO:jsmith@springfieldga.org
END:VEVENT
BEGIN:VEVENT
DTSTART;TZID=UTC:20250516T080000
DTEND;TZID=UTC:20250516T083000
DTSTAMP:20260422T075424
CREATED:20250325T192501Z
LAST-MODIFIED:20250325T192501Z
UID:10000693-1747382400-1747384200@springfieldga.org
SUMMARY:Honor Flight Send Off
DESCRIPTION:Help us celebrate our veterans as the depart on their journey to Washington DC to visit the memorials placed there in their honor. The honor flight bus will leave the Springfield Armory and travel south down Laurel Street toward Highway 21. Please come out to wave and cheer as they pass through downtown.
URL:https://springfieldga.org/event/honor-flight-send-off-2/
LOCATION:City Hall\, 130 S. Laurel Street\, Springfield\, GA\, 31329\, United States
CATEGORIES:Community Events
ATTACH;FMTTYPE=image/jpeg:https://springfieldga.org/wp-content/uploads/2025/03/Patriotic-Rounds-scaled.jpeg
ORGANIZER;CN="City of Springfield":MAILTO:jsmith@springfieldga.org
END:VEVENT
BEGIN:VEVENT
DTSTART;TZID=UTC:20250516T084500
DTEND;TZID=UTC:20250516T093000
DTSTAMP:20260422T075424
CREATED:20250325T192815Z
LAST-MODIFIED:20250325T192815Z
UID:10000694-1747385100-1747387800@springfieldga.org
SUMMARY:Senior Class Parade
DESCRIPTION:The Annual Senior Parade through Downtown Springfield will be on May16th!\nCome out and cheer on our graduates!
URL:https://springfieldga.org/event/senior-class-parade/
LOCATION:Laurel Street\, 130 S. Laurel Street\, Springfield\, GA\, 31329\, United States
CATEGORIES:Community Events
END:VEVENT
BEGIN:VEVENT
DTSTART;TZID=UTC:20250517T080000
DTEND;TZID=UTC:20250517T120000
DTSTAMP:20260422T075424
CREATED:20250325T190909Z
LAST-MODIFIED:20250325T190909Z
UID:10000691-1747468800-1747483200@springfieldga.org
SUMMARY:Springfield Century Ride
DESCRIPTION:Register online today: https://www.active.com/springfield-ga/running/distance-running-races/springfield-century-ride-2025 \n 
URL:https://springfieldga.org/event/springfield-century-ride-3/
LOCATION:Second Street Parking Lot\, 200 S. Laurel Street\, Springfield\, 31329\, United States
CATEGORIES:Athletic,Community Events,Vendor Event
ATTACH;FMTTYPE=image/png:https://springfieldga.org/wp-content/uploads/2025/03/Attention-all-cyclists-1920-x-1080-px.png
ORGANIZER;CN="Downtown Development Authority":MAILTO:ephillips@springfieldga.org
END:VEVENT
BEGIN:VEVENT
DTSTART;TZID=UTC:20250517T090000
DTEND;TZID=UTC:20250517T110000
DTSTAMP:20260422T075424
CREATED:20250402T163254Z
LAST-MODIFIED:20250402T163254Z
UID:10000696-1747472400-1747479600@springfieldga.org
SUMMARY:Springfield Slow Ride
DESCRIPTION:
URL:https://springfieldga.org/event/springfield-slow-ride/
LOCATION:Second Street Parking Lot\, 200 S. Laurel Street\, Springfield\, 31329\, United States
CATEGORIES:Athletic,Community Events
ATTACH;FMTTYPE=image/png:https://springfieldga.org/wp-content/uploads/2025/04/KBL-Springfield-slow-ride.png
ORGANIZER;CN="Kids Bike League":MAILTO:alden@georgiahilo.org
END:VEVENT
BEGIN:VEVENT
DTSTART;TZID=UTC:20250517T120000
DTEND;TZID=UTC:20250517T160000
DTSTAMP:20260422T075424
CREATED:20250429T174139Z
LAST-MODIFIED:20250429T174724Z
UID:10000700-1747483200-1747497600@springfieldga.org
SUMMARY:Turkey Shoot at American Legion Post 209
DESCRIPTION:American Legion Post 209 is hosting another Turkey Shoot on site. The cost is $5 dollars per shot with cash prizes. The start time is at noon. Come on out and join us for fun and fellowship. Please share this with your friends and family. Proceeds from this event will be used to improve our aging facility as well as local veterans in need.
URL:https://springfieldga.org/event/turkey-shoot-at-american-legion-post-209/
LOCATION:American Legion Post 209\, 941 S Laurel St\, Springfield\, GA\, 31329\, United States
CATEGORIES:Community Events
ATTACH;FMTTYPE=image/jpeg:https://springfieldga.org/wp-content/uploads/2025/04/486810585_968479135458434_8300741726970969095_n.jpg
ORGANIZER;CN="American Legion Post 209":MAILTO:adjutant209@gmail.com
END:VEVENT
BEGIN:VEVENT
DTSTART;TZID=UTC:20250519T173000
DTEND;TZID=UTC:20250519T183000
DTSTAMP:20260422T075424
CREATED:20241114T182131Z
LAST-MODIFIED:20241114T182536Z
UID:10000618-1747675800-1747679400@springfieldga.org
SUMMARY:Meeting of the Downtown Development Authority of Springfield\, GA
DESCRIPTION:Regular Time: 5:30 pm  \nMonthly meeting of the Springfield Downtown Development Authority (DDA). \nAgenda or minutes can be requested by emailing ephillips@springfieldga.org \nThe DDA typically meets on the third Monday of each month. \nMeetings length will vary based on business discussion.
URL:https://springfieldga.org/event/meeting-of-the-downtown-development-authority-of-springfield-ga-2/2025-05-19/
LOCATION:City Hall\, 130 S. Laurel Street\, Springfield\, GA\, 31329\, United States
CATEGORIES:Administrative
ORGANIZER;CN="City of Springfield":MAILTO:jsmith@springfieldga.org
END:VEVENT
BEGIN:VEVENT
DTSTART;TZID=UTC:20250527T180000
DTEND;TZID=UTC:20250527T200000
DTSTAMP:20260422T075424
CREATED:20250520T200117Z
LAST-MODIFIED:20250520T200117Z
UID:10000704-1748368800-1748376000@springfieldga.org
SUMMARY:Council Workshop
DESCRIPTION:The City of Springfield Mayor and Council along with the Planning and Zoning Board will hold a workshop on May 27\, 2025 at 6:00 p.m. \nWorkshop items to be discussed: \n\nCapital Improvement Element Plan Development\nMiscellaneous Items\n\n  \nIt is the policy of the City of Springfield that all City-sponsored public meetings and events are accessible to people with disabilities. If you need assistance in participating in this meeting or event due to a disability as defined under the ADA\, please call the City’s ADA Coordinator\, Jennifer Smith\, at (912) 754-7617 or e-mail jsmith@springfieldga.org at least three (3) business days prior to the scheduled meeting or event to request an accommodation.
URL:https://springfieldga.org/event/council-workshop-3/
LOCATION:City Hall\, 130 S. Laurel Street\, Springfield\, GA\, 31329\, United States
CATEGORIES:Administrative
ORGANIZER;CN="City of Springfield":MAILTO:jsmith@springfieldga.org
END:VEVENT
END:VCALENDAR