BEGIN:VCALENDAR
VERSION:2.0
PRODID:-//The City of Springfield, Georgia - ECPv6.15.20//NONSGML v1.0//EN
CALSCALE:GREGORIAN
METHOD:PUBLISH
X-WR-CALNAME:The City of Springfield, Georgia
X-ORIGINAL-URL:https://springfieldga.org
X-WR-CALDESC:Events for The City of Springfield, Georgia
REFRESH-INTERVAL;VALUE=DURATION:PT1H
X-Robots-Tag:noindex
X-PUBLISHED-TTL:PT1H
BEGIN:VTIMEZONE
TZID:UTC
BEGIN:STANDARD
TZOFFSETFROM:+0000
TZOFFSETTO:+0000
TZNAME:UTC
DTSTART:20240101T000000
END:STANDARD
END:VTIMEZONE
BEGIN:VEVENT
DTSTART;TZID=UTC:20251201T180000
DTEND;TZID=UTC:20251201T181500
DTSTAMP:20260421T193916
CREATED:20251103T152329Z
LAST-MODIFIED:20251103T152354Z
UID:10000612-1764612000-1764612900@springfieldga.org
SUMMARY:Public Hearing of the Planning & Zoning Board
DESCRIPTION:Public Hearing Time: 6:00 pm  \nPublic Hearing to hear comments on: \n\nRequest for Conditional Use for a Restaurant at DT Zoned property located at 122 N. Laurel Street. (Parcel S102-36).\nProposed Amendment to Zoning Ordinance regarding Window Signage regulations.\n\nAny interested parties are encouraged to attend the public hearings to speak for or against these items. Questions can be directed to the Zoning Office at Springfield City Hall by calling (912) 754-7617. Written comments can be submitted to ephillips@Springfieldga.org. \nThe press and public are invited to attend. \nThe Public Hearing Policies and Procedures are adopted by ordinance and can be found in section 5.1.6.2 Policies and Procedures of the Zoning Ordinance of the City of Springfield. This section can be found here:  https://library.municode.com/ga/springfield/codes/code_of_ordinances?nodeId=PTIICOSPGE_APXAZOOR_ARTVPLZOPR_5.1ORPRPLZOBO
URL:https://springfieldga.org/event/public-hearing-of-the-planning-zoning-board-5-13/
LOCATION:City Hall\, 130 S. Laurel Street\, Springfield\, GA\, 31329\, United States
CATEGORIES:Administrative
ORGANIZER;CN="City of Springfield":MAILTO:jsmith@springfieldga.org
END:VEVENT
BEGIN:VEVENT
DTSTART;TZID=UTC:20251201T180000
DTEND;TZID=UTC:20251201T190000
DTSTAMP:20260421T193916
CREATED:20241114T192509Z
LAST-MODIFIED:20260107T134330Z
UID:10000659-1764612000-1764615600@springfieldga.org
SUMMARY:Planning & Zoning Board Meeting
DESCRIPTION:Planning Board Meeting Time:  6:00 pm  \nMonthly meeting of the Springfield Planning and Zoning Board. Agenda or minutes can be found here: https://springfieldga.org/agenda-center/ \nThe Planning Board regularly meets on the Monday prior to the second Tuesday of each month. Meetings length will vary based on business discussion. \nThe press and public are invited to attend. \nAny interested parties are encouraged to attend the meetings. The public is encouraged to ask questions or seek clarification about agenda items prior to the meeting. Questions can be directed to the Zoning Office at Springfield City Hall by calling (912) 754-7617. Written comments can be submitted to ephillips@Springfieldga.org. \nThe Public Hearing Policies and Procedures are adopted by ordinance and can be found in section 5.1.6.2 Policies and Procedures of the Zoning Ordinance of the City of Springfield. This section can be found here:  https://library.municode.com/ga/springfield/codes/code_of_ordinances?nodeId=PTIICOSPGE_APXAZOOR_ARTVPLZOPR_5.1ORPRPLZOBO
URL:https://springfieldga.org/event/planning-zoning-board-meeting-7/2025-12-01/
LOCATION:City Hall\, 130 S. Laurel Street\, Springfield\, GA\, 31329\, United States
CATEGORIES:Administrative
ORGANIZER;CN="City of Springfield":MAILTO:jsmith@springfieldga.org
END:VEVENT
BEGIN:VEVENT
DTSTART;TZID=UTC:20251205T173000
DTEND;TZID=UTC:20251205T183000
DTSTAMP:20260421T193916
CREATED:20251014T174621Z
LAST-MODIFIED:20251202T152630Z
UID:10000753-1764955800-1764959400@springfieldga.org
SUMMARY:Springfield Tree Lighting
DESCRIPTION:Schedule of Events: \n5:30Free Hot Chocolate and Cookies provided by the Springfield Downtown Development Authority!Performance by the Springfield Elementary Dance Club \n6:00Santa will arrive to light the Christmas Tree! \nChildren’s Crafts from 5:00 to 7:00 provided Effingham Artists. \nStop by the Mars Theatre for a special Holiday Edition Popcorn starting at 5:30 and movie starting at 7pm. \nCheck back for more updates!
URL:https://springfieldga.org/event/springfield-tree-lighting/
LOCATION:Second Street Parking Lot\, 200 S. Laurel Street\, Springfield\, 31329\, United States
CATEGORIES:Community Events
ATTACH;FMTTYPE=image/png:https://springfieldga.org/wp-content/uploads/2025/10/Tree-lighting-ads-2025-01-scaled.png
ORGANIZER;CN="City of Springfield":MAILTO:jsmith@springfieldga.org
END:VEVENT
BEGIN:VEVENT
DTSTART;TZID=UTC:20251206T190000
DTEND;TZID=UTC:20251206T210000
DTSTAMP:20260421T193916
CREATED:20251118T135746Z
LAST-MODIFIED:20251118T135746Z
UID:10000762-1765047600-1765054800@springfieldga.org
SUMMARY:Hard Candy Christmas
DESCRIPTION:
URL:https://springfieldga.org/event/hard-candy-christmas/
LOCATION:Mars Theatre\, 106 S Laurel St\, Springfield\, GA\, 31329\, United States
CATEGORIES:Community Events
ATTACH;FMTTYPE=image/png:https://springfieldga.org/wp-content/uploads/2025/11/andy-mandy-hard-candy-scaled.png
ORGANIZER;CN="Mars Theatre":MAILTO:info@marstheatre.com
END:VEVENT
BEGIN:VEVENT
DTSTART;TZID=UTC:20251209T180000
DTEND;TZID=UTC:20251209T181500
DTSTAMP:20260421T193916
CREATED:20251103T152434Z
LAST-MODIFIED:20251126T191205Z
UID:10000759-1765303200-1765304100@springfieldga.org
SUMMARY:Public Hearing of the Mayor & Council
DESCRIPTION:Public Hearing Time: 6:00 pm  \nPublic Hearing to hear comments on: \n\nRequest for Conditional Use for a Restaurant at DT Zoned property located at 122 N. Laurel Street. (Parcel S102-36).\nProposed Amendment to Zoning Ordinance regarding Window Signage regulations.\nThe City of Springfield’s intent to add a Capital Improvement Element to the Comprehensive Plan.\n\nAny interested parties are encouraged to attend the public hearings to speak for or against these items. Questions can be directed to the Zoning Office at Springfield City Hall by calling (912) 754-7617. Written comments can be submitted to ephillips@Springfieldga.org. \nThe press and public are invited to attend. \nThe Public Hearing Policies and Procedures are adopted by ordinance and can be found in section 5.1.6.2 Policies and Procedures of the Zoning Ordinance of the City of Springfield. This section can be found here:  https://library.municode.com/ga/springfield/codes/code_of_ordinances?nodeId=PTIICOSPGE_APXAZOOR_ARTVPLZOPR_5.1ORPRPLZOBO
URL:https://springfieldga.org/event/public-hearing-of-the-mayor-council/
LOCATION:City Hall\, 130 S. Laurel Street\, Springfield\, GA\, 31329\, United States
CATEGORIES:Administrative
ORGANIZER;CN="City of Springfield":MAILTO:jsmith@springfieldga.org
END:VEVENT
BEGIN:VEVENT
DTSTART;TZID=UTC:20251209T180000
DTEND;TZID=UTC:20251209T200000
DTSTAMP:20260421T193916
CREATED:20240306T170041Z
LAST-MODIFIED:20240523T173512Z
UID:10000399-1765303200-1765310400@springfieldga.org
SUMMARY:City Council Meeting
DESCRIPTION:Monthly meeting of the Mayor and City Council. \nPlease visit the Agenda Center for current agendas. Minutes  from past meetings can be requested by emailing jsmith@springfieldga.org \nCity Council regularly meets on the second Tuesday of each month.
URL:https://springfieldga.org/event/city-council-meeting-3/2025-12-09/
LOCATION:City Hall\, 130 S. Laurel Street\, Springfield\, GA\, 31329\, United States
CATEGORIES:Administrative
ORGANIZER;CN="City of Springfield":MAILTO:jsmith@springfieldga.org
END:VEVENT
BEGIN:VEVENT
DTSTART;TZID=UTC:20251212T190000
DTEND;TZID=UTC:20251212T213000
DTSTAMP:20260421T193916
CREATED:20251118T135942Z
LAST-MODIFIED:20251118T135942Z
UID:10000763-1765566000-1765575000@springfieldga.org
SUMMARY:The Sugar Plums
DESCRIPTION:
URL:https://springfieldga.org/event/the-sugar-plums/
LOCATION:Mars Theatre\, 106 S Laurel St\, Springfield\, GA\, 31329\, United States
CATEGORIES:Community Events
ATTACH;FMTTYPE=image/png:https://springfieldga.org/wp-content/uploads/2025/11/sugar-plums-mars-scaled.png
ORGANIZER;CN="Mars Theatre":MAILTO:info@marstheatre.com
END:VEVENT
BEGIN:VEVENT
DTSTART;TZID=UTC:20251213T180000
DTEND;TZID=UTC:20251213T200000
DTSTAMP:20260421T193916
CREATED:20251022T172554Z
LAST-MODIFIED:20251022T172554Z
UID:10000758-1765648800-1765656000@springfieldga.org
SUMMARY:Winter Dreams\, Sleigh Bells and Symphonies
DESCRIPTION:
URL:https://springfieldga.org/event/winter-dreams-sleigh-bells-and-symphonies/
LOCATION:City Hall\, 130 S. Laurel Street\, Springfield\, GA\, 31329\, United States
CATEGORIES:Community Events
ATTACH;FMTTYPE=image/png:https://springfieldga.org/wp-content/uploads/2025/10/Effingham-Community-Orchestra.png
ORGANIZER;CN="Mars Theatre":MAILTO:info@marstheatre.com
END:VEVENT
BEGIN:VEVENT
DTSTART;VALUE=DATE:20251220
DTEND;VALUE=DATE:20251221
DTSTAMP:20260421T193916
CREATED:20251118T153137Z
LAST-MODIFIED:20251118T153137Z
UID:10000764-1766188800-1766275199@springfieldga.org
SUMMARY:Effingham County Christmas Bird Count
DESCRIPTION:Come help your community and the Audubon Society record the birds calling Effingham County their winter retreat. Join one of the teams driving around the public parks and ponds of Guyton\, Rincon\, and Springfield to see how many different species we can spot. \n🐦All ages and birdwatching skill levels welcome. It’s a great family event to learn more about local wildlife.\n🐦Scouts can earn badges and students can earn volunteer hours for participating. \nTo sign up or ask questions contact John Cassell (jcassell@effingham.k12.ga.us) \nChristmas_Bird_Count_Poster (2025)
URL:https://springfieldga.org/event/effingham-county-christmas-bird-count/
LOCATION:GA
CATEGORIES:Community Events
ATTACH;FMTTYPE=application/pdf:https://springfieldga.org/wp-content/uploads/2025/11/Christmas_Bird_Count_Poster-2025-1.pdf
END:VEVENT
BEGIN:VEVENT
DTSTART;TZID=UTC:20251220T180000
DTEND;TZID=UTC:20251220T180000
DTSTAMP:20260421T193916
CREATED:20251014T175232Z
LAST-MODIFIED:20251014T175232Z
UID:10000755-1766253600-1766253600@springfieldga.org
SUMMARY:Effingham Navigators Lighted Christmas Parade
DESCRIPTION:Effingham’s first Navigator Lighted Christmas Parade\n Springfield Ga on Dec 20 at 6 pm\nFree Entry for all.\n			\n				\n				\n				\n				\n				  \n\nParade will begin at the Board of Education at the corner of Ash Street and Madison Street and will continue along residential city streets in the following order.\n\nParade will begin at Madison Street headed South on Ash Street\nRight turn on Old Stilwell Rd\nRight turn onto Madison Street\nParade Ends at Ash Street. \n\nPlease avoid parking on private property as the parade route will be along city streets facing private homes. Public places to watch the parade include:\n\nSecond Street Parking lot\, Ash Street sidewalk\, Springfield Oaks Parking lot\, Ulmer Park Parking lot\, & Madison Street sidewalks. \n\nParade Route:  2025 Christmas Parade Route\n\n  \n 
URL:https://springfieldga.org/event/effingham-navigators-lighted-christmas-parade-3/
LOCATION:Springfield\, GA
CATEGORIES:Community Events
ATTACH;FMTTYPE=image/jpeg:https://springfieldga.org/wp-content/uploads/2024/11/Christmas-Lights-scaled.jpeg
END:VEVENT
END:VCALENDAR