BEGIN:VCALENDAR
VERSION:2.0
PRODID:-//The City of Springfield, Georgia - ECPv6.15.20//NONSGML v1.0//EN
CALSCALE:GREGORIAN
METHOD:PUBLISH
X-ORIGINAL-URL:https://springfieldga.org
X-WR-CALDESC:Events for The City of Springfield, Georgia
REFRESH-INTERVAL;VALUE=DURATION:PT1H
X-Robots-Tag:noindex
X-PUBLISHED-TTL:PT1H
BEGIN:VTIMEZONE
TZID:UTC
BEGIN:STANDARD
TZOFFSETFROM:+0000
TZOFFSETTO:+0000
TZNAME:UTC
DTSTART:20230101T000000
END:STANDARD
END:VTIMEZONE
BEGIN:VEVENT
DTSTART;TZID=UTC:20240503T160000
DTEND;TZID=UTC:20240503T200000
DTSTAMP:20260422T220903
CREATED:20240312T162829Z
LAST-MODIFIED:20240429T201958Z
UID:10000441-1714752000-1714766400@springfieldga.org
SUMMARY:May First Friday Downtown
DESCRIPTION:Downtown Beach Party!\n			\n			\n				\n				\n				\n				\n			\n				\n				\n				\n				\n				\n				\n				\n				\n				\n				\n				Food Trucks:\n			\n			\n				\n				\n				\n				\n				\n			\n				\n				\n				\n				\n			\n				\n				\n				\n				\n				\n				\n				\n				\n				\n				\n				\n					\n					\n						Donut NV\n						Our hot\, mini donuts are always made fresh to order\, flipping right before your eyes! These light and fluffy donut morsels are finished with your choice of toppings – from classics like our cinnamon sugar or powdered sugar to new favorites like strawberry shortcake and dirt n’ worms.  \n					\n				\n			\n			\n				\n				\n				\n				\n				\n				\n				\n				\n				\n				\n					\n					\n						Molly MacPherson's Scottish Pub's Food Truck\n						Scottish and American Food. \n					\n				\n			\n				\n				\n				\n				\n				\n					\n					\n						Frencheese \n						Burgers\,  Pulled Pork\, BBQ Chicken\, Fried Chicken\, Philly Cheesesteak\, Sausage Dogs.  \n					\n				\n			\n			\n				\n				\n				\n				\n				\n				\n				\n				\n				\n				\n					\n					\n						Royal Tasty Avenue\n						With more than 35 years experience\, I have no doubt that you’ve lucked up and made the right choice \n \n					\n				\n			\n				\n				\n				\n				\n				\n					\n					\n						Starship Icecream\n						Hand made Ice Cream in Custom Flavors!  \n  \n					\n				\n			\n			\n				\n				\n				\n				\n			\n				\n				\n			\n				\n				\n				\n				\n				\n				\n				\n				\n				\n				\n				\n				\n				\n				\n				\n				\n				\n				Activities:\n			\n			\n				\n				\n				\n				\n			\n				\n				\n				\n				\n				\n				\n				\n				\n				\n				\n				\n					\n					\n						Scavenger Hunt\n						We’ve hidden extra ducks downtown this year\, but look close\, they are extra small this year! Find a duck and return it to the Mars for your prize! \n					\n				\n			\n			\n				\n				\n				\n				\n				\n				\n				\n				\n				\n				\n					\n					\n						Shag Dancing\n						See the Savannah Shag Club in action starting at 5:00! They will dance and entertain until the TAMS start at 7pm! \n					\n				\n			\n			\n				\n				\n				\n				\n				\n				\n				\n				\n				\n				\n					\n					\n						Street Maket\n						Vendors will be set up on First Street! Come check them out from 4pm to 8pm! \n					\n				\n			\n			\n				\n				\n				\n				\n				\n				\n				\n				\n				\n				\n					\n					\n						Beach Ball Volley Ball\n						Let the kids (or adults!) play a round of beach ball volley ball! A small court and beach balls will set up next to the the food court! \n					\n				\n			\n			\n				\n				\n				\n				\n			\n				\n				\n			\n				\n				\n				\n				\n				\n				\n				\n				\n				\n				\n				\n				\n				\n				\n				\n				\n				\n				Entertainment\n			\n			\n				\n				\n				\n				\n			\n				\n				\n				\n				\n				\n				\n				\n				\n				\n				\n				\n			\n			\n				\n				\n				\n				\n			\n				\n				\n			\n				\n				\n				\n				\n				\n				\n				\n				\n				\n				\n				\n				\n				\n				\n				\n				\n				\n				Plan for Food Trucks\, Fun\, and Family Friendly Activities May through September in 2024!
URL:https://springfieldga.org/event/may-first-friday-downtown/
LOCATION:City Hall\, 130 S. Laurel Street\, Springfield\, GA\, 31329\, United States
CATEGORIES:Community Events,Vendor Event
ATTACH;FMTTYPE=image/png:https://springfieldga.org/wp-content/uploads/2024/03/May-Date-Only.png
ORGANIZER;CN="City of Springfield":MAILTO:jsmith@springfieldga.org
END:VEVENT
END:VCALENDAR