BEGIN:VCALENDAR
VERSION:2.0
PRODID:-//The City of Springfield, Georgia - ECPv6.15.20//NONSGML v1.0//EN
CALSCALE:GREGORIAN
METHOD:PUBLISH
X-WR-CALNAME:The City of Springfield, Georgia
X-ORIGINAL-URL:https://springfieldga.org
X-WR-CALDESC:Events for The City of Springfield, Georgia
REFRESH-INTERVAL;VALUE=DURATION:PT1H
X-Robots-Tag:noindex
X-PUBLISHED-TTL:PT1H
BEGIN:VTIMEZONE
TZID:UTC
BEGIN:STANDARD
TZOFFSETFROM:+0000
TZOFFSETTO:+0000
TZNAME:UTC
DTSTART:20230101T000000
END:STANDARD
END:VTIMEZONE
BEGIN:VEVENT
DTSTART;TZID=UTC:20240607T160000
DTEND;TZID=UTC:20240607T200000
DTSTAMP:20260423T010203
CREATED:20240312T163259Z
LAST-MODIFIED:20240531T155749Z
UID:10000442-1717776000-1717790400@springfieldga.org
SUMMARY:June First Friday Downtown
DESCRIPTION:Movie Night Out!\n			\n			\n				\n				\n				\n				\n			\n				\n				\n				\n				\n				\n				\n				\n				\n				\n				\n				Food Trucks:\n			\n			\n				\n				\n				\n				\n				\n			\n				\n				\n				\n				\n			\n				\n				\n				\n				\n				\n				\n				\n				\n				\n				\n				\n					\n					\n						Donut NV\n						Our hot\, mini donuts are always made fresh to order\, flipping right before your eyes! These light and fluffy donut morsels are finished with your choice of toppings – from classics like our cinnamon sugar or powdered sugar to new favorites like strawberry shortcake and dirt n’ worms.  \n					\n				\n			\n			\n				\n				\n				\n				\n				\n				\n				\n				\n				\n				\n					\n					\n						Lobster Dogs\n						Lobster Dogs Food truck serving the Best Lobster Rolls & Stuffed Avocados in Georgia! \n					\n				\n			\n				\n				\n				\n				\n				\n					\n					\n						Food Boxx\n						The Foodboxx is a mobile food service trailer that will specialize in an variety of gratifying\, succ \n					\n				\n			\n			\n				\n				\n				\n				\n				\n				\n				\n				\n				\n				\n					\n					\n						Kona Ice\n						We are the coolest shaved ice truck in town. We bring the party to you! We serve all of Effingham and Bulloch County\, GA. \n					\n				\n			\n				\n				\n				\n				\n				\n					\n					\n						That Southern Slap\n						FAST FOOD. MADE THE SLOW N SOUTHERN WAY. \n					\n				\n			\n			\n				\n				\n				\n				\n			\n				\n				\n			\n				\n				\n				\n				\n				\n				\n				\n				\n				\n				\n				\n				\n				\n				\n				\n				\n				\n				Activities:\n			\n			\n				\n				\n				\n				\n			\n				\n				\n				\n				\n				\n				\n				\n				\n				\n				\n				\n					\n					\n						Movie Trivia\n						Complete the Movie Triva Scavenger Hunt for a chance to win free popcorn or a movie poster! \n					\n				\n			\n			\n				\n				\n				\n				\n				\n				\n				\n				\n				\n				\n					\n					\n						Photo Booth\n						Celebrate our Movie Night! Take your own photos with our Movie Night backdrop and props! \n					\n				\n			\n			\n				\n				\n				\n				\n				\n				\n				\n				\n				\n				\n					\n					\n						Street Maket\n						Vendors will be set up on First Street! Come check them out from 4pm to 8pm! \n					\n				\n			\n			\n				\n				\n				\n				\n				\n				\n				\n				\n				\n				\n					\n					\n						Lawn Games\n						Let the kids of all ages enjoy the new lawn games! Connect 4\, Jenga\, Ladder Ball\, & Corn Hole! \n					\n				\n			\n			\n				\n				\n				\n				\n			\n				\n				\n				\n				\n				\n				\n				\n				\n				\n				\n				\n			\n			\n				\n				\n				\n				\n			\n				\n				\n				\n				\n				\n				\n				\n				\n				\n				\n				Other Activites Downtown:\n			\n			\n				\n				\n				\n				\n			\n				\n				\n				\n				\n				\n				\n				\n				\n				\n				\n				\n					\n					\n						The RC Art Show\n						5-8PM   122 N. Laurel StreetArtists working across a spectrum of mediums are invited to present their best works\, contributing to a rich and dynamic showcase of creativity.https://rcartshow.com/ \n					\n				\n			\n				\n				\n				\n				\n				\n					\n					\n						13 Stars Karaoke Night\n						5-10PM   122 N. Laurel StreetCome join us as we open up for Springfields first Friday! Don’t forget our favorite DJ Bryon Sills will be there to bring some awesome tunes and awesome karaoke songs!!  \n  \n  \n					\n				\n			\n			\n				\n				\n				\n				\n				\n				\n				\n				\n				\n				\n					\n					\n						Crafts and Trivia Moncrief Square \n						4-8pm    205 N. Laurel Street\nIn conjunction with Springfield’s First Friday\, we will be open and ready for a fun-filled night! Bring the whole family and enjoy:\n Crafts for the kiddos Movie trivia for the adults\n					\n				\n			\n			\n				\n				\n				\n				\n			\n				\n				\n			\n				\n				\n				\n				\n				\n				\n				\n				\n				\n				\n				\n				\n				\n				\n				\n				\n				\n				Plan for Food Trucks\, Fun\, and Family Friendly Activities May through September in 2024!
URL:https://springfieldga.org/event/june-first-friday-downtown/
LOCATION:City Hall\, 130 S. Laurel Street\, Springfield\, GA\, 31329\, United States
CATEGORIES:Community Events,Vendor Event
ATTACH;FMTTYPE=image/png:https://springfieldga.org/wp-content/uploads/2024/03/June-Date-Only-FBEH.png
ORGANIZER;CN="City of Springfield":MAILTO:jsmith@springfieldga.org
END:VEVENT
END:VCALENDAR