BEGIN:VCALENDAR
VERSION:2.0
PRODID:-//The City of Springfield, Georgia - ECPv6.15.20//NONSGML v1.0//EN
CALSCALE:GREGORIAN
METHOD:PUBLISH
X-ORIGINAL-URL:https://springfieldga.org
X-WR-CALDESC:Events for The City of Springfield, Georgia
REFRESH-INTERVAL;VALUE=DURATION:PT1H
X-Robots-Tag:noindex
X-PUBLISHED-TTL:PT1H
BEGIN:VTIMEZONE
TZID:UTC
BEGIN:STANDARD
TZOFFSETFROM:+0000
TZOFFSETTO:+0000
TZNAME:UTC
DTSTART:20220101T000000
END:STANDARD
END:VTIMEZONE
BEGIN:VEVENT
DTSTART;TZID=UTC:20230501T180000
DTEND;TZID=UTC:20230501T181500
DTSTAMP:20260422T014129
CREATED:20230427T141408Z
LAST-MODIFIED:20230912T194825Z
UID:10000115-1682964000-1682964900@springfieldga.org
SUMMARY:Public Hearing of Planning and Zoning Board
DESCRIPTION:Public Hearing Time: 6:00 pm  \nPublic Hearing to hear comments on: \n\nConditional Use Request to allow a Senior Living facility or a Daycare Facility at 601 N. Ash Street\, parcel S100-56.\nRequest to rezone 30.3 acres more or less\, known as parcels S115-2TPO and S115-2D located near Ga Hwy 21 and Beebe Rd in from R-1 Zoning to R-2 for & R-4 Zoning.\nRequest for a Variance to reduce the buffer requirements for a portion of Parcel S115-2TPO located near Ga Hwy 21 and Beebe Rd.\nRequest for a Special Exemption for (a) a one foot reduction in minimum lot width and (b) a twenty foot reduction in minimum distance between buildings for portion of parcel S115-2TPO and S115-2D currently requesting rezoning to R-2 zoning classification.\nRequest for Conditional Use to allow commercial painting business located at Parcel S131-2 located on GA Hwy 21.\n\nAny interested parties are encouraged to attend the public hearings to speak for or against these items. Questions can be directed to the Zoning Office at Springfield City Hall by calling (912) 754-7617. Written comments can be submitted to ephillips@Springfieldga.org. \nThe press and public are invited to attend. \nThe Public Hearing Policies and Procedures are adopted by ordinance and can be found in section 5.1.6.2 Policies and Procedures of the Zoning Ordinance of the City of Springfield. This section can be found here:  https://library.municode.com/ga/springfield/codes/code_of_ordinances?nodeId=PTIICOSPGE_APXAZOOR_ARTVPLZOPR_5.1ORPRPLZOBO
URL:https://springfieldga.org/event/public-hearing-of-planning-and-zoning-board-9/
LOCATION:City Hall\, 130 S. Laurel Street\, Springfield\, GA\, 31329\, United States
CATEGORIES:Administrative
ORGANIZER;CN="City of Springfield":MAILTO:jsmith@springfieldga.org
END:VEVENT
BEGIN:VEVENT
DTSTART;TZID=UTC:20230501T180000
DTEND;TZID=UTC:20230501T190000
DTSTAMP:20260422T014129
CREATED:20230427T142233Z
LAST-MODIFIED:20230427T142256Z
UID:10000246-1682964000-1682967600@springfieldga.org
SUMMARY:Planning & Zoning Board Meeting
DESCRIPTION:Planning Board Meeting Time:  6:00 pm  \nMonthly meeting of the Springfield Planning and Zoning Board. \nAgenda or minutes can be requested by emailing ephillips@springfieldga.org \nThe Planning Board regularly meets on the Monday prior to the second Tuesday of each month. \nMeetings length will vary based on business discussion.
URL:https://springfieldga.org/event/planning-zoning-board-meeting-3/2023-05-01/
LOCATION:City Hall\, 130 S. Laurel Street\, Springfield\, GA\, 31329\, United States
CATEGORIES:Administrative
ORGANIZER;CN="City of Springfield":MAILTO:jsmith@springfieldga.org
END:VEVENT
BEGIN:VEVENT
DTSTART;TZID=UTC:20230504T183000
DTEND;TZID=UTC:20230504T193000
DTSTAMP:20260422T014129
CREATED:20230407T132454Z
LAST-MODIFIED:20230413T140306Z
UID:10000237-1683225000-1683228600@springfieldga.org
SUMMARY:Effingham County's National Day of Prayer
DESCRIPTION:A CALL TO PRAYER\n“The effectual fervent prayer\nof a righteous man availeth much”\n(James 5:16b) \nThursday\, May 4th is the 72nd annual National Day of Prayer. Please come from 6:30pm to 7:30pm for a community service at the Veterans Park in Springfield (located beside the Effingham Hospital)\nLet us cherish our Christian heritage and come together as fellow Americans to cry out to God for His mercy. He alone can work wonders! \nPlease bring your own chair for the service. If the weather is raining\, the service will be held in the Board of Education’s auditorium located at 405 North Ash Street\, Springfield\, GA 31329. \nIf you have any questions\, please contact Morgan Phillips at (912)-659-1373.
URL:https://springfieldga.org/event/effingham-countys-national-day-of-prayer/
LOCATION:Effingham County Veteran’s Park\, W 1st St Ext\, Springfield\, GA\, 31329\, United States
CATEGORIES:Community Events
ATTACH;FMTTYPE=image/jpeg:https://springfieldga.org/wp-content/uploads/2023/04/A-CALL-TO-PRAYER.jpg
END:VEVENT
BEGIN:VEVENT
DTSTART;TZID=UTC:20230505T160000
DTEND;TZID=UTC:20230505T200000
DTSTAMP:20260422T014129
CREATED:20230427T150628Z
LAST-MODIFIED:20230504T160129Z
UID:10000256-1683302400-1683316800@springfieldga.org
SUMMARY:May First Friday
DESCRIPTION:Cinco-De-Mayo Downtown\nMars Theatre:\n \n\nAre you There God? It’s Me\, Margaret playing at 12:00pm and 7:00pm\nGet your Tickets here: https://prod3.agileticketing.net/WebSales/pages/info.aspx?evtinfo=788288~1ee4bbf1-ad05-4648-a595-fd47f45a5da0&epguid=9f16b541-4a04-4cd4-8954-a98caf5ee10c&\nBook exchange table in the Theatre Lobby from 5-7pm. Bring a book and take a new one home!\nSpecial Drink and Popcorn set that includes a copy of the the inspiration for the film\, the Judy Bloom classic\, Are you There God?\, It’s Me Margaret.\nFood Trucks and vendors outside the Theatre from 4pm to 8pm.\n\n  \n  \nMay Food Trucks:\nClick on the Image to see more. \n   \n\n \n  \n  \nMay Vendors:\n\nTurning Heads Headbands\n1981 Bakery House\nNorburg Chiropractic\nKatie Brown Mary Kay\nCharacter Pros (FACE PAINTING!)\nColor Street Nails\n\n  \nCinco De Mayo Corn Hole Tournament\n\nLocated at 13 Stars\, 122 N. Laurel Street\nBenefiting Leukemia and Lymphoma Society\nBegins at 5:30\, tournament starts at 6:00pm\, $50 Entry per team\nmore info at: www.honoringmike.com or text (912) 421-8780\n\n  \nScavenger Hunt:\nBrowse through local shops to find clues to the Phrase of the Day. Say the secret phrase at the Mars Theatre from for a chance to win theatre gift cards and prizes. \nStop by the Mars Theatre before you start for more information. \n  \n 
URL:https://springfieldga.org/event/may-first-friday-activities/
LOCATION:City Hall\, 130 S. Laurel Street\, Springfield\, GA\, 31329\, United States
CATEGORIES:Community Events,Vendor Event
ATTACH;FMTTYPE=image/png:https://springfieldga.org/wp-content/uploads/2023/04/2023-First-Friday-FB-Headers-with-Dates-04.png
ORGANIZER;CN="City of Springfield":MAILTO:jsmith@springfieldga.org
END:VEVENT
END:VCALENDAR