BEGIN:VCALENDAR
VERSION:2.0
PRODID:-//The City of Springfield, Georgia - ECPv6.15.20//NONSGML v1.0//EN
CALSCALE:GREGORIAN
METHOD:PUBLISH
X-ORIGINAL-URL:https://springfieldga.org
X-WR-CALDESC:Events for The City of Springfield, Georgia
REFRESH-INTERVAL;VALUE=DURATION:PT1H
X-Robots-Tag:noindex
X-PUBLISHED-TTL:PT1H
BEGIN:VTIMEZONE
TZID:UTC
BEGIN:STANDARD
TZOFFSETFROM:+0000
TZOFFSETTO:+0000
TZNAME:UTC
DTSTART:20220101T000000
END:STANDARD
END:VTIMEZONE
BEGIN:VEVENT
DTSTART;TZID=UTC:20230911T180000
DTEND;TZID=UTC:20230911T181500
DTSTAMP:20260421T162734
CREATED:20230427T141408Z
LAST-MODIFIED:20230912T194635Z
UID:10000119-1694455200-1694456100@springfieldga.org
SUMMARY:Public Hearing of Planning and Zoning Board
DESCRIPTION:Public Hearing Time: 6:00 pm  \nPublic Hearing to hear comments on: \n  \n\nRequest for Rezoning of Springfield Parcel S100-56 located at 601 N. Ash Street from B-1 for Medical Use only to B-1 for a limited number of permitted uses.\nRequest for Rezoning of Springfield Parcel S131-2 located on Ga Hwy 21 from R-1 Single Family Residential to B-1 General Commercial.\nRequest for Conditional Use to build an automotive service garage on B-1 Zoned property known as Springfield Parcel S131-9A located at 1800 GA Hwy 21 S.\n\nAny interested parties are encouraged to attend the public hearings to speak for or against these items. Questions can be directed to the Zoning Office at Springfield City Hall by calling (912) 754-7617. Written comments can be submitted to ephillips@Springfieldga.org. \nThe press and public are invited to attend. \nThe Public Hearing Policies and Procedures are adopted by ordinance and can be found in section 5.1.6.2 Policies and Procedures of the Zoning Ordinance of the City of Springfield. This section can be found here:  https://library.municode.com/ga/springfield/codes/code_of_ordinances?nodeId=PTIICOSPGE_APXAZOOR_ARTVPLZOPR_5.1ORPRPLZOBO
URL:https://springfieldga.org/event/public-hearing-of-planning-and-zoning-board-9-2023-09-04/
LOCATION:City Hall\, 130 S. Laurel Street\, Springfield\, GA\, 31329\, United States
CATEGORIES:Administrative
ORGANIZER;CN="City of Springfield":MAILTO:jsmith@springfieldga.org
END:VEVENT
BEGIN:VEVENT
DTSTART;TZID=UTC:20230911T180000
DTEND;TZID=UTC:20230911T190000
DTSTAMP:20260421T162734
CREATED:20230427T142233Z
LAST-MODIFIED:20230427T142749Z
UID:10000253-1694455200-1694458800@springfieldga.org
SUMMARY:Planning & Zoning Board Meeting
DESCRIPTION:Planning Board Meeting Time:  6:00 pm  \nMonthly meeting of the Springfield Planning and Zoning Board. \nAgenda or minutes can be requested by emailing ephillips@springfieldga.org \nThe Planning Board regularly meets on the Monday prior to the second Tuesday of each month. The September meeting date has been moved as our offices will be closed on September 4th in observance of Labor Day. \nMeetings length will vary based on business discussion.
URL:https://springfieldga.org/event/planning-zoning-board-meeting-3-2023-09-04/
LOCATION:City Hall\, 130 S. Laurel Street\, Springfield\, GA\, 31329\, United States
CATEGORIES:Administrative
ORGANIZER;CN="City of Springfield":MAILTO:jsmith@springfieldga.org
END:VEVENT
BEGIN:VEVENT
DTSTART;TZID=UTC:20230912T180000
DTEND;TZID=UTC:20230912T181500
DTSTAMP:20260421T162734
CREATED:20230912T195218Z
LAST-MODIFIED:20230912T195218Z
UID:10000268-1694541600-1694542500@springfieldga.org
SUMMARY:Public Hearing of Mayor and Council
DESCRIPTION:Public Hearing Time: 6:00 pm  \nPublic Hearing to hear comments on: \n  \n\nRequest for Rezoning of Springfield Parcel S100-56 located at 601 N. Ash Street from B-1 for Medical Use only to B-1 for a limited number of permitted uses.\nRequest for Rezoning of Springfield Parcel S131-2 located on Ga Hwy 21 from R-1 Single Family Residential to B-1 General Commercial.\nRequest for Conditional Use to build an automotive service garage on B-1 Zoned property known as Springfield Parcel S131-9A located at 1800 GA Hwy 21 S.
URL:https://springfieldga.org/event/public-hearing-of-mayor-and-council-2/
LOCATION:City Hall\, 130 S. Laurel Street\, Springfield\, GA\, 31329\, United States
CATEGORIES:Administrative
ORGANIZER;CN="City of Springfield":MAILTO:jsmith@springfieldga.org
END:VEVENT
BEGIN:VEVENT
DTSTART;TZID=UTC:20230912T180000
DTEND;TZID=UTC:20230912T200000
DTSTAMP:20260421T162734
CREATED:20200603T170548Z
LAST-MODIFIED:20230907T202650Z
UID:10000105-1694541600-1694548800@springfieldga.org
SUMMARY:City Council Meeting
DESCRIPTION:City of Springfield 2023-09-12_Agenda_PH & Meeting \nMonthly meeting of the Mayor and City Council \nAgenda or minutes can be requested by emailing jsmith@springfieldga.org \nCity Council regularly meets on the second Tuesday of each month.
URL:https://springfieldga.org/event/city-council-meeting-2020-07-14-2023-09-12/
LOCATION:City Hall\, 130 S. Laurel Street\, Springfield\, GA\, 31329\, United States
CATEGORIES:Administrative
ORGANIZER;CN="City of Springfield":MAILTO:jsmith@springfieldga.org
END:VEVENT
BEGIN:VEVENT
DTSTART;TZID=UTC:20230913T173000
DTEND;TZID=UTC:20230913T183000
DTSTAMP:20260421T162734
CREATED:20230427T135255Z
LAST-MODIFIED:20230822T155642Z
UID:10000110-1694626200-1694629800@springfieldga.org
SUMMARY:DDA Board Meeting
DESCRIPTION:Regular Monthly Meeting of The Downtown Development Authority of Springfield\, GA \nRegular Time: 5:30 pm  \nMonthly meeting of the Springfield Downtown Development Authority (DDA). \nAgenda or minutes can be requested by emailing ephillips@springfieldga.org \nThe DDA typically meets on the third Monday of each month. \nMeetings length will vary based on business discussion.
URL:https://springfieldga.org/event/dda-board-meeting-2-2023-09-18/
LOCATION:City Hall\, 130 S. Laurel Street\, Springfield\, GA\, 31329\, United States
CATEGORIES:Administrative
ORGANIZER;CN="City of Springfield":MAILTO:jsmith@springfieldga.org
END:VEVENT
END:VCALENDAR