BEGIN:VCALENDAR
VERSION:2.0
PRODID:-//The City of Springfield, Georgia - ECPv6.15.20//NONSGML v1.0//EN
CALSCALE:GREGORIAN
METHOD:PUBLISH
X-ORIGINAL-URL:https://springfieldga.org
X-WR-CALDESC:Events for The City of Springfield, Georgia
REFRESH-INTERVAL;VALUE=DURATION:PT1H
X-Robots-Tag:noindex
X-PUBLISHED-TTL:PT1H
BEGIN:VTIMEZONE
TZID:UTC
BEGIN:STANDARD
TZOFFSETFROM:+0000
TZOFFSETTO:+0000
TZNAME:UTC
DTSTART:20220101T000000
END:STANDARD
END:VTIMEZONE
BEGIN:VEVENT
DTSTART;TZID=UTC:20231010T180000
DTEND;TZID=UTC:20231010T183000
DTSTAMP:20260421T175156
CREATED:20230912T195324Z
LAST-MODIFIED:20230912T195324Z
UID:10000269-1696960800-1696962600@springfieldga.org
SUMMARY:Public Hearing of Mayor and Council
DESCRIPTION:Public Hearing Time: 6:00 pm  \nPublic Hearing to hear comments on: \n\nConditional Use Request to allow a Senior Living facility or a Daycare Facility at 601 N. Ash Street\, parcel S100-56.\nRequest to rezone 30.3 acres more or less\, known as parcels S115-2TPO and S115-2D located near Ga Hwy 21 and Beebe Rd in from R-1 Zoning to R-2 for & R-4 Zoning.\nRequest for a Variance to reduce the buffer requirements for a portion of Parcel S115-2TPO located near Ga Hwy 21 and Beebe Rd.\nRequest for a Special Exemption for (a) a one foot reduction in minimum lot width and (b) a twenty foot reduction in minimum distance between buildings for portion of parcel S115-2TPO and S115-2D currently requesting rezoning to R-2 zoning classification.\nRequest for Conditional Use to allow commercial painting business located at Parcel S131-2 located on GA Hwy 21.\n\nAny interested parties are encouraged to attend the public hearings to speak for or against these items. Questions can be directed to the Zoning Office at Springfield City Hall by calling (912) 754-7617. Written comments can be submitted to ephillips@Springfieldga.org. \nThe press and public are invited to attend.
URL:https://springfieldga.org/event/public-hearing-of-mayor-and-council-3/
LOCATION:City Hall\, 130 S. Laurel Street\, Springfield\, GA\, 31329\, United States
CATEGORIES:Administrative
ORGANIZER;CN="City of Springfield":MAILTO:jsmith@springfieldga.org
END:VEVENT
BEGIN:VEVENT
DTSTART;TZID=UTC:20231010T180000
DTEND;TZID=UTC:20231010T200000
DTSTAMP:20260421T175156
CREATED:20200603T170548Z
LAST-MODIFIED:20231005T180234Z
UID:10000106-1696960800-1696968000@springfieldga.org
SUMMARY:City Council Meeting
DESCRIPTION:City of Springfield 2023-10-10_Agenda_PH & Meeting \nMonthly meeting of the Mayor and City Council \nAgenda or minutes can be requested by emailing jsmith@springfieldga.org \nCity Council regularly meets on the second Tuesday of each month.
URL:https://springfieldga.org/event/city-council-meeting-2020-07-14-2023-10-10/
LOCATION:City Hall\, 130 S. Laurel Street\, Springfield\, GA\, 31329\, United States
CATEGORIES:Administrative
ORGANIZER;CN="City of Springfield":MAILTO:jsmith@springfieldga.org
END:VEVENT
BEGIN:VEVENT
DTSTART;VALUE=DATE:20231012
DTEND;VALUE=DATE:20231022
DTSTAMP:20260421T175156
CREATED:20230427T143621Z
LAST-MODIFIED:20230427T143621Z
UID:10000255-1697068800-1697932799@springfieldga.org
SUMMARY:2023 Effingham County Fair
DESCRIPTION:Please contact the Fair for more details. \n  \nThis event is not hosted by the City of Springfield. Please contact the Event Organizer listed below for more information.
URL:https://springfieldga.org/event/2023-effingham-county-fair/
LOCATION:City Hall\, 130 S. Laurel Street\, Springfield\, GA\, 31329\, United States
CATEGORIES:Community Events
ATTACH;FMTTYPE=image/jpeg:https://springfieldga.org/wp-content/uploads/2021/10/Fair-Image-SM.jpg
END:VEVENT
END:VCALENDAR