BEGIN:VCALENDAR
VERSION:2.0
PRODID:-//The City of Springfield, Georgia - ECPv6.15.20//NONSGML v1.0//EN
CALSCALE:GREGORIAN
METHOD:PUBLISH
X-ORIGINAL-URL:https://springfieldga.org
X-WR-CALDESC:Events for The City of Springfield, Georgia
REFRESH-INTERVAL;VALUE=DURATION:PT1H
X-Robots-Tag:noindex
X-PUBLISHED-TTL:PT1H
BEGIN:VTIMEZONE
TZID:UTC
BEGIN:STANDARD
TZOFFSETFROM:+0000
TZOFFSETTO:+0000
TZNAME:UTC
DTSTART:20220101T000000
END:STANDARD
END:VTIMEZONE
BEGIN:VEVENT
DTSTART;TZID=UTC:20231023T173000
DTEND;TZID=UTC:20231023T183000
DTSTAMP:20260421T133635
CREATED:20230427T135255Z
LAST-MODIFIED:20230427T140521Z
UID:10000112-1698082200-1698085800@springfieldga.org
SUMMARY:DDA Board Meeting
DESCRIPTION:Regular Monthly Meeting of The Downtown Development Authority of Springfield\, GA \nRegular Time: 5:30 pm  \nMonthly meeting of the Springfield Downtown Development Authority (DDA). \nAgenda or minutes can be requested by emailing ephillips@springfieldga.org \nThe DDA typically meets on the third Monday of each month. The October 16th meeting date has been moved due to street closure relating to the Effingham County Fair Parade to be held on Laurel Street on October 16th. \nMeetings length will vary based on business discussion.
URL:https://springfieldga.org/event/dda-board-meeting-2-2023-10-16/
LOCATION:City Hall\, 130 S. Laurel Street\, Springfield\, GA\, 31329\, United States
CATEGORIES:Administrative
ORGANIZER;CN="City of Springfield":MAILTO:jsmith@springfieldga.org
END:VEVENT
END:VCALENDAR