BEGIN:VCALENDAR
VERSION:2.0
PRODID:-//The City of Springfield, Georgia - ECPv6.15.20//NONSGML v1.0//EN
CALSCALE:GREGORIAN
METHOD:PUBLISH
X-WR-CALNAME:The City of Springfield, Georgia
X-ORIGINAL-URL:https://springfieldga.org
X-WR-CALDESC:Events for The City of Springfield, Georgia
REFRESH-INTERVAL;VALUE=DURATION:PT1H
X-Robots-Tag:noindex
X-PUBLISHED-TTL:PT1H
BEGIN:VTIMEZONE
TZID:UTC
BEGIN:STANDARD
TZOFFSETFROM:+0000
TZOFFSETTO:+0000
TZNAME:UTC
DTSTART:20230101T000000
END:STANDARD
END:VTIMEZONE
BEGIN:VEVENT
DTSTART;TZID=UTC:20240617T173000
DTEND;TZID=UTC:20240617T183000
DTSTAMP:20260422T092251
CREATED:20231213T175720Z
LAST-MODIFIED:20231213T175821Z
UID:10000294-1718645400-1718649000@springfieldga.org
SUMMARY:Meeting of the Downtown Development Authority of Springfield\, GA
DESCRIPTION:Regular Time: 5:30 pm  \nMonthly meeting of the Springfield Downtown Development Authority (DDA). \nAgenda or minutes can be requested by emailing ephillips@springfieldga.org \nThe DDA typically meets on the third Monday of each month. \nMeetings length will vary based on business discussion.
URL:https://springfieldga.org/event/meeting-of-the-downtown-development-authority-of-springfield-ga-2024-03-18/2024-06-17/
LOCATION:City Hall\, 130 S. Laurel Street\, Springfield\, GA\, 31329\, United States
CATEGORIES:Administrative
ORGANIZER;CN="City of Springfield":MAILTO:jsmith@springfieldga.org
END:VEVENT
BEGIN:VEVENT
DTSTART;TZID=UTC:20240618T180000
DTEND;TZID=UTC:20240618T200000
DTSTAMP:20260422T092251
CREATED:20240514T151750Z
LAST-MODIFIED:20240514T151750Z
UID:10000463-1718733600-1718740800@springfieldga.org
SUMMARY:Council Workshop - Comp. Planning
DESCRIPTION:City Council will be holding a workshop to discuss the update to the Springfield Comprehensive Plan. \nAdditional items may be discussed. Please reach out to City Hall prior to the workshop for full listing of potential discussion items.
URL:https://springfieldga.org/event/council-workshop-comp-planning-2/
LOCATION:City Hall\, 130 S. Laurel Street\, Springfield\, GA\, 31329\, United States
CATEGORIES:Administrative
ORGANIZER;CN="City of Springfield":MAILTO:jsmith@springfieldga.org
END:VEVENT
BEGIN:VEVENT
DTSTART;VALUE=DATE:20240619
DTEND;VALUE=DATE:20240620
DTSTAMP:20260422T092251
CREATED:20231213T180323Z
LAST-MODIFIED:20231213T180323Z
UID:10000303-1718755200-1718841599@springfieldga.org
SUMMARY:City Hall Closed
DESCRIPTION:City Hall will be closed in observance of Juneteenth.
URL:https://springfieldga.org/event/city-hall-closed-19/
LOCATION:City Hall\, 130 S. Laurel Street\, Springfield\, GA\, 31329\, United States
CATEGORIES:Administrative
ORGANIZER;CN="City of Springfield":MAILTO:jsmith@springfieldga.org
END:VEVENT
END:VCALENDAR