BEGIN:VCALENDAR
VERSION:2.0
PRODID:-//The City of Springfield, Georgia - ECPv6.15.20//NONSGML v1.0//EN
CALSCALE:GREGORIAN
METHOD:PUBLISH
X-ORIGINAL-URL:https://springfieldga.org
X-WR-CALDESC:Events for The City of Springfield, Georgia
REFRESH-INTERVAL;VALUE=DURATION:PT1H
X-Robots-Tag:noindex
X-PUBLISHED-TTL:PT1H
BEGIN:VTIMEZONE
TZID:UTC
BEGIN:STANDARD
TZOFFSETFROM:+0000
TZOFFSETTO:+0000
TZNAME:UTC
DTSTART:20230101T000000
END:STANDARD
END:VTIMEZONE
BEGIN:VEVENT
DTSTART;TZID=UTC:20240701T180000
DTEND;TZID=UTC:20240701T181500
DTSTAMP:20260422T075526
CREATED:20240531T182613Z
LAST-MODIFIED:20240531T182616Z
UID:10000283-1719856800-1719857700@springfieldga.org
SUMMARY:Public Hearing of the Planning & Zoning Board
DESCRIPTION:Public Hearing Time: 6:00 pm  \nPublic Hearing to hear comments on: \n\nRezoning of all parcels within the City of Springfield Currently designated as R-2\, Residential District to one of the following designations:\n\nR-1\, Single Family Residential District\nR-4\, Single Family Residential District\nR-2A\, Duplex Residential District \nFull list of properties: www.SpringfieldGA.org/2024/05/R-2/ \n\nRequest for Rezoning of Parcels S115-2TPO and S115-2D located near Lily Way and GA Hwy 21 S. from B-1 and R-1 Zoning Designations to R-4 Zoning Designation.\nProposed Amendments to Code of Ordinances Chapter 116\, Subdivisions regarding required improvements and definitions of subdivisions types based on lot numbers.\n\nAny interested parties are encouraged to attend the public hearings to speak for or against these items. Questions can be directed to the Zoning Office at Springfield City Hall by calling (912) 754-7617. Written comments can be submitted to ephillips@Springfieldga.org. \nThe press and public are invited to attend. \nThe Public Hearing Policies and Procedures are adopted by ordinance and can be found in section 5.1.6.2 Policies and Procedures of the Zoning Ordinance of the City of Springfield. This section can be found here:  https://library.municode.com/ga/springfield/codes/code_of_ordinances?nodeId=PTIICOSPGE_APXAZOOR_ARTVPLZOPR_5.1ORPRPLZOBO \n 
URL:https://springfieldga.org/event/public-hearing-of-the-planning-zoning-board-4-2024-03-04-6/
LOCATION:City Hall\, 130 S. Laurel Street\, Springfield\, GA\, 31329\, United States
CATEGORIES:Administrative
ORGANIZER;CN="City of Springfield":MAILTO:jsmith@springfieldga.org
END:VEVENT
BEGIN:VEVENT
DTSTART;TZID=UTC:20240701T180000
DTEND;TZID=UTC:20240701T190000
DTSTAMP:20260422T075526
CREATED:20231213T174414Z
LAST-MODIFIED:20240108T152409Z
UID:10000158-1719856800-1719860400@springfieldga.org
SUMMARY:Planning & Zoning Board Meeting
DESCRIPTION:Planning Board Meeting Time:  6:00 pm  \nMonthly meeting of the Springfield Planning and Zoning Board. Agenda or minutes can be requested by emailing ephillips@springfieldga.org \nThe Planning Board regularly meets on the Monday prior to the second Tuesday of each month. Meetings length will vary based on business discussion. \nThe press and public are invited to attend. \nAny interested parties are encouraged to attend the meetings. The public is encouraged to ask questions or seek clarification about agenda items prior to the meeting. Questions can be directed to the Zoning Office at Springfield City Hall by calling (912) 754-7617. Written comments can be submitted to ephillips@Springfieldga.org. \nThe Public Hearing Policies and Procedures are adopted by ordinance and can be found in section 5.1.6.2 Policies and Procedures of the Zoning Ordinance of the City of Springfield. This section can be found here:  https://library.municode.com/ga/springfield/codes/code_of_ordinances?nodeId=PTIICOSPGE_APXAZOOR_ARTVPLZOPR_5.1ORPRPLZOBO
URL:https://springfieldga.org/event/planning-zoning-board-meeting-2024-03-04/2024-07-01/
LOCATION:City Hall\, 130 S. Laurel Street\, Springfield\, GA\, 31329\, United States
CATEGORIES:Administrative
ORGANIZER;CN="City of Springfield":MAILTO:jsmith@springfieldga.org
END:VEVENT
BEGIN:VEVENT
DTSTART;VALUE=DATE:20240704
DTEND;VALUE=DATE:20240705
DTSTAMP:20260422T075526
CREATED:20231213T180405Z
LAST-MODIFIED:20231213T180405Z
UID:10000304-1720051200-1720137599@springfieldga.org
SUMMARY:City Hall Closed
DESCRIPTION:City Hall will be closed in observance of Independence Day.
URL:https://springfieldga.org/event/city-hall-closed-20/
LOCATION:City Hall\, 130 S. Laurel Street\, Springfield\, GA\, 31329\, United States
CATEGORIES:Administrative
ORGANIZER;CN="City of Springfield":MAILTO:jsmith@springfieldga.org
END:VEVENT
BEGIN:VEVENT
DTSTART;TZID=UTC:20240705T160000
DTEND;TZID=UTC:20240705T200000
DTSTAMP:20260422T075526
CREATED:20240312T163750Z
LAST-MODIFIED:20240627T174751Z
UID:10000443-1720195200-1720209600@springfieldga.org
SUMMARY:July First Friday Downtown
DESCRIPTION:Independence Extravaganza! \n			\n			\n				\n				\n				\n				\n			\n				\n				\n			\n				\n				\n				\n				\n				\n				\n				\n				\n				\n				\n				\n				\n				\n				\n				\n				\n				\n				Food Trucks:\n			\n			\n				\n				\n				\n				\n				\n			\n				\n				\n				\n				\n			\n				\n				\n				\n				\n				\n				\n				\n				\n				\n				\n				\n					\n					\n						Starship Icecream\n						Hand made Ice Cream in Custom Flavors!  \n					\n				\n			\n				\n				\n				\n				\n				\n					\n					\n						Molly MacPherson's Scottish Pub's Food Truck\n						Scottish and American Food. \n					\n				\n			\n			\n				\n				\n				\n				\n				\n				\n				\n				\n				\n				\n					\n					\n						Frencheese \n						Burgers\,  Pulled Pork\, BBQ Chicken\, Fried Chicken\, Philly Cheesesteak\, Sausage Dogs.  \n					\n				\n			\n			\n				\n				\n				\n				\n				\n				\n				\n				\n				\n				\n					\n					\n						Big Dog Snow Cones\n						125 FLAVORS SHAVED ICE\, SWEETS AND EATS!!! \nFried Deserts\, Burgers\, Wings\, Hot dogs\, etc. \n \n					\n				\n			\n			\n				\n				\n				\n				\n			\n				\n				\n			\n				\n				\n				\n				\n				\n				\n				\n				\n				\n				\n				\n				\n				\n				\n				\n				\n				\n				Activities:\n			\n			\n				\n				\n				\n				\n				\n			\n				\n				\n				\n				\n				\n			\n				\n				\n				\n				\n			\n				\n				\n				\n				\n				\n				\n				\n				\n				\n				\n				\n					\n					\n						Scavenger Hunt\n						Join us for our monthly scavenger hunt. More details to come! \n  \n					\n				\n			\n			\n				\n				\n				\n				\n				\n				\n				\n				\n				\n				\n					\n					\n						Kids Activity Area\n						Let the kids play while you wait! We have Jenga\, Ladder Ball\, Corn Hole\, and Connect Four! \n					\n				\n			\n			\n				\n				\n				\n				\n				\n				\n				\n				\n				\n				\n					\n					\n						Street Maket\n						Vendors will be set up on First Street! Come check them out from 4pm to 8pm! \n					\n				\n			\n			\n				\n				\n				\n				\n				\n				\n				\n				\n				\n				\n					\n					\n						Water Slide\n						Inflatable Water Slide will be set up next to the Mars Theatre! Come cool off with some summer fun! \n					\n				\n			\n			\n				\n				\n				\n				\n			\n				\n				\n				\n				\n				\n				\n				\n				\n				\n				\n				\n			\n			\n				\n				\n				\n				\n				\n				\n				\n				\n				\n				LIVE SHOW AT 7PM!\n			\n			\n				\n				\n				\n				\n			\n				\n				\n				\n				\n				\n				\n				\n				\n				\n				\n				\n			\n			\n				\n				\n				\n				\n			\n				\n				\n			\n				\n				\n				\n				\n				\n				\n				\n				\n				\n				\n				\n				\n				\n				\n				\n				\n				\n				Plan for Food Trucks\, Fun\, and Family Friendly Activities May through September in 2024!
URL:https://springfieldga.org/event/july-first-friday-downtown/
LOCATION:City Hall\, 130 S. Laurel Street\, Springfield\, GA\, 31329\, United States
CATEGORIES:Community Events,Vendor Event
ATTACH;FMTTYPE=image/png:https://springfieldga.org/wp-content/uploads/2024/03/July-Date-Only-FBEH.png
ORGANIZER;CN="City of Springfield":MAILTO:jsmith@springfieldga.org
END:VEVENT
END:VCALENDAR