BEGIN:VCALENDAR
VERSION:2.0
PRODID:-//The City of Springfield, Georgia - ECPv6.15.20//NONSGML v1.0//EN
CALSCALE:GREGORIAN
METHOD:PUBLISH
X-WR-CALNAME:The City of Springfield, Georgia
X-ORIGINAL-URL:https://springfieldga.org
X-WR-CALDESC:Events for The City of Springfield, Georgia
REFRESH-INTERVAL;VALUE=DURATION:PT1H
X-Robots-Tag:noindex
X-PUBLISHED-TTL:PT1H
BEGIN:VTIMEZONE
TZID:UTC
BEGIN:STANDARD
TZOFFSETFROM:+0000
TZOFFSETTO:+0000
TZNAME:UTC
DTSTART:20230101T000000
END:STANDARD
END:VTIMEZONE
BEGIN:VEVENT
DTSTART;VALUE=DATE:20241224
DTEND;VALUE=DATE:20241226
DTSTAMP:20260422T222420
CREATED:20231213T180742Z
LAST-MODIFIED:20231213T180742Z
UID:10000309-1734998400-1735171199@springfieldga.org
SUMMARY:City Hall closed
DESCRIPTION:City Hall will be closed in observance of Christmas Eve & Christmas Day.
URL:https://springfieldga.org/event/city-hall-closed-25/
LOCATION:City Hall\, 130 S. Laurel Street\, Springfield\, GA\, 31329\, United States
CATEGORIES:Administrative
ORGANIZER;CN="City of Springfield":MAILTO:jsmith@springfieldga.org
END:VEVENT
END:VCALENDAR