BEGIN:VCALENDAR
VERSION:2.0
PRODID:-//The City of Springfield, Georgia - ECPv6.15.20//NONSGML v1.0//EN
CALSCALE:GREGORIAN
METHOD:PUBLISH
X-ORIGINAL-URL:https://springfieldga.org
X-WR-CALDESC:Events for The City of Springfield, Georgia
REFRESH-INTERVAL;VALUE=DURATION:PT1H
X-Robots-Tag:noindex
X-PUBLISHED-TTL:PT1H
BEGIN:VTIMEZONE
TZID:UTC
BEGIN:STANDARD
TZOFFSETFROM:+0000
TZOFFSETTO:+0000
TZNAME:UTC
DTSTART:20240101T000000
END:STANDARD
END:VTIMEZONE
BEGIN:VEVENT
DTSTART;TZID=UTC:20250721T173000
DTEND;TZID=UTC:20250721T183000
DTSTAMP:20260422T092403
CREATED:20241114T182131Z
LAST-MODIFIED:20241114T182536Z
UID:10000620-1753119000-1753122600@springfieldga.org
SUMMARY:Meeting of the Downtown Development Authority of Springfield\, GA
DESCRIPTION:Regular Time: 5:30 pm  \nMonthly meeting of the Springfield Downtown Development Authority (DDA). \nAgenda or minutes can be requested by emailing ephillips@springfieldga.org \nThe DDA typically meets on the third Monday of each month. \nMeetings length will vary based on business discussion.
URL:https://springfieldga.org/event/meeting-of-the-downtown-development-authority-of-springfield-ga-2/2025-07-21/
LOCATION:City Hall\, 130 S. Laurel Street\, Springfield\, GA\, 31329\, United States
CATEGORIES:Administrative
ORGANIZER;CN="City of Springfield":MAILTO:jsmith@springfieldga.org
END:VEVENT
BEGIN:VEVENT
DTSTART;TZID=UTC:20250722T180000
DTEND;TZID=UTC:20250722T190000
DTSTAMP:20260422T092403
CREATED:20250716T201740Z
LAST-MODIFIED:20250716T201740Z
UID:10000711-1753207200-1753210800@springfieldga.org
SUMMARY:Special Called Meeting of Mayor and Council
DESCRIPTION:City of Springfield GA \nPUBLIC NOTICE OF SPECIAL CALLED MEETING \nThe City of Springfield Mayor and Council will hold a special called meeting on Tuesday\, July 22\, 2025 at 6:00 p.m.\, in the Springfield Council Room located at 130 S. Laurel St. reference: \nExecutive Session: Personnel \n  \nIt is the policy of the City of Springfield that all City-sponsored public meetings and events are accessible to people with disabilities. If you need assistance in participating in this meeting or event due to a disability as defined under the ADA\, please call the City’s ADA Coordinator\, Jennifer Smith\, at (912) 754-7617 or e-mail jsmith@springfieldga.org at least three (3) business days prior to the scheduled meeting or event to request an accommodation.
URL:https://springfieldga.org/event/special-called-meeting-of-mayor-and-council/
LOCATION:City Hall\, 130 S. Laurel Street\, Springfield\, GA\, 31329\, United States
CATEGORIES:Administrative
ORGANIZER;CN="City of Springfield":MAILTO:jsmith@springfieldga.org
END:VEVENT
BEGIN:VEVENT
DTSTART;TZID=UTC:20250725T190000
DTEND;TZID=UTC:20250725T220000
DTSTAMP:20260422T092403
CREATED:20250718T193501Z
LAST-MODIFIED:20250718T193501Z
UID:10000712-1753470000-1753480800@springfieldga.org
SUMMARY:Teen Night......2.0! at 13 Stars Event Venue
DESCRIPTION: Teen Night is BACK by REQUEST! It’s going to be an awesome night full of fun\, friends\, and good vibes! Encourage your teen to come hang out\, make some real connections (yes—outside of their phones!)\, and support a local small business while they’re at it! \nNames and phone numbers are collected at the time the kids enter the building. They are asked to wear a wrist band with their name and an emergency contact number upon entry and to stay on the premises until a parent comes to pick them up.\nSnacks & drinks will be available for sale!\nBuy tickets now: www.rent13stars.com or at the door.
URL:https://springfieldga.org/event/teen-night-2-0-at-13-stars-event-venue/
LOCATION:13 Stars\, 122 N Laurel St\, Springfield\, GA\, 31329\, United States
CATEGORIES:Community Events
ATTACH;FMTTYPE=image/jpeg:https://springfieldga.org/wp-content/uploads/2025/07/518992322_712105951650810_3591969840014559680_n.jpg
END:VEVENT
END:VCALENDAR