BEGIN:VCALENDAR
VERSION:2.0
PRODID:-//The City of Springfield, Georgia - ECPv6.15.20//NONSGML v1.0//EN
CALSCALE:GREGORIAN
METHOD:PUBLISH
X-ORIGINAL-URL:https://springfieldga.org
X-WR-CALDESC:Events for The City of Springfield, Georgia
REFRESH-INTERVAL;VALUE=DURATION:PT1H
X-Robots-Tag:noindex
X-PUBLISHED-TTL:PT1H
BEGIN:VTIMEZONE
TZID:UTC
BEGIN:STANDARD
TZOFFSETFROM:+0000
TZOFFSETTO:+0000
TZNAME:UTC
DTSTART:20240101T000000
END:STANDARD
END:VTIMEZONE
BEGIN:VEVENT
DTSTART;TZID=UTC:20250812T170000
DTEND;TZID=UTC:20250812T173000
DTSTAMP:20260422T075525
CREATED:20250725T182304Z
LAST-MODIFIED:20250725T182304Z
UID:10000718-1755018000-1755019800@springfieldga.org
SUMMARY:Workshop regarding proposed developmnet
DESCRIPTION:The City of Springfield Mayor and Council will hold a workshop on Tuesday August 12\, 2025 at 5:00 p.m.\, in the Springfield Council Room located at 130 S. Laurel St. reference: \nProposed Wilder Rd Development
URL:https://springfieldga.org/event/workshop-regarding-proposed-developmnet/
LOCATION:City Hall\, 130 S. Laurel Street\, Springfield\, GA\, 31329\, United States
CATEGORIES:Administrative
ORGANIZER;CN="City of Springfield":MAILTO:jsmith@springfieldga.org
END:VEVENT
BEGIN:VEVENT
DTSTART;TZID=UTC:20250812T180000
DTEND;TZID=UTC:20250812T181500
DTSTAMP:20260422T075525
CREATED:20250715T172429Z
LAST-MODIFIED:20250725T182552Z
UID:10000710-1755021600-1755022500@springfieldga.org
SUMMARY:Public Hearing of the Mayor and City Council
DESCRIPTION:Public Hearing Time: 6:00 pm  \nPublic Hearing to hear comments on: \n\nRequest for Conditional Use for manufacturing of firearms and ammunitions at B-1 Zoned property located at 1216 S. Laurel Street (Parcel S111-3)\n\n\nRequest for Conditional Use for Restaurant at DT Zoned property located at 104 E. First Street (Parcel S102-50A)\n\n\nRequest for Conditional Use for Collision Repair Center at B-1 Zoned property located on Lily Way near Bebee Rd (Parcel S115-2D)\n2025 Tax Levy Proposed at 6.00 mills\n\nAny interested parties are encouraged to attend the public hearings to speak for or against these items. Questions can be directed to the Zoning Office at Springfield City Hall by calling (912) 754-7617. Written comments can be submitted to ephillips@Springfieldga.org. \nThe press and public are invited to attend. \nThe Public Hearing Policies and Procedures are adopted by ordinance and can be found in section 5.1.6.2 Policies and Procedures of the Zoning Ordinance of the City of Springfield. This section can be found here:  https://library.municode.com/ga/springfield/codes/code_of_ordinances?nodeId=PTIICOSPGE_APXAZOOR_ARTVPLZOPR_5.1ORPRPLZOBO
URL:https://springfieldga.org/event/public-hearing-of-the-mayor-and-city-council-2/
LOCATION:City Hall\, 130 S. Laurel Street\, Springfield\, GA\, 31329\, United States
CATEGORIES:Administrative
ORGANIZER;CN="City of Springfield":MAILTO:jsmith@springfieldga.org
END:VEVENT
BEGIN:VEVENT
DTSTART;TZID=UTC:20250812T180000
DTEND;TZID=UTC:20250812T200000
DTSTAMP:20260422T075525
CREATED:20240306T170041Z
LAST-MODIFIED:20240523T173512Z
UID:10000395-1755021600-1755028800@springfieldga.org
SUMMARY:City Council Meeting
DESCRIPTION:Monthly meeting of the Mayor and City Council. \nPlease visit the Agenda Center for current agendas. Minutes  from past meetings can be requested by emailing jsmith@springfieldga.org \nCity Council regularly meets on the second Tuesday of each month.
URL:https://springfieldga.org/event/city-council-meeting-3/2025-08-12/
LOCATION:City Hall\, 130 S. Laurel Street\, Springfield\, GA\, 31329\, United States
CATEGORIES:Administrative
ORGANIZER;CN="City of Springfield":MAILTO:jsmith@springfieldga.org
END:VEVENT
END:VCALENDAR