BEGIN:VCALENDAR
VERSION:2.0
PRODID:-//The City of Springfield, Georgia - ECPv6.15.20//NONSGML v1.0//EN
CALSCALE:GREGORIAN
METHOD:PUBLISH
X-ORIGINAL-URL:https://springfieldga.org
X-WR-CALDESC:Events for The City of Springfield, Georgia
REFRESH-INTERVAL;VALUE=DURATION:PT1H
X-Robots-Tag:noindex
X-PUBLISHED-TTL:PT1H
BEGIN:VTIMEZONE
TZID:UTC
BEGIN:STANDARD
TZOFFSETFROM:+0000
TZOFFSETTO:+0000
TZNAME:UTC
DTSTART:20240101T000000
END:STANDARD
END:VTIMEZONE
BEGIN:VEVENT
DTSTART;TZID=UTC:20250818T083000
DTEND;TZID=UTC:20250818T163000
DTSTAMP:20260422T043338
CREATED:20250725T183303Z
LAST-MODIFIED:20250725T183323Z
UID:10000719-1755505800-1755534600@springfieldga.org
SUMMARY:Qualifying Period for 2025 Municipal General Election
DESCRIPTION:Municipal General Election for the City of Springfield will be held on November 4\, 2025 for the offices of one (1) Mayor and three (3) Council Members (Non-Partisan At Large). \nQualifying for said election will be held on the following dates and location listed below: \nCandidate Qualifying Dates: Monday\, August 18\, 2025 – Thursday\, August 21\, 2025 \nCandidate Qualifying Times: 8:30 a.m. – 4:30 p.m. \nLocation: Springfield City Hall – 130 South Laurel Street – Springfield\, GA 31329 \nThe Candidate Qualifying fee for said offices will be \nMayor – Thirty-Five Dollars ($35.00) \nCouncil Member- Twenty-five dollars ($25.00) \nTo be eligible to qualify as a candidate one must: \n\nBe at least 21 years of age;\nA resident of the City of Springfield for twelve (12) months preceding the election;\nA qualified voter in the City of Springfield; and\nNot be disqualified to hold an office in the state.
URL:https://springfieldga.org/event/qualifying-period-for-2025-municipal-general-election/2025-08-18/
LOCATION:City Hall\, 130 S. Laurel Street\, Springfield\, GA\, 31329\, United States
CATEGORIES:Administrative
ORGANIZER;CN="City of Springfield":MAILTO:jsmith@springfieldga.org
END:VEVENT
BEGIN:VEVENT
DTSTART;TZID=UTC:20250818T173000
DTEND;TZID=UTC:20250818T183000
DTSTAMP:20260422T043338
CREATED:20241114T182131Z
LAST-MODIFIED:20241114T182536Z
UID:10000621-1755538200-1755541800@springfieldga.org
SUMMARY:Meeting of the Downtown Development Authority of Springfield\, GA
DESCRIPTION:Regular Time: 5:30 pm  \nMonthly meeting of the Springfield Downtown Development Authority (DDA). \nAgenda or minutes can be requested by emailing ephillips@springfieldga.org \nThe DDA typically meets on the third Monday of each month. \nMeetings length will vary based on business discussion.
URL:https://springfieldga.org/event/meeting-of-the-downtown-development-authority-of-springfield-ga-2/2025-08-18/
LOCATION:City Hall\, 130 S. Laurel Street\, Springfield\, GA\, 31329\, United States
CATEGORIES:Administrative
ORGANIZER;CN="City of Springfield":MAILTO:jsmith@springfieldga.org
END:VEVENT
BEGIN:VEVENT
DTSTART;TZID=UTC:20250819T083000
DTEND;TZID=UTC:20250819T163000
DTSTAMP:20260422T043338
CREATED:20250725T183303Z
LAST-MODIFIED:20250725T183323Z
UID:10000720-1755592200-1755621000@springfieldga.org
SUMMARY:Qualifying Period for 2025 Municipal General Election
DESCRIPTION:Municipal General Election for the City of Springfield will be held on November 4\, 2025 for the offices of one (1) Mayor and three (3) Council Members (Non-Partisan At Large). \nQualifying for said election will be held on the following dates and location listed below: \nCandidate Qualifying Dates: Monday\, August 18\, 2025 – Thursday\, August 21\, 2025 \nCandidate Qualifying Times: 8:30 a.m. – 4:30 p.m. \nLocation: Springfield City Hall – 130 South Laurel Street – Springfield\, GA 31329 \nThe Candidate Qualifying fee for said offices will be \nMayor – Thirty-Five Dollars ($35.00) \nCouncil Member- Twenty-five dollars ($25.00) \nTo be eligible to qualify as a candidate one must: \n\nBe at least 21 years of age;\nA resident of the City of Springfield for twelve (12) months preceding the election;\nA qualified voter in the City of Springfield; and\nNot be disqualified to hold an office in the state.
URL:https://springfieldga.org/event/qualifying-period-for-2025-municipal-general-election/2025-08-19/
LOCATION:City Hall\, 130 S. Laurel Street\, Springfield\, GA\, 31329\, United States
CATEGORIES:Administrative
ORGANIZER;CN="City of Springfield":MAILTO:jsmith@springfieldga.org
END:VEVENT
BEGIN:VEVENT
DTSTART;TZID=UTC:20250820T083000
DTEND;TZID=UTC:20250820T163000
DTSTAMP:20260422T043338
CREATED:20250725T183303Z
LAST-MODIFIED:20250725T183323Z
UID:10000721-1755678600-1755707400@springfieldga.org
SUMMARY:Qualifying Period for 2025 Municipal General Election
DESCRIPTION:Municipal General Election for the City of Springfield will be held on November 4\, 2025 for the offices of one (1) Mayor and three (3) Council Members (Non-Partisan At Large). \nQualifying for said election will be held on the following dates and location listed below: \nCandidate Qualifying Dates: Monday\, August 18\, 2025 – Thursday\, August 21\, 2025 \nCandidate Qualifying Times: 8:30 a.m. – 4:30 p.m. \nLocation: Springfield City Hall – 130 South Laurel Street – Springfield\, GA 31329 \nThe Candidate Qualifying fee for said offices will be \nMayor – Thirty-Five Dollars ($35.00) \nCouncil Member- Twenty-five dollars ($25.00) \nTo be eligible to qualify as a candidate one must: \n\nBe at least 21 years of age;\nA resident of the City of Springfield for twelve (12) months preceding the election;\nA qualified voter in the City of Springfield; and\nNot be disqualified to hold an office in the state.
URL:https://springfieldga.org/event/qualifying-period-for-2025-municipal-general-election/2025-08-20/
LOCATION:City Hall\, 130 S. Laurel Street\, Springfield\, GA\, 31329\, United States
CATEGORIES:Administrative
ORGANIZER;CN="City of Springfield":MAILTO:jsmith@springfieldga.org
END:VEVENT
BEGIN:VEVENT
DTSTART;TZID=UTC:20250821T083000
DTEND;TZID=UTC:20250821T163000
DTSTAMP:20260422T043338
CREATED:20250725T183303Z
LAST-MODIFIED:20250725T183323Z
UID:10000722-1755765000-1755793800@springfieldga.org
SUMMARY:Qualifying Period for 2025 Municipal General Election
DESCRIPTION:Municipal General Election for the City of Springfield will be held on November 4\, 2025 for the offices of one (1) Mayor and three (3) Council Members (Non-Partisan At Large). \nQualifying for said election will be held on the following dates and location listed below: \nCandidate Qualifying Dates: Monday\, August 18\, 2025 – Thursday\, August 21\, 2025 \nCandidate Qualifying Times: 8:30 a.m. – 4:30 p.m. \nLocation: Springfield City Hall – 130 South Laurel Street – Springfield\, GA 31329 \nThe Candidate Qualifying fee for said offices will be \nMayor – Thirty-Five Dollars ($35.00) \nCouncil Member- Twenty-five dollars ($25.00) \nTo be eligible to qualify as a candidate one must: \n\nBe at least 21 years of age;\nA resident of the City of Springfield for twelve (12) months preceding the election;\nA qualified voter in the City of Springfield; and\nNot be disqualified to hold an office in the state.
URL:https://springfieldga.org/event/qualifying-period-for-2025-municipal-general-election/2025-08-21/
LOCATION:City Hall\, 130 S. Laurel Street\, Springfield\, GA\, 31329\, United States
CATEGORIES:Administrative
ORGANIZER;CN="City of Springfield":MAILTO:jsmith@springfieldga.org
END:VEVENT
END:VCALENDAR