BEGIN:VCALENDAR
VERSION:2.0
PRODID:-//The City of Springfield, Georgia - ECPv6.15.20//NONSGML v1.0//EN
CALSCALE:GREGORIAN
METHOD:PUBLISH
X-WR-CALNAME:The City of Springfield, Georgia
X-ORIGINAL-URL:https://springfieldga.org
X-WR-CALDESC:Events for The City of Springfield, Georgia
REFRESH-INTERVAL;VALUE=DURATION:PT1H
X-Robots-Tag:noindex
X-PUBLISHED-TTL:PT1H
BEGIN:VTIMEZONE
TZID:UTC
BEGIN:STANDARD
TZOFFSETFROM:+0000
TZOFFSETTO:+0000
TZNAME:UTC
DTSTART:20240101T000000
END:STANDARD
END:VTIMEZONE
BEGIN:VEVENT
DTSTART;TZID=UTC:20250909T170000
DTEND;TZID=UTC:20250909T180000
DTSTAMP:20260422T031225
CREATED:20250904T210429Z
LAST-MODIFIED:20250904T210429Z
UID:10000724-1757437200-1757440800@springfieldga.org
SUMMARY:Council Workshop
DESCRIPTION:The City of Springfield Mayor and Council will hold a workshop on \nTuesday September 9\, 2025 at 5:00 p.m.\, \nin the Springfield Council Room located at 130 S. Laurel St. reference: \nProposed Wilder Rd Development
URL:https://springfieldga.org/event/council-workshop-4/
LOCATION:City Hall\, 130 S. Laurel Street\, Springfield\, GA\, 31329\, United States
CATEGORIES:Administrative
ORGANIZER;CN="City of Springfield":MAILTO:jsmith@springfieldga.org
END:VEVENT
BEGIN:VEVENT
DTSTART;TZID=UTC:20250909T180000
DTEND;TZID=UTC:20250909T200000
DTSTAMP:20260422T031225
CREATED:20240306T170041Z
LAST-MODIFIED:20240523T173512Z
UID:10000396-1757440800-1757448000@springfieldga.org
SUMMARY:City Council Meeting
DESCRIPTION:Monthly meeting of the Mayor and City Council. \nPlease visit the Agenda Center for current agendas. Minutes  from past meetings can be requested by emailing jsmith@springfieldga.org \nCity Council regularly meets on the second Tuesday of each month.
URL:https://springfieldga.org/event/city-council-meeting-3/2025-09-09/
LOCATION:City Hall\, 130 S. Laurel Street\, Springfield\, GA\, 31329\, United States
CATEGORIES:Administrative
ORGANIZER;CN="City of Springfield":MAILTO:jsmith@springfieldga.org
END:VEVENT
BEGIN:VEVENT
DTSTART;TZID=UTC:20250913T130000
DTEND;TZID=UTC:20250913T160000
DTSTAMP:20260422T031225
CREATED:20250819T204806Z
LAST-MODIFIED:20250819T204810Z
UID:10000723-1757768400-1757779200@springfieldga.org
SUMMARY:Olde Towne Barbers Brave the Shave Fundraising Event
DESCRIPTION: Brave the Shave A Fundraiser for Amber \n Hosted by Olde Towne Barbers Saturday\, September 13th Time & full details coming soon!\n\nOur beloved cosmetologist Amber is currently facing the fight of her life — and we’re standing beside her every step of the way. Join us for Brave the Shave\, a heartfelt (and slightly wild) fundraising event to help support Amber through her breast cancer treatment journey.\nWe’ll have head shaves\, beard sacrifices\, pies in faces (yes\, you read that right)\, exclusive merch\, entertainment and more! Whether you’re pledging to shave\, donating to the cause\, or just showing up to cheer everyone on — your support matters.\n\n Want to be a part of the action?We’re looking for volunteers who are willing to shave their heads or beards in exchange for donations. Or\, take a pie to the face for every $20 raised! Message us if you’re brave enough to get involved.\n 100% of proceeds will go directly to Amber and her family.
URL:https://springfieldga.org/event/olde-towne-barbers-brave-the-shave-fundraising-event/
LOCATION:Olde Towne Barbers\, 102A S Laurel St\, Springfield\, GA\, 31329\, United States
CATEGORIES:Community Events
ATTACH;FMTTYPE=image/jpeg:https://springfieldga.org/wp-content/uploads/2025/08/Brave-the-shave.jpg
END:VEVENT
END:VCALENDAR