BEGIN:VCALENDAR
VERSION:2.0
PRODID:-//The City of Springfield, Georgia - ECPv6.15.20//NONSGML v1.0//EN
CALSCALE:GREGORIAN
METHOD:PUBLISH
X-WR-CALNAME:The City of Springfield, Georgia
X-ORIGINAL-URL:https://springfieldga.org
X-WR-CALDESC:Events for The City of Springfield, Georgia
REFRESH-INTERVAL;VALUE=DURATION:PT1H
X-Robots-Tag:noindex
X-PUBLISHED-TTL:PT1H
BEGIN:VTIMEZONE
TZID:UTC
BEGIN:STANDARD
TZOFFSETFROM:+0000
TZOFFSETTO:+0000
TZNAME:UTC
DTSTART:20240101T000000
END:STANDARD
END:VTIMEZONE
BEGIN:VEVENT
DTSTART;TZID=UTC:20250930T173000
DTEND;TZID=UTC:20250930T203000
DTSTAMP:20260422T013225
CREATED:20250930T122458Z
LAST-MODIFIED:20250930T122458Z
UID:10000730-1759253400-1759264200@springfieldga.org
SUMMARY:FY2026 Budget Workshop
DESCRIPTION:City of Springfield Mayor and Council will hold a workshop on September 30\, 2025 at 5:30 p.m.\n\n\n\nWorkshop items to be discussed:\n\n\n• FY2026 Budget\n\n\n\nWorkshop Location: Springfield Council Room – 130 S Laurel St Springfield\, GA 3132
URL:https://springfieldga.org/event/fy2026-budget-workshop/
LOCATION:City Hall\, 130 S. Laurel Street\, Springfield\, GA\, 31329\, United States
CATEGORIES:Administrative
ORGANIZER;CN="City of Springfield":MAILTO:jsmith@springfieldga.org
END:VEVENT
BEGIN:VEVENT
DTSTART;TZID=UTC:20251003T170000
DTEND;TZID=UTC:20251003T210000
DTSTAMP:20260422T013225
CREATED:20250929T173150Z
LAST-MODIFIED:20250929T192007Z
UID:10000728-1759510800-1759525200@springfieldga.org
SUMMARY:October First Friday Family Night
DESCRIPTION:Season’s End\n			\n			\n				\n				\n				\n				\n			\n				\n				\n			\n				\n				\n				\n				\n				\n				\n				\n				\n				\n				\n				\n				\n				\n				\n				\n				\n				\n				Food Trucks:\n			\n			\n				\n				\n				\n				\n				\n			\n				\n				\n				\n				\n			\n				\n				\n				\n				\n				\n				\n				\n				\n				\n				\n				\n					\n					\n						Nieve with Love\n						Ice Cream Sammies\, Sorbet Push Pops and Freezie Pops!\n					\n				\n			\n			\n				\n				\n				\n				\n				\n				\n				\n				\n				\n				\n					\n					\n						Grillin' Like a Villian\n						Pulled Pork\, BBQ Chicken \n					\n				\n			\n			\n				\n				\n				\n				\n				\n				\n				\n				\n				\n				\n					\n					\n						Off the Block\n						Shaved Ice \n					\n				\n			\n			\n				\n				\n				\n				\n			\n				\n				\n			\n				\n				\n				\n				\n				\n				\n				\n				\n				\n				\n				\n				\n				\n				\n				\n				\n				\n				Activities:\n			\n			\n				\n				\n				\n				\n			\n				\n				\n				\n				\n				\n				\n				\n				\n				\n				\n				\n					\n					\n						Craft Table\n						Join Effingham Artists for a crafty time! Enjoy making Paper Pattern Ghosts while out and about for First Friday. \n					\n				\n			\n			\n				\n				\n				\n				\n				\n				\n				\n				\n				\n				\n					\n					\n						Yard Games\n						Yard games in the Food Truck Lot. Cornhole\, Giant Jenga\, Ladder Ball\, and Connect Four. Kids of all ages welcome to play!  \n					\n				\n			\n			\n				\n				\n				\n				\n				\n				\n				\n				\n				\n				\n					\n					\n						Street Maket\n						Vendors will be set up on First Street! Come check them out from 4pm to 8pm! \n					\n				\n			\n			\n				\n				\n				\n				\n			\n				\n				\n			\n				\n				\n				\n				\n				\n				\n				\n				\n				\n				\n				\n				\n				\n				\n				\n				\n				\n				\n					\n					\n						Free Movie Alert!\n						\nWhat SCOOB! for Free at the Mars Theatre at 7pm!
URL:https://springfieldga.org/event/october-first-friday-family-night-2/
LOCATION:City Hall\, 130 S. Laurel Street\, Springfield\, GA\, 31329\, United States
CATEGORIES:Community Events,Vendor Event
ATTACH;FMTTYPE=image/jpeg:https://springfieldga.org/wp-content/uploads/2025/06/Dates-Templates-03-scaled.jpg
ORGANIZER;CN="City of Springfield":MAILTO:jsmith@springfieldga.org
END:VEVENT
BEGIN:VEVENT
DTSTART;TZID=UTC:20251003T190000
DTEND;TZID=UTC:20251003T210000
DTSTAMP:20260422T013225
CREATED:20250929T171839Z
LAST-MODIFIED:20250929T171839Z
UID:10000725-1759518000-1759525200@springfieldga.org
SUMMARY:Free Movie: Scoob! at the Mars Theatre
DESCRIPTION:Join us for a free screening of the Scooby Doo movie SCOOB! from 2020. \nShowing at 7:00. \nDon’t forget we will have a pattern ghost children’s craft outside the Theatre from 5:00 to 7:00pm.
URL:https://springfieldga.org/event/free-movie-scoob-at-the-mars-theatre/
LOCATION:Mars Theatre\, 106 S Laurel St\, Springfield\, GA\, 31329\, United States
CATEGORIES:Community Events
ATTACH;FMTTYPE=image/jpeg:https://springfieldga.org/wp-content/uploads/2025/09/scob.jpg
ORGANIZER;CN="City of Springfield":MAILTO:jsmith@springfieldga.org
END:VEVENT
BEGIN:VEVENT
DTSTART;TZID=UTC:20251004T100000
DTEND;TZID=UTC:20251004T140000
DTSTAMP:20260422T013225
CREATED:20250929T172820Z
LAST-MODIFIED:20250929T172820Z
UID:10000726-1759572000-1759586400@springfieldga.org
SUMMARY:Deputy Duck Derby
DESCRIPTION:
URL:https://springfieldga.org/event/deputy-duck-derby/
LOCATION:Effingham Living History Site\, 1002 N. Pine Street\, Springfield\, GA\, 31329\, United States
CATEGORIES:Community Events,Vendor Event
ATTACH;FMTTYPE=image/jpeg:https://springfieldga.org/wp-content/uploads/2025/09/duck.jpg
END:VEVENT
END:VCALENDAR