BEGIN:VCALENDAR
VERSION:2.0
PRODID:-//The City of Springfield, Georgia - ECPv6.15.20//NONSGML v1.0//EN
CALSCALE:GREGORIAN
METHOD:PUBLISH
X-WR-CALNAME:The City of Springfield, Georgia
X-ORIGINAL-URL:https://springfieldga.org
X-WR-CALDESC:Events for The City of Springfield, Georgia
REFRESH-INTERVAL;VALUE=DURATION:PT1H
X-Robots-Tag:noindex
X-PUBLISHED-TTL:PT1H
BEGIN:VTIMEZONE
TZID:UTC
BEGIN:STANDARD
TZOFFSETFROM:+0000
TZOFFSETTO:+0000
TZNAME:UTC
DTSTART:20250101T000000
END:STANDARD
END:VTIMEZONE
BEGIN:VEVENT
DTSTART;TZID=UTC:20260126T170000
DTEND;TZID=UTC:20260126T180000
DTSTAMP:20260421T123210
CREATED:20260123T205118Z
LAST-MODIFIED:20260123T205118Z
UID:10000787-1769446800-1769450400@springfieldga.org
SUMMARY:Downtown Development Authority Meeting
DESCRIPTION:The Springfield Downtown Development Authority meets on the fourth Monday of the Month at 5:00pm. \nAll meeting are held in the City of Springfield City Hall Council Chamber. The press and public are welcome to attend. \n 
URL:https://springfieldga.org/event/downtown-development-authority-meeting/
LOCATION:City Hall\, 130 S. Laurel Street\, Springfield\, GA\, 31329\, United States
CATEGORIES:Administrative
ORGANIZER;CN="City of Springfield":MAILTO:jsmith@springfieldga.org
END:VEVENT
BEGIN:VEVENT
DTSTART;TZID=UTC:20260131T090000
DTEND;TZID=UTC:20260131T140000
DTSTAMP:20260421T123210
CREATED:20260130T190326Z
LAST-MODIFIED:20260130T190326Z
UID:10000790-1769850000-1769868000@springfieldga.org
SUMMARY:Council Planning Retreat
DESCRIPTION:The City of Springfield Mayor and City Council plan will hold a retreat where a quorum of the members will be present. The purpose of the retreat is to discuss vision\, goals\, and direction for the future of the City. This retreat will be held on Saturday\, January 31\, 2026 starting at 9:00 a.m. and will conclude no later than 2:00 p.m. The retreat will be held in the City of Springfield Council Chambers 130 S Laurel St Springfield\, GA.\n\n\nFor more information please contact Jennifer Y. Smith\, City Clerk
URL:https://springfieldga.org/event/council-planning-retreat/
LOCATION:City Hall\, 130 S. Laurel Street\, Springfield\, GA\, 31329\, United States
CATEGORIES:Administrative
ORGANIZER;CN="City of Springfield":MAILTO:jsmith@springfieldga.org
END:VEVENT
END:VCALENDAR