BEGIN:VCALENDAR
VERSION:2.0
PRODID:-//The City of Springfield, Georgia - ECPv6.15.20//NONSGML v1.0//EN
CALSCALE:GREGORIAN
METHOD:PUBLISH
X-WR-CALNAME:The City of Springfield, Georgia
X-ORIGINAL-URL:https://springfieldga.org
X-WR-CALDESC:Events for The City of Springfield, Georgia
REFRESH-INTERVAL;VALUE=DURATION:PT1H
X-Robots-Tag:noindex
X-PUBLISHED-TTL:PT1H
BEGIN:VTIMEZONE
TZID:UTC
BEGIN:STANDARD
TZOFFSETFROM:+0000
TZOFFSETTO:+0000
TZNAME:UTC
DTSTART:20250101T000000
END:STANDARD
END:VTIMEZONE
BEGIN:VEVENT
DTSTART;TZID=UTC:20260406T180000
DTEND;TZID=UTC:20260406T183000
DTSTAMP:20260421T164431
CREATED:20260312T155801Z
LAST-MODIFIED:20260312T155812Z
UID:10000768-1775498400-1775500200@springfieldga.org
SUMMARY:Public Hearing of the Planning & Zoning Board
DESCRIPTION:Public Hearing Time: 6:00 pm  \nPublic Hearing to hear comments on: \n\nRequest for Conditional Use to operate a Restaurant at 116 N. Laurel St\, Unit B. Property zoning of DT “Downtown”\, Parcel ID S102-35A.\nRequest for Special Exemption from the Zoning Ordinance regarding a front setback reduction at 216 Deer Rd. Property zoning of R-1\, Parcel ID S122-35.\nRequest for a Variance from B-1 Minimum Front Setbacks at 303 N. Pine St. Property zoning of B-1\, Parcel ID S101-30.\nRequest for Conditional Use for Vehicle Service and Towing with Impound Storage Yard at 1060 S. Laurel Street\, Property Zoning of B-1\, Parcel ID S110-4C.\n\nAny interested parties are encouraged to attend the public hearings to speak for or against these items. Questions can be directed to the Zoning Office at Springfield City Hall by calling (912) 754-7617. Written comments can be submitted to ephillips@Springfieldga.org. \nThe press and public are invited to attend. \nThe Public Hearing Policies and Procedures are adopted by ordinance and can be found in section 5.1.6.2 Policies and Procedures of the Zoning Ordinance of the City of Springfield. This section can be found here:  https://library.municode.com/ga/springfield/codes/code_of_ordinances?nodeId=PTIICOSPGE_APXAZOOR_ARTVPLZOPR_5.1ORPRPLZOBO
URL:https://springfieldga.org/event/public-hearing-of-the-planning-zoning-board-3-7/
LOCATION:City Hall\, 130 S. Laurel Street\, Springfield\, GA\, 31329\, United States
CATEGORIES:Administrative
ORGANIZER;CN="City of Springfield":MAILTO:jsmith@springfieldga.org
END:VEVENT
BEGIN:VEVENT
DTSTART;TZID=UTC:20260406T180000
DTEND;TZID=UTC:20260406T190000
DTSTAMP:20260421T164431
CREATED:20241114T192509Z
LAST-MODIFIED:20260107T134330Z
UID:10000663-1775498400-1775502000@springfieldga.org
SUMMARY:Planning & Zoning Board Meeting
DESCRIPTION:Planning Board Meeting Time:  6:00 pm  \nMonthly meeting of the Springfield Planning and Zoning Board. Agenda or minutes can be found here: https://springfieldga.org/agenda-center/ \nThe Planning Board regularly meets on the Monday prior to the second Tuesday of each month. Meetings length will vary based on business discussion. \nThe press and public are invited to attend. \nAny interested parties are encouraged to attend the meetings. The public is encouraged to ask questions or seek clarification about agenda items prior to the meeting. Questions can be directed to the Zoning Office at Springfield City Hall by calling (912) 754-7617. Written comments can be submitted to ephillips@Springfieldga.org. \nThe Public Hearing Policies and Procedures are adopted by ordinance and can be found in section 5.1.6.2 Policies and Procedures of the Zoning Ordinance of the City of Springfield. This section can be found here:  https://library.municode.com/ga/springfield/codes/code_of_ordinances?nodeId=PTIICOSPGE_APXAZOOR_ARTVPLZOPR_5.1ORPRPLZOBO
URL:https://springfieldga.org/event/planning-zoning-board-meeting-7/2026-04-06/
LOCATION:City Hall\, 130 S. Laurel Street\, Springfield\, GA\, 31329\, United States
CATEGORIES:Administrative
ORGANIZER;CN="City of Springfield":MAILTO:jsmith@springfieldga.org
END:VEVENT
BEGIN:VEVENT
DTSTART;TZID=UTC:20260407T140000
DTEND;TZID=UTC:20260407T150000
DTSTAMP:20260421T164431
CREATED:20260312T160930Z
LAST-MODIFIED:20260312T160930Z
UID:10000797-1775570400-1775574000@springfieldga.org
SUMMARY:Public Forum for Lot Creation Application Process (LCAP)
DESCRIPTION:Lot Creation Application Process (LCAP) \nThe City of Springfield is proposing a process in which those desiring to develop land for commercial or residential purposes will be required to apply for development approval by submitting preliminary concepts for consideration on an annual basis. This annual application process\, referred to as the Lot Creation Application Process (LCAP)\, is proposed to begin in 2026. The City of Springfield will only award a limited number of lot creation\, or system taps each year. \nThe LCAP review will be conducted by staff and proposes to score each development project based on factors such as zoning\, jurisdiction\, Comprehensive Plan compliance\, and affordable housing components. Projects with the highest scores will be considered first. A number of potential system taps will then be awarded to each project based on additional factors such as length of utility extension\, proposed zoning\, annexation potential\, number of taps requested\, and other potential factors. \nThe City of Springfield will hold two public forums on this proposed process to receive feedback from potential developers\, property owners\, and/or residents. Any interested parties are invited to attend. Public forum dates and times will be: \nMarch 24\, 2026 at 2:00pm\nApril 7\, 2026 at 2:00pm\nThe forum location will be the Springfield Council Room located at 130 S. Laurel Street (located between Springfield City Hall and Springfield Police Department). \nIt is the policy of the City of Springfield that all City-sponsored public meetings and events are accessible to people with disabilities. If you need assistance in participating in this meeting or event due to a disability as defined under the ADA\, please call the City’s ADA Coordinator\, Jennifer Smith\, at (912) 754-7617 or e-mail jsmith@springfieldga.org at least three (3) business days prior to the scheduled meeting or event to request an accommodation.
URL:https://springfieldga.org/event/public-forum-for-lot-creation-application-process-lcap-2/
LOCATION:City Hall\, 130 S. Laurel Street\, Springfield\, GA\, 31329\, United States
CATEGORIES:Administrative
ORGANIZER;CN="City of Springfield":MAILTO:jsmith@springfieldga.org
END:VEVENT
BEGIN:VEVENT
DTSTART;TZID=UTC:20260411T190000
DTEND;TZID=UTC:20260411T210000
DTSTAMP:20260421T164431
CREATED:20260406T133013Z
LAST-MODIFIED:20260406T133550Z
UID:10000800-1775934000-1775941200@springfieldga.org
SUMMARY:Free Community Screening of The Super Mario Galaxy Movie presented by Xfinity
DESCRIPTION:FOR IMMEDIATE RELEASE\n\nThe Mars Theatre Announces Free Community Screening of The Super Mario Galaxy Movie presented by Xfinity\n\nSpringfield\, GA – (March 31\, 2026) The Historic Mars Theatre is leveling up this April with a special free community screening of The Super Mario Galaxy Movie\, presented by Xfinity.\n“Events like this are about bringing people together and celebrating the communities we serve\,” said Rachel Ozias\, Regional Vice President of Sales and Marketing for Comcast. “Through partnerships like this one with The Mars Theatre\, we’re proud to connect families across the region not only through community experiences\, but also through fast\, reliable Xfinity Internet\, flexible Xfinity Mobile options\, and world‑class entertainment that help keep them connected at home and on the go.”\n\nThe event will take place on Saturday\, April 11 at 7:00 PM\, and is open to the public. Free tickets available in advance through the Mars Theatre website and can be reserved here.\nAs part of the celebration\, Xfinity will be on site with free Mario-themed giveaways\, adding an extra layer of fun for guests of all ages.\n\nThis event continues The Mars Theatre’s mission to provide accessible\, family-friendly entertainment while partnering with organizations committed to enriching the local community. It also reflects Xfinity’s ongoing commitment to connecting communities across the greater Savannah region and Hampton County through local partnerships and investments in community experiences.\n\n“We’re always looking for ways to bring people together\, and we couldn’t have asked for better partners to bring it to life\,” said Maddie Greer\, Director of The Mars Theatre. “We’re incredibly grateful to Xfinity for helping us offer a free night of entertainment that families can enjoy together.\n\nWhile tickets are free\, seating is limited\, and patrons are encouraged to reserve their seats early at MarsTheatre.com.\nFor more information about upcoming events\, visit MarsTheatre.com or follow The Mars Theatre on social media
URL:https://springfieldga.org/event/free-community-screening-of-the-super-mario-galaxy-movie-presented-by-xfinity/
LOCATION:Mars Theatre\, 106 S Laurel St\, Springfield\, GA\, 31329\, United States
CATEGORIES:Community Events
ATTACH;FMTTYPE=image/png:https://springfieldga.org/wp-content/uploads/2026/04/4-10-26-Event-Flyer-for-Mars-Theatre.png
ORGANIZER;CN="Mars Theatre":MAILTO:info@marstheatre.com
END:VEVENT
END:VCALENDAR