BEGIN:VCALENDAR
VERSION:2.0
PRODID:-//The City of Springfield, Georgia - ECPv6.15.20//NONSGML v1.0//EN
CALSCALE:GREGORIAN
METHOD:PUBLISH
X-ORIGINAL-URL:https://springfieldga.org
X-WR-CALDESC:Events for The City of Springfield, Georgia
REFRESH-INTERVAL;VALUE=DURATION:PT1H
X-Robots-Tag:noindex
X-PUBLISHED-TTL:PT1H
BEGIN:VTIMEZONE
TZID:UTC
BEGIN:STANDARD
TZOFFSETFROM:+0000
TZOFFSETTO:+0000
TZNAME:UTC
DTSTART:20250101T000000
END:STANDARD
END:VTIMEZONE
BEGIN:VEVENT
DTSTART;TZID=UTC:20260601T180000
DTEND;TZID=UTC:20260601T183000
DTSTAMP:20260421T170301
CREATED:20260107T133623Z
LAST-MODIFIED:20260107T135250Z
UID:10000770-1780336800-1780338600@springfieldga.org
SUMMARY:Public Hearing of the Planning & Zoning Board
DESCRIPTION:Public Hearing Time: 6:00 pm  \nPublic Hearing to hear comments on: \nItems for this public hearing have not been updated. Please contact City Hall regarding public hearing items for this date.  \nAny interested parties are encouraged to attend the public hearings to speak for or against these items. Questions can be directed to the Zoning Office at Springfield City Hall by calling (912) 754-7617. Written comments can be submitted to ephillips@Springfieldga.org. \nThe press and public are invited to attend. \nThe Public Hearing Policies and Procedures are adopted by ordinance and can be found in section 5.1.6.2 Policies and Procedures of the Zoning Ordinance of the City of Springfield. This section can be found here:  https://library.municode.com/ga/springfield/codes/code_of_ordinances?nodeId=PTIICOSPGE_APXAZOOR_ARTVPLZOPR_5.1ORPRPLZOBO
URL:https://springfieldga.org/event/public-hearing-of-the-planning-zoning-board-3/2026-06-01/
LOCATION:City Hall\, 130 S. Laurel Street\, Springfield\, GA\, 31329\, United States
CATEGORIES:Administrative
ORGANIZER;CN="City of Springfield":MAILTO:jsmith@springfieldga.org
END:VEVENT
BEGIN:VEVENT
DTSTART;TZID=UTC:20260601T180000
DTEND;TZID=UTC:20260601T190000
DTSTAMP:20260421T170301
CREATED:20241114T192509Z
LAST-MODIFIED:20260107T134330Z
UID:10000665-1780336800-1780340400@springfieldga.org
SUMMARY:Planning & Zoning Board Meeting
DESCRIPTION:Planning Board Meeting Time:  6:00 pm  \nMonthly meeting of the Springfield Planning and Zoning Board. Agenda or minutes can be found here: https://springfieldga.org/agenda-center/ \nThe Planning Board regularly meets on the Monday prior to the second Tuesday of each month. Meetings length will vary based on business discussion. \nThe press and public are invited to attend. \nAny interested parties are encouraged to attend the meetings. The public is encouraged to ask questions or seek clarification about agenda items prior to the meeting. Questions can be directed to the Zoning Office at Springfield City Hall by calling (912) 754-7617. Written comments can be submitted to ephillips@Springfieldga.org. \nThe Public Hearing Policies and Procedures are adopted by ordinance and can be found in section 5.1.6.2 Policies and Procedures of the Zoning Ordinance of the City of Springfield. This section can be found here:  https://library.municode.com/ga/springfield/codes/code_of_ordinances?nodeId=PTIICOSPGE_APXAZOOR_ARTVPLZOPR_5.1ORPRPLZOBO
URL:https://springfieldga.org/event/planning-zoning-board-meeting-7/2026-06-01/
LOCATION:City Hall\, 130 S. Laurel Street\, Springfield\, GA\, 31329\, United States
CATEGORIES:Administrative
ORGANIZER;CN="City of Springfield":MAILTO:jsmith@springfieldga.org
END:VEVENT
BEGIN:VEVENT
DTSTART;TZID=UTC:20260605T180000
DTEND;TZID=UTC:20260605T210000
DTSTAMP:20260421T170301
CREATED:20260410T170805Z
LAST-MODIFIED:20260410T170805Z
UID:10000803-1780682400-1780693200@springfieldga.org
SUMMARY:June First Friday
DESCRIPTION:
URL:https://springfieldga.org/event/june-first-friday-2/
LOCATION:Mars Theatre\, 106 S Laurel St\, Springfield\, GA\, 31329\, United States
CATEGORIES:Community Events,Vendor Event
ATTACH;FMTTYPE=image/png:https://springfieldga.org/wp-content/uploads/2026/04/Dates-Templates-02-scaled.png
ORGANIZER;CN="City of Springfield":MAILTO:jsmith@springfieldga.org
END:VEVENT
END:VCALENDAR