BEGIN:VCALENDAR
VERSION:2.0
PRODID:-//The City of Springfield, Georgia - ECPv6.15.20//NONSGML v1.0//EN
CALSCALE:GREGORIAN
METHOD:PUBLISH
X-WR-CALNAME:The City of Springfield, Georgia
X-ORIGINAL-URL:https://springfieldga.org
X-WR-CALDESC:Events for The City of Springfield, Georgia
REFRESH-INTERVAL;VALUE=DURATION:PT1H
X-Robots-Tag:noindex
X-PUBLISHED-TTL:PT1H
BEGIN:VTIMEZONE
TZID:UTC
BEGIN:STANDARD
TZOFFSETFROM:+0000
TZOFFSETTO:+0000
TZNAME:UTC
DTSTART:20250101T000000
END:STANDARD
END:VTIMEZONE
BEGIN:VEVENT
DTSTART;TZID=UTC:20260509T083000
DTEND;TZID=UTC:20260509T140000
DTSTAMP:20260421T234430
CREATED:20260410T195802Z
LAST-MODIFIED:20260410T195802Z
UID:10000808-1778315400-1778335200@springfieldga.org
SUMMARY:Springfield Century Ride
DESCRIPTION:The Springfield DDA welcomes you to Downtown Springfield to begin a scenic bike ride through Effingham County. Starting at 8:30 am this year\, the Ride will begin and end in Springfield\, at Ulmer Ball Park on Jefferson Street and Pine Street. We’ve worked hard over the years to help improve downtown Springfield and proceeds from this annual ride have helped to fund facade grants and beautification projects that have made a huge difference. SWAG bags for all participants will include information from our sponsors\, and additional info about stores\, restaurants\, and events coming up in downtown. We will be raffling off awesome door prizes for our riders as well. We hope that this will give you a sample of downtown and that you will come back for a visit! \nThis year we are partnering with Effingham Heroes to bring a fun filled day of activities to Ulmer Park. After your ride is complete you can stay in the park to enjoy the event activities and food trucks. Bringing anyone with you? They can watch the Effingham Hero’s Parade from Laurel Street at 10am. This will be a full day of activities and thankfulness to our local Hero’s and first responders.
URL:https://springfieldga.org/event/springfield-century-ride/
LOCATION:Ulmer Ball Park\, 503 N. Oak Street\, Springfield\, Georgia\, 31329
CATEGORIES:Athletic
ATTACH;FMTTYPE=image/png:https://springfieldga.org/wp-content/uploads/2026/04/Ride-Banner-6-x-2-ft-scaled.png
ORGANIZER;CN="Downtown Development Authority":MAILTO:ephillips@springfieldga.org
END:VEVENT
BEGIN:VEVENT
DTSTART;TZID=UTC:20260509T100000
DTEND;TZID=UTC:20260509T110000
DTSTAMP:20260421T234430
CREATED:20260410T200124Z
LAST-MODIFIED:20260410T200124Z
UID:10000810-1778320800-1778324400@springfieldga.org
SUMMARY:Effingham Hereos Parade
DESCRIPTION:
URL:https://springfieldga.org/event/effingham-hereos-parade/
LOCATION:Laurel Street\, 130 S. Laurel Street\, Springfield\, GA\, 31329\, United States
CATEGORIES:Community Events,Vendor Event
ATTACH;FMTTYPE=image/jpeg:https://springfieldga.org/wp-content/uploads/2026/04/Parade.jpg
ORGANIZER;CN="Effingham Heroes":MAILTO:effinghamheroes@gmail.com
END:VEVENT
BEGIN:VEVENT
DTSTART;TZID=UTC:20260509T110000
DTEND;TZID=UTC:20260509T160000
DTSTAMP:20260421T234430
CREATED:20260410T195948Z
LAST-MODIFIED:20260410T200811Z
UID:10000809-1778324400-1778342400@springfieldga.org
SUMMARY:The Hero's Rally
DESCRIPTION:A full day of fun in Downtown! The Springfield Century Ride kicks off the morning\, followed by the Effingham Heroes Parade along Laurel Street. The Parade ends at Ulmer Park where an afternoon of activity is planned to celebrate our Effingham Heroes – the first responders\, veterans\, and service men and women of Effingham County. \nUlmer Park will transform for the day with bounce houses\, food trucks\, and our water gun battlezone to fight off the heat! The event is free to the public and there will be a $5 wrist band to purchase that gets you access to all the inflatables for the day.  \n 
URL:https://springfieldga.org/event/the-heros-rally/
LOCATION:City Hall\, 130 S. Laurel Street\, Springfield\, GA\, 31329\, United States
CATEGORIES:Community Events
ATTACH;FMTTYPE=image/png:https://springfieldga.org/wp-content/uploads/2026/04/Hero-Words-Red.png
ORGANIZER;CN="Downtown Development Authority":MAILTO:ephillips@springfieldga.org
END:VEVENT
BEGIN:VEVENT
DTSTART;TZID=UTC:20260509T130000
DTEND;TZID=UTC:20260509T170000
DTSTAMP:20260421T234430
CREATED:20260410T200236Z
LAST-MODIFIED:20260410T200236Z
UID:10000811-1778331600-1778346000@springfieldga.org
SUMMARY:OTB Grand Anniversary
DESCRIPTION:
URL:https://springfieldga.org/event/otb-grand-anniversary/
LOCATION:Olde Towne Barbers\, 102A S Laurel St\, Springfield\, GA\, 31329\, United States
CATEGORIES:Community Events,Vendor Event
ATTACH;FMTTYPE=image/jpeg:https://springfieldga.org/wp-content/uploads/2026/04/Old-Town-scaled.jpg
END:VEVENT
BEGIN:VEVENT
DTSTART;TZID=UTC:20260509T150000
DTEND;TZID=UTC:20260509T210000
DTSTAMP:20260421T234430
CREATED:20260410T200432Z
LAST-MODIFIED:20260410T200432Z
UID:10000812-1778338800-1778360400@springfieldga.org
SUMMARY:Low Country Car Club Car Show
DESCRIPTION:
URL:https://springfieldga.org/event/low-country-car-club-car-show/
LOCATION:Historic Court House\, 700 N. Pine Street\, Springfield\, GA\, 31329\, United States
CATEGORIES:Community Events
ATTACH;FMTTYPE=image/jpeg:https://springfieldga.org/wp-content/uploads/2026/04/Car-Show.jpg
END:VEVENT
BEGIN:VEVENT
DTSTART;TZID=UTC:20260530T190000
DTEND;TZID=UTC:20260530T210000
DTSTAMP:20260421T234430
CREATED:20260129T153113Z
LAST-MODIFIED:20260129T153113Z
UID:10000788-1780167600-1780174800@springfieldga.org
SUMMARY:Invisible Touch - Phil Collins/Genesis Tribute
DESCRIPTION:Invisible Touch Brings the Music of Phil Collins to The Mars Theatre\nSpringfield\, GA — The Historic Mars Theatre is proud to welcome Invisible Touch to the stage on Saturday\, May 30 at 7:00 PM\, delivering a high-energy live performance celebrating the unforgettable music of Phil Collins and Genesis.\nBuilt by musicians who deeply understand what made Phil Collins’ catalog resonate across generations\, Invisible Touch recreates the sound\, emotion\, and full-bodied arrangements that defined an era. From soaring melodies and layered rhythms to the powerful horn lines that made these songs feel larger than life\, the band focuses on delivering the music the way fans remember it — rich\, dynamic\, and alive.\nWhether listeners grew up with Phil Collins’ music or discovered it later\, the performance brings the soundtrack of a generation to life on stage in an intimate theater setting.\n“Shows like this are about shared memories\,” said Maddie Greer\, Director of the Mars Theatre. “Invisible Touch creates an experience that feels both nostalgic and thrilling\, and it’s exactly the kind of night our audiences love.”\nEvent Details:\n\n\nArtist: Invisible Touch (Phil Collins tribute)\n\n\nDate: Saturday\, May 30\, 2026\n\n\nTime: 7:00 PM\n\n\nLocation: The Mars Theatre\, Springfield\, GA\n\n\nTickets are on sale now and can be purchased through the Mars Theatre website.
URL:https://springfieldga.org/event/invisible-touch-phil-collins-genesis-tribute/
LOCATION:Mars Theatre\, 106 S Laurel St\, Springfield\, GA\, 31329\, United States
CATEGORIES:Community Events
ATTACH;FMTTYPE=image/png:https://springfieldga.org/wp-content/uploads/2026/01/presents.png
ORGANIZER;CN="Mars Theatre":MAILTO:info@marstheatre.com
END:VEVENT
BEGIN:VEVENT
DTSTART;TZID=UTC:20260605T180000
DTEND;TZID=UTC:20260605T210000
DTSTAMP:20260421T234430
CREATED:20260410T170805Z
LAST-MODIFIED:20260410T170805Z
UID:10000803-1780682400-1780693200@springfieldga.org
SUMMARY:June First Friday
DESCRIPTION:
URL:https://springfieldga.org/event/june-first-friday-2/
LOCATION:Mars Theatre\, 106 S Laurel St\, Springfield\, GA\, 31329\, United States
CATEGORIES:Community Events,Vendor Event
ATTACH;FMTTYPE=image/png:https://springfieldga.org/wp-content/uploads/2026/04/Dates-Templates-02-scaled.png
ORGANIZER;CN="City of Springfield":MAILTO:jsmith@springfieldga.org
END:VEVENT
BEGIN:VEVENT
DTSTART;TZID=UTC:20260716T190000
DTEND;TZID=UTC:20260716T220000
DTSTAMP:20260421T234430
CREATED:20260406T133429Z
LAST-MODIFIED:20260406T133429Z
UID:10000801-1784228400-1784239200@springfieldga.org
SUMMARY:Delta Circle at The Mars Theatre
DESCRIPTION:Delta Circle Brings Award-Winning Southern Rock Sound to The Mars Theatre\nThe Historic Mars Theatre is proud to welcome rising Southern rock/Americana band Delta Circle for a live performance in Springfield on July 16th\, 2026 at 7PM. Tickets are on sale now at marstheatre.com.\n\nHailing from Savannah\, Georgia\, Delta Circle has quickly built a reputation as one of the region’s most exciting emerging acts. Since forming in 2024\, the band has earned major recognition across the Southeast and beyond\, including winning the Milan Aire Group Battle of the Bands and multiple honors in Connect Savannah’s Best of Awards\, where they were named Best Singer/Songwriter and Best Album for their debut release Someone Else’s Story.\n\nBlending Southern grit with polished musicianship\, Delta Circle delivers a high-energy live show rooted in storytelling\, strong vocals\, and dynamic instrumentation. Their sound draws from classic Southern rock traditions while bringing a fresh\, modern edge that resonates with both longtime fans of the genre and new audiences alike.\n\nTheir rapid rise has also been recognized on a national level\, with accolades from the International Singer-Songwriter Association Awards\, finalist placements in the Josie Music Awards at the Grand Ole Opry\, and continued success in the Georgia Country Awards. Their music has received regional and international airplay\, and the band has performed at notable venues including the House of Blues in New Orleans and festivals across the South.\n\n“We’re always looking to bring in artists who feel both exciting and connected to our community\, and Delta Circle is exactly that\,” said Maddie Greer\, Director of The Mars Theatre. “They represent the kind of energy and talent that makes live music at The Mars so special.”\n\nWith a 223-seat capacity\, The Mars Theatre offers an intimate concert experience\, giving audiences the chance to connect with artists in a way larger venues simply can’t replicate.\nTickets are expected to move quickly. Patrons are encouraged to purchase in advance to secure their seats.\n\nFor tickets and more information\, visit:\nhttps://marstheatre.com
URL:https://springfieldga.org/event/delta-circle-at-the-mars-theatre/
LOCATION:Mars Theatre\, 106 S Laurel St\, Springfield\, GA\, 31329\, United States
CATEGORIES:Community Events
ATTACH;FMTTYPE=image/png:https://springfieldga.org/wp-content/uploads/2026/04/7-16-26-Event-Flyer-or-Mars-Theatre-Delta-Circle.png
ORGANIZER;CN="Mars Theatre":MAILTO:info@marstheatre.com
END:VEVENT
BEGIN:VEVENT
DTSTART;TZID=UTC:20260807T180000
DTEND;TZID=UTC:20260807T210000
DTSTAMP:20260421T234430
CREATED:20260410T170849Z
LAST-MODIFIED:20260410T170849Z
UID:10000805-1786125600-1786136400@springfieldga.org
SUMMARY:August First Friday
DESCRIPTION:
URL:https://springfieldga.org/event/august-first-friday-2/
LOCATION:Mars Theatre\, 106 S Laurel St\, Springfield\, GA\, 31329\, United States
CATEGORIES:Community Events,Vendor Event
ATTACH;FMTTYPE=image/png:https://springfieldga.org/wp-content/uploads/2026/04/Dates-Templates-04-scaled.png
ORGANIZER;CN="City of Springfield":MAILTO:jsmith@springfieldga.org
END:VEVENT
BEGIN:VEVENT
DTSTART;TZID=UTC:20260904T180000
DTEND;TZID=UTC:20260904T210000
DTSTAMP:20260421T234430
CREATED:20260410T170931Z
LAST-MODIFIED:20260410T170931Z
UID:10000806-1788544800-1788555600@springfieldga.org
SUMMARY:September First Friday
DESCRIPTION:
URL:https://springfieldga.org/event/september-first-friday/
LOCATION:Mars Theatre\, 106 S Laurel St\, Springfield\, GA\, 31329\, United States
CATEGORIES:Community Events,Vendor Event
ATTACH;FMTTYPE=image/png:https://springfieldga.org/wp-content/uploads/2026/04/Dates-Templates-05-scaled.png
ORGANIZER;CN="City of Springfield":MAILTO:jsmith@springfieldga.org
END:VEVENT
BEGIN:VEVENT
DTSTART;TZID=UTC:20261002T180000
DTEND;TZID=UTC:20261002T210000
DTSTAMP:20260421T234430
CREATED:20260410T171427Z
LAST-MODIFIED:20260410T171427Z
UID:10000807-1790964000-1790974800@springfieldga.org
SUMMARY:October First Friday
DESCRIPTION:
URL:https://springfieldga.org/event/october-first-friday/
LOCATION:Mars Theatre\, 106 S Laurel St\, Springfield\, GA\, 31329\, United States
CATEGORIES:Community Events,Vendor Event
ATTACH;FMTTYPE=image/png:https://springfieldga.org/wp-content/uploads/2026/04/Dates-Templates-03-scaled.png
ORGANIZER;CN="City of Springfield":MAILTO:jsmith@springfieldga.org
END:VEVENT
BEGIN:VEVENT
DTSTART;TZID=UTC:20261114T100000
DTEND;TZID=UTC:20261114T220000
DTSTAMP:20260421T234430
CREATED:20260224T174054Z
LAST-MODIFIED:20260224T174054Z
UID:10000792-1794650400-1794693600@springfieldga.org
SUMMARY:2026 Springfield Fall Festival
DESCRIPTION:We pride ourselves on providing excellent food vendors\, first class live entertainment\, activities for the whole family\, and a unique variety of vendors that will attract visitors to our festival from all over the Southeast. The one-day event has been a blast for visitors and has attracted thousands of people each year. We cannot wait for this year’s festival!\n\n\n\n\n\n\n\n\n\n\n\n\nRegister as a vendor or sponsor at https://www.eventeny.com/company/springfieldfallfestival/
URL:https://springfieldga.org/event/2026-springfield-fall-festival/
LOCATION:Laurel Street\, 130 S. Laurel Street\, Springfield\, GA\, 31329\, United States
CATEGORIES:Community Events
END:VEVENT
END:VCALENDAR