BEGIN:VCALENDAR
VERSION:2.0
PRODID:-//The City of Springfield, Georgia - ECPv6.15.20//NONSGML v1.0//EN
CALSCALE:GREGORIAN
METHOD:PUBLISH
X-WR-CALNAME:The City of Springfield, Georgia
X-ORIGINAL-URL:https://springfieldga.org
X-WR-CALDESC:Events for The City of Springfield, Georgia
REFRESH-INTERVAL;VALUE=DURATION:PT1H
X-Robots-Tag:noindex
X-PUBLISHED-TTL:PT1H
BEGIN:VTIMEZONE
TZID:UTC
BEGIN:STANDARD
TZOFFSETFROM:+0000
TZOFFSETTO:+0000
TZNAME:UTC
DTSTART:20240101T000000
END:STANDARD
END:VTIMEZONE
BEGIN:VEVENT
DTSTART;TZID=UTC:20251103T180000
DTEND;TZID=UTC:20251103T181500
DTSTAMP:20260422T011339
CREATED:20251010T201039Z
LAST-MODIFIED:20251010T201043Z
UID:10000611-1762192800-1762193700@springfieldga.org
SUMMARY:Public Hearing of the Planning & Zoning Board
DESCRIPTION:Public Hearing Time: 6:00 pm  \nPublic Hearing to hear comments on: \n\nRequest for Special Exemption for an accessory building located within Side setback at R-1 Zoned property located at 107 Laurel Pointe Dr. (Parcel S128-11).\n\n  \n\nRequest for Special Exemption for an accessory building located within front setback at R-1 Zoned property located at 301 E. Fourth St. (Parcel S119-17).\n\n  \n\nRequest for Special Exemption for an accessory building located within Side setback at R-1 Zoned property located at 118 Laurel Pointe Dr. (Parcel S128-10).\n\n  \n\nRequest for Conditional Use for restaurant at DT Zoned property located at 116 N. Laurel St. (Parcel S102-35A).\n\n  \nAny interested parties are encouraged to attend the public hearings to speak for or against these items. Questions can be directed to the Zoning Office at Springfield City Hall by calling (912) 754-7617. Written comments can be submitted to ephillips@Springfieldga.org. \nThe press and public are invited to attend. \nThe Public Hearing Policies and Procedures are adopted by ordinance and can be found in section 5.1.6.2 Policies and Procedures of the Zoning Ordinance of the City of Springfield. This section can be found here:  https://library.municode.com/ga/springfield/codes/code_of_ordinances?nodeId=PTIICOSPGE_APXAZOOR_ARTVPLZOPR_5.1ORPRPLZOBO
URL:https://springfieldga.org/event/public-hearing-of-the-planning-zoning-board-5-12/
LOCATION:City Hall\, 130 S. Laurel Street\, Springfield\, GA\, 31329\, United States
CATEGORIES:Administrative
ORGANIZER;CN="City of Springfield":MAILTO:jsmith@springfieldga.org
END:VEVENT
BEGIN:VEVENT
DTSTART;TZID=UTC:20251103T180000
DTEND;TZID=UTC:20251103T190000
DTSTAMP:20260422T011339
CREATED:20241114T192509Z
LAST-MODIFIED:20260107T134330Z
UID:10000658-1762192800-1762196400@springfieldga.org
SUMMARY:Planning & Zoning Board Meeting
DESCRIPTION:Planning Board Meeting Time:  6:00 pm  \nMonthly meeting of the Springfield Planning and Zoning Board. Agenda or minutes can be found here: https://springfieldga.org/agenda-center/ \nThe Planning Board regularly meets on the Monday prior to the second Tuesday of each month. Meetings length will vary based on business discussion. \nThe press and public are invited to attend. \nAny interested parties are encouraged to attend the meetings. The public is encouraged to ask questions or seek clarification about agenda items prior to the meeting. Questions can be directed to the Zoning Office at Springfield City Hall by calling (912) 754-7617. Written comments can be submitted to ephillips@Springfieldga.org. \nThe Public Hearing Policies and Procedures are adopted by ordinance and can be found in section 5.1.6.2 Policies and Procedures of the Zoning Ordinance of the City of Springfield. This section can be found here:  https://library.municode.com/ga/springfield/codes/code_of_ordinances?nodeId=PTIICOSPGE_APXAZOOR_ARTVPLZOPR_5.1ORPRPLZOBO
URL:https://springfieldga.org/event/planning-zoning-board-meeting-7/2025-11-03/
LOCATION:City Hall\, 130 S. Laurel Street\, Springfield\, GA\, 31329\, United States
CATEGORIES:Administrative
ORGANIZER;CN="City of Springfield":MAILTO:jsmith@springfieldga.org
END:VEVENT
BEGIN:VEVENT
DTSTART;VALUE=DATE:20251108
DTEND;VALUE=DATE:20251109
DTSTAMP:20260422T011339
CREATED:20250527T190918Z
LAST-MODIFIED:20250527T190918Z
UID:10000705-1762560000-1762646399@springfieldga.org
SUMMARY:Springfield Fall Festival
DESCRIPTION:The Annual Springfield Fall Festival is scheduled for November 8\, 2025. This is a one day festival in the heart of downtown Springfield. Vendors\, Food Trucks\, Music and more fill the downtown streets. You can find more information on the website at www.SpringfieldFallFestvial.com
URL:https://springfieldga.org/event/springfield-fall-festival-2/
LOCATION:Laurel Street\, 130 S. Laurel Street\, Springfield\, GA\, 31329\, United States
CATEGORIES:Community Events,Vendor Event
ATTACH;FMTTYPE=image/png:https://springfieldga.org/wp-content/uploads/2025/05/Final-Images-01-scaled.png
ORGANIZER;CN="City of Springfield":MAILTO:jsmith@springfieldga.org
END:VEVENT
BEGIN:VEVENT
DTSTART;TZID=UTC:20251118T180000
DTEND;TZID=UTC:20251118T181500
DTSTAMP:20260422T011339
CREATED:20251010T201329Z
LAST-MODIFIED:20251010T201329Z
UID:10000732-1763488800-1763489700@springfieldga.org
SUMMARY:Public Hearing of the Mayor and Council
DESCRIPTION:Public Hearing Time: 6:00 pm  \nPublic Hearing to hear comments on: \n\nRequest for Special Exemption for an accessory building located within Side setback at R-1 Zoned property located at 107 Laurel Pointe Dr. (Parcel S128-11).\n\n  \n\nRequest for Special Exemption for an accessory building located within front setback at R-1 Zoned property located at 301 E. Fourth St. (Parcel S119-17).\n\n  \n\nRequest for Special Exemption for an accessory building located within Side setback at R-1 Zoned property located at 118 Laurel Pointe Dr. (Parcel S128-10).\n\n  \n\nRequest for Conditional Use for restaurant at DT Zoned property located at 116 N. Laurel St. (Parcel S102-35A).\n\n  \nAny interested parties are encouraged to attend the public hearings to speak for or against these items. Questions can be directed to the Zoning Office at Springfield City Hall by calling (912) 754-7617. Written comments can be submitted to ephillips@Springfieldga.org. \nThe press and public are invited to attend. \nThe Public Hearing Policies and Procedures are adopted by ordinance and can be found in section 5.1.6.2 Policies and Procedures of the Zoning Ordinance of the City of Springfield. This section can be found here:  https://library.municode.com/ga/springfield/codes/code_of_ordinances?nodeId=PTIICOSPGE_APXAZOOR_ARTVPLZOPR_5.1ORPRPLZOBO
URL:https://springfieldga.org/event/public-hearing-of-the-mayor-and-council-7/
LOCATION:City Hall\, 130 S. Laurel Street\, Springfield\, GA\, 31329\, United States
CATEGORIES:Administrative
ORGANIZER;CN="City of Springfield":MAILTO:jsmith@springfieldga.org
END:VEVENT
BEGIN:VEVENT
DTSTART;TZID=UTC:20251118T180000
DTEND;TZID=UTC:20251118T200000
DTSTAMP:20260422T011339
CREATED:20251014T174326Z
LAST-MODIFIED:20251014T174340Z
UID:10000398-1763488800-1763496000@springfieldga.org
SUMMARY:City Council Meeting
DESCRIPTION:Monthly meeting of the Mayor and City Council. \nPlease visit the Agenda Center for current agendas. Minutes  from past meetings can be requested by emailing jsmith@springfieldga.org \nCity Council regularly meets on the second Tuesday of each month.
URL:https://springfieldga.org/event/city-council-meeting-3-5/
LOCATION:City Hall\, 130 S. Laurel Street\, Springfield\, GA\, 31329\, United States
CATEGORIES:Administrative
ORGANIZER;CN="City of Springfield":MAILTO:jsmith@springfieldga.org
END:VEVENT
BEGIN:VEVENT
DTSTART;TZID=UTC:20251121T180000
DTEND;TZID=UTC:20251121T210000
DTSTAMP:20260422T011339
CREATED:20251118T135527Z
LAST-MODIFIED:20251118T135527Z
UID:10000761-1763748000-1763758800@springfieldga.org
SUMMARY:Wicked for Good Premiere Party
DESCRIPTION: The Historic Mars Theatre is thrilled to announce a special community premiere celebration for Wicked: Part Two – For Good\, bringing a touch of Oz to Springfield with an evening of treats\, themed experiences\, and collaborations with beloved local businesses.\nThe event will take place on November 21st\, 2025\, transforming The Mars Theatre lobby into a magical\, green-tinged celebration inspired by the world of Wicked. Guests are invited to arrive early to enjoy exclusive premiere-night surprises courtesy of our sponsors:\n✨ Featured Local Partners & Premiere Treats\n\n\nSimplicity Hair Studio & The Donut Shop are teaming up to create Wicked-themed donuts\, available first-come\, first-served. Expect spellbinding colors\, playful designs\, and treats almost too pretty to eat.\n\n\nEllen Claire Soapery will be on-site with a pop-up selection of Wicked-inspired bubble and bath products\, adding a fragrant\, whimsical touch to the evening — think Glinda-approved bubbles and emerald-green bath magic.\n\n\nOld Towne Barbers & The Sweet SWicketpot Savannah have contributed to transforming The Mars lobby with Wicked-themed decorations and atmosphere\, making the space as photo-ready as a scene from Oz.\n\n\nMeet Elphaba and Glinda before the movie!\n\n\nBefore the film begins\, guests can enjoy a themed photo booth\, special décor\, and surprise giveaways connected to the world of Wicked. Costumes are welcome and encouraged.\nA Celebration of Community & Movie Magic\n“We love any excuse to bring our community together\, but this event feels especially magical\,” said Maddie Greer\, Director of The Mars Theatre. “It’s an honor to collaborate with so many fantastic local businesses to create a one-of-a-kind premiere night that Springfield won’t soon forget.”\nEvent Details\n\n\nFilm: Wicked: Part Two – For Good\n\n\nDate: November 21st\, 2025\n\n\nTime: 7pm (Doors open early at 6 pm for treats and photo ops)\n\n\nLocation: The Mars Theatre\, 106 S. Laurel St.\, Springfield\, GA\n\n\nTickets: Available at www.marstheatre.com or at the theatre box office\n\n\nFor more information\, please contact:\n\nMaddie Greer\nTheatre Director\n912-658-1156
URL:https://springfieldga.org/event/wicked-for-good-premiere-party/
LOCATION:Mars Theatre\, 106 S Laurel St\, Springfield\, GA\, 31329\, United States
CATEGORIES:Community Events
ATTACH;FMTTYPE=image/png:https://springfieldga.org/wp-content/uploads/2025/11/Premiere-Party.png
ORGANIZER;CN="Mars Theatre":MAILTO:info@marstheatre.com
END:VEVENT
BEGIN:VEVENT
DTSTART;TZID=UTC:20251122T090000
DTEND;TZID=UTC:20251122T130000
DTSTAMP:20260422T011339
CREATED:20251112T152423Z
LAST-MODIFIED:20251112T152423Z
UID:10000760-1763802000-1763816400@springfieldga.org
SUMMARY:Men's Clothing Giveaway
DESCRIPTION:Men’s Clothing Giveaway sponsored by Adam’s Answer (Springfield Oaks Church) \nUlmer Park Saturday\, November 22\, 2025 from 9:00 a.m until 1:00 p.m
URL:https://springfieldga.org/event/mens-clothing-giveaway/
LOCATION:Ulmer Ball Park\, 503 N. Oak Street\, Springfield\, Georgia\, 31329
CATEGORIES:Community Events
ATTACH;FMTTYPE=image/jpeg:https://springfieldga.org/wp-content/uploads/2025/11/Adams-Answer-Clothing-Giveaway-scaled.jpg
END:VEVENT
BEGIN:VEVENT
DTSTART;TZID=UTC:20251124T173000
DTEND;TZID=UTC:20251124T173000
DTSTAMP:20260422T011339
CREATED:20251014T173737Z
LAST-MODIFIED:20251014T173809Z
UID:10000734-1764005400-1764005400@springfieldga.org
SUMMARY:Meeting of the Downtown Development Authority of Springfield\, GA
DESCRIPTION:Regular Time: 4:30 pm  \nMonthly meeting of the Springfield Downtown Development Authority (DDA). \nAgenda or minutes can be requested by emailing ephillips@springfieldga.org \nThe DDA typically meets on the third Monday of each month. \nMeetings length will vary based on business discussion.
URL:https://springfieldga.org/event/meeting-of-the-downtown-development-authority-of-springfield-ga-2-3/2025-11-24/
LOCATION:City Hall\, 130 S. Laurel Street\, Springfield\, GA\, 31329\, United States
CATEGORIES:Administrative
ORGANIZER;CN="City of Springfield":MAILTO:jsmith@springfieldga.org
END:VEVENT
END:VCALENDAR