BEGIN:VCALENDAR
VERSION:2.0
PRODID:-//The City of Springfield, Georgia - ECPv6.15.20//NONSGML v1.0//EN
CALSCALE:GREGORIAN
METHOD:PUBLISH
X-WR-CALNAME:The City of Springfield, Georgia
X-ORIGINAL-URL:https://springfieldga.org
X-WR-CALDESC:Events for The City of Springfield, Georgia
REFRESH-INTERVAL;VALUE=DURATION:PT1H
X-Robots-Tag:noindex
X-PUBLISHED-TTL:PT1H
BEGIN:VTIMEZONE
TZID:UTC
BEGIN:STANDARD
TZOFFSETFROM:+0000
TZOFFSETTO:+0000
TZNAME:UTC
DTSTART:20220101T000000
END:STANDARD
END:VTIMEZONE
BEGIN:VEVENT
DTSTART;VALUE=DATE:20230529
DTEND;VALUE=DATE:20230530
DTSTAMP:20260421T151436
CREATED:20230427T152240Z
LAST-MODIFIED:20230427T152240Z
UID:10000122-1685318400-1685404799@springfieldga.org
SUMMARY:City Hall Closed
DESCRIPTION:City Hall will be closed in observance of Memorial Day.
URL:https://springfieldga.org/event/city-hall-closed-5/
LOCATION:City Hall\, 130 S. Laurel Street\, Springfield\, GA\, 31329\, United States
CATEGORIES:Administrative
ORGANIZER;CN="City of Springfield":MAILTO:jsmith@springfieldga.org
END:VEVENT
BEGIN:VEVENT
DTSTART;TZID=UTC:20230602T160000
DTEND;TZID=UTC:20230602T200000
DTSTAMP:20260421T151436
CREATED:20230427T151312Z
LAST-MODIFIED:20230427T152940Z
UID:10000257-1685721600-1685736000@springfieldga.org
SUMMARY:June First Friday
DESCRIPTION:A Magical Night Out\nMars Theatre\n\nInfo coming soon\nParking lot next to the Theatre will be closed for vendors and food trucks from 4pm to 8pm.\n\nFood Trucks:\n\nKona Ice\n\nVendors:\n\nFull list coming soon
URL:https://springfieldga.org/event/june-first-friday/
LOCATION:City Hall\, 130 S. Laurel Street\, Springfield\, GA\, 31329\, United States
CATEGORIES:Administrative,Community Events,Vendor Event
ATTACH;FMTTYPE=image/png:https://springfieldga.org/wp-content/uploads/2023/04/2023-First-Friday-FB-Headers-with-Dates-05.png
ORGANIZER;CN="City of Springfield":MAILTO:jsmith@springfieldga.org
END:VEVENT
END:VCALENDAR