BEGIN:VCALENDAR
VERSION:2.0
PRODID:-//The City of Springfield, Georgia - ECPv6.15.20//NONSGML v1.0//EN
CALSCALE:GREGORIAN
METHOD:PUBLISH
X-WR-CALNAME:The City of Springfield, Georgia
X-ORIGINAL-URL:https://springfieldga.org
X-WR-CALDESC:Events for The City of Springfield, Georgia
REFRESH-INTERVAL;VALUE=DURATION:PT1H
X-Robots-Tag:noindex
X-PUBLISHED-TTL:PT1H
BEGIN:VTIMEZONE
TZID:UTC
BEGIN:STANDARD
TZOFFSETFROM:+0000
TZOFFSETTO:+0000
TZNAME:UTC
DTSTART:20220101T000000
END:STANDARD
END:VTIMEZONE
BEGIN:VEVENT
DTSTART;TZID=UTC:20230615T180000
DTEND;TZID=UTC:20230615T181500
DTSTAMP:20260421T163238
CREATED:20230510T143933Z
LAST-MODIFIED:20230605T144230Z
UID:10000130-1686852000-1686852900@springfieldga.org
SUMMARY:Public Hearing of Mayor & Council
DESCRIPTION:Public Hearing to hear comments on: \n\nOrdinance 2023-11 proposing changes to the Zoning Ordinance\, Article III\, Section 3.7 “DT” Downtown District Building and Site Regulations.\nRequest for a Special Exemption to allow a digital sign within the DT Downtown District located at 712 N. Laurel Street (Parcel S101-2)\n\nAdditional public hearings on the first two items will be: \nPublic Hearing of Planning & Zoning Board on June 5th at 6:00pm at Springfield City Hall. \nThe press and public are invited to attend.
URL:https://springfieldga.org/event/public-hearing-of-mayor-council/
LOCATION:City Hall\, 130 S. Laurel Street\, Springfield\, GA\, 31329\, United States
ORGANIZER;CN="City of Springfield":MAILTO:jsmith@springfieldga.org
END:VEVENT
BEGIN:VEVENT
DTSTART;TZID=UTC:20230615T180000
DTEND;TZID=UTC:20230615T181500
DTSTAMP:20260421T163238
CREATED:20230605T175550Z
LAST-MODIFIED:20230605T175550Z
UID:10000132-1686852000-1686852900@springfieldga.org
SUMMARY:Public Hearing - Annexation
DESCRIPTION:The City of Springfield Planning and Zoning Board and City of Springfield Mayor and Council will hold public hearings on Thursday\, June 15\, 2023 beginning at 6:00pm to receive comments on the following items: \nRequest for Annexation and Rezoning of \nParcels 429A-05 & 429-1B located at 283 Industrial Boulevard and consisting of approximately 6.4 Acres; and \nParcels 429A-1C01 & 429A-1C located on Ebenezer Road consisting of approximately 23.05 acres. \nEach of the four properties above currently have an Effingham County Zoning designation of I-1 and are requesting a Springfield Zoning designation of I-1. \nAll public hearings and meetings will be held in the Springfield Council Room located at 130 S. Laurel Street (located between Springfield City Hall and Springfield Police Department).
URL:https://springfieldga.org/event/public-hearing-annexation-2/
LOCATION:City Hall\, 130 S. Laurel Street\, Springfield\, GA\, 31329\, United States
CATEGORIES:Administrative
ORGANIZER;CN="City of Springfield":MAILTO:jsmith@springfieldga.org
END:VEVENT
BEGIN:VEVENT
DTSTART;TZID=UTC:20230615T180000
DTEND;TZID=UTC:20230615T200000
DTSTAMP:20260421T163238
CREATED:20200603T170548Z
LAST-MODIFIED:20230608T150044Z
UID:10000099-1686852000-1686859200@springfieldga.org
SUMMARY:City Council Meeting
DESCRIPTION:2023-06-15_Agenda_PH & Meeting \nMonthly meeting of the Mayor and City Council \nAgenda or minutes can be requested by emailing jsmith@springfieldga.org \nCity Council regularly meets on the second Tuesday of each month.
URL:https://springfieldga.org/event/city-council-meeting-2020-07-14-2023-06-13/
LOCATION:City Hall\, 130 S. Laurel Street\, Springfield\, GA\, 31329\, United States
ORGANIZER;CN="City of Springfield":MAILTO:jsmith@springfieldga.org
END:VEVENT
END:VCALENDAR