BEGIN:VCALENDAR
VERSION:2.0
PRODID:-//The City of Springfield, Georgia - ECPv6.15.20//NONSGML v1.0//EN
CALSCALE:GREGORIAN
METHOD:PUBLISH
X-ORIGINAL-URL:https://springfieldga.org
X-WR-CALDESC:Events for The City of Springfield, Georgia
REFRESH-INTERVAL;VALUE=DURATION:PT1H
X-Robots-Tag:noindex
X-PUBLISHED-TTL:PT1H
BEGIN:VTIMEZONE
TZID:UTC
BEGIN:STANDARD
TZOFFSETFROM:+0000
TZOFFSETTO:+0000
TZNAME:UTC
DTSTART:20220101T000000
END:STANDARD
END:VTIMEZONE
BEGIN:VEVENT
DTSTART;TZID=UTC:20230710T180000
DTEND;TZID=UTC:20230710T181500
DTSTAMP:20260421T163253
CREATED:20230427T141408Z
LAST-MODIFIED:20230609T201234Z
UID:10000117-1689012000-1689012900@springfieldga.org
SUMMARY:Public Hearing of Planning and Zoning Board
DESCRIPTION:Public Hearing Time: 6:00 pm  \nPublic Hearing to hear comments on: \n\nRequest for a Conditional Use to allow an apartment building at 601 N. Ash Street (Parcel S100-56). Property is currently zoned B-1 for Medial Use.\nRequest for a Conditional Use to operate an Auto Brokerage from property located at 712 N. Laurel Street (Parcel S101-2). Property is currently zoned DT- Downtown District.\n\nAny interested parties are encouraged to attend the public hearings to speak for or against these items. Questions can be directed to the Zoning Office at Springfield City Hall by calling (912) 754-7617. Written comments can be submitted to ephillips@Springfieldga.org. \nThe press and public are invited to attend. \nThe Public Hearing Policies and Procedures are adopted by ordinance and can be found in section 5.1.6.2 Policies and Procedures of the Zoning Ordinance of the City of Springfield. This section can be found here:  https://library.municode.com/ga/springfield/codes/code_of_ordinances?nodeId=PTIICOSPGE_APXAZOOR_ARTVPLZOPR_5.1ORPRPLZOBO
URL:https://springfieldga.org/event/public-hearing-of-planning-and-zoning-board-9-2023-07-03/
LOCATION:City Hall\, 130 S. Laurel Street\, Springfield\, GA\, 31329\, United States
CATEGORIES:Administrative
ORGANIZER;CN="City of Springfield":MAILTO:jsmith@springfieldga.org
END:VEVENT
BEGIN:VEVENT
DTSTART;TZID=UTC:20230710T180000
DTEND;TZID=UTC:20230710T190000
DTSTAMP:20260421T163253
CREATED:20230427T142233Z
LAST-MODIFIED:20230427T142458Z
UID:10000251-1689012000-1689015600@springfieldga.org
SUMMARY:Planning & Zoning Board Meeting
DESCRIPTION:Planning Board Meeting Time:  6:00 pm  \nMonthly meeting of the Springfield Planning and Zoning Board. \nAgenda or minutes can be requested by emailing ephillips@springfieldga.org \nThe Planning Board regularly meets on the Monday prior to the second Tuesday of each month. The July meeting date has been moved to avoid conflicts with the July 4th Holiday weekend. \nMeetings length will vary based on business discussion.
URL:https://springfieldga.org/event/planning-zoning-board-meeting-3-2023-07-03/
LOCATION:City Hall\, 130 S. Laurel Street\, Springfield\, GA\, 31329\, United States
CATEGORIES:Administrative
ORGANIZER;CN="City of Springfield":MAILTO:jsmith@springfieldga.org
END:VEVENT
BEGIN:VEVENT
DTSTART;TZID=UTC:20230711T180000
DTEND;TZID=UTC:20230711T181500
DTSTAMP:20260421T163253
CREATED:20230609T201336Z
LAST-MODIFIED:20230609T201336Z
UID:10000262-1689098400-1689099300@springfieldga.org
SUMMARY:Public Hearing of City Council
DESCRIPTION:The City of Springfield Mayor and Council will hold public hearings\, with regular meeting immediately following the close of the public hearings on  July 11\, 2023 beginning at 6:00pm.  \nThe above mentioned public hearings will be held to receive comments on the following items: \n\nRequest for a Conditional Use to allow an apartment building at 601 N. Ash Street (Parcel S100-56). Property is currently zoned B-1 for Medial Use.\nRequest for a Conditional Use to operate an Auto Brokerage from property located at 712 N. Laurel Street (Parcel S101-2). Property is currently zoned DT- Downtown District.\n\nAny interested parties are encouraged to attend the public hearings to speak for or against these items. Questions can be directed to the Zoning Office at Springfield City Hall by calling (912) 754-7617. \nAll public hearings and meetings will be held in the Springfield Council Room located at 130 S. Laurel Street (located between Springfield City Hall and Springfield Police Department).
URL:https://springfieldga.org/event/public-hearing-of-city-council-11/
LOCATION:City Hall\, 130 S. Laurel Street\, Springfield\, GA\, 31329\, United States
CATEGORIES:Administrative
ORGANIZER;CN="City of Springfield":MAILTO:jsmith@springfieldga.org
END:VEVENT
BEGIN:VEVENT
DTSTART;TZID=UTC:20230711T180000
DTEND;TZID=UTC:20230711T200000
DTSTAMP:20260421T163253
CREATED:20200603T170548Z
LAST-MODIFIED:20230706T192510Z
UID:10000101-1689098400-1689105600@springfieldga.org
SUMMARY:City Council Meeting
DESCRIPTION:City of Springfield 2023-07-11_Agenda_PH & Meeting \nMonthly meeting of the Mayor and City Council \nAgenda or minutes can be requested by emailing jsmith@springfieldga.org \nCity Council regularly meets on the second Tuesday of each month.
URL:https://springfieldga.org/event/city-council-meeting-2020-07-14-2023-07-11/
LOCATION:City Hall\, 130 S. Laurel Street\, Springfield\, GA\, 31329\, United States
ORGANIZER;CN="City of Springfield":MAILTO:jsmith@springfieldga.org
END:VEVENT
END:VCALENDAR