BEGIN:VCALENDAR
VERSION:2.0
PRODID:-//The City of Springfield, Georgia - ECPv6.15.20//NONSGML v1.0//EN
CALSCALE:GREGORIAN
METHOD:PUBLISH
X-ORIGINAL-URL:https://springfieldga.org
X-WR-CALDESC:Events for The City of Springfield, Georgia
REFRESH-INTERVAL;VALUE=DURATION:PT1H
X-Robots-Tag:noindex
X-PUBLISHED-TTL:PT1H
BEGIN:VTIMEZONE
TZID:UTC
BEGIN:STANDARD
TZOFFSETFROM:+0000
TZOFFSETTO:+0000
TZNAME:UTC
DTSTART:20220101T000000
END:STANDARD
END:VTIMEZONE
BEGIN:VEVENT
DTSTART;TZID=UTC:20230725T180000
DTEND;TZID=UTC:20230725T183000
DTSTAMP:20260421T162601
CREATED:20230717T174516Z
LAST-MODIFIED:20230717T174516Z
UID:10000263-1690308000-1690309800@springfieldga.org
SUMMARY:Public Hearing Regarding Annexation
DESCRIPTION:Public Notice \nThe ity of Springfield Planning and Zoning Board and City of Springfield Mayor and Council will hold public hearings on July 25\, 2023 beginning at 6:00pm to receive comments on the following items: \n  \n\nRequest for Annexation and Rezoning of Parcel 429A-3A\, located adjacent to 195 Industrial Blvd and consisting of approximately 1.29 acres; and Parcel 429A-3BUF located at the rear of westward parcels facing Industrial Blvd and consisting of approximately 1.16 acres. Both properties are currently zoned Effingham County Zoning I-1 and are requesting a Springfield Zoning designation of I-1.\n\n  \nAll public hearings and meetings will be held in the Springfield Council Room located at 130 S. Laurel Street (located between Springfield City Hall and Springfield Police Department).
URL:https://springfieldga.org/event/public-hearing-regarding-annexation/
LOCATION:City Hall\, 130 S. Laurel Street\, Springfield\, GA\, 31329\, United States
CATEGORIES:Administrative
ORGANIZER;CN="City of Springfield":MAILTO:jsmith@springfieldga.org
END:VEVENT
BEGIN:VEVENT
DTSTART;TZID=UTC:20230725T180000
DTEND;TZID=UTC:20230725T200000
DTSTAMP:20260421T162601
CREATED:20230718T170321Z
LAST-MODIFIED:20230718T170321Z
UID:10000264-1690308000-1690315200@springfieldga.org
SUMMARY:Special Called Meeting & Workshop
DESCRIPTION:Immediately following the close of 6:00 Public Hearing The City of Springfield Mayor and Council will hold a special called meeting reference: \n1.Consideration to Approve Preliminary Plat for Tebeau Crossing \n2. Consideration to Accept Proposed Reuse Funds for Tebeau Crossing \nThe City of Springfield Planning and Zoning Board and City of Springfield Mayor and Council will hold a workshop following adjournment of special called meeting reference: \n1.Downtown Design Guidelines \n2.Sign Ordinance \n3.Home Occupation Uses \nAll public hearings and meetings will be held in the Springfield Council Room located at 130 S. Laurel Street (located between Springfield City Hall and Springfield Police Department). \n  \n  \nIt is the policy of the City of Springfield that all City-sponsored public meetings and events are accessible to people with disabilities. If you need assistance in participating in this meeting or event due to a disability as defined under the ADA\, please call the City’s ADA Coordinator\, Jennifer Smith\, at (912) 754-7617 or e-mail jsmith@springfieldga.org at least three (3) business days prior to the scheduled meeting or event to request an accommodation.
URL:https://springfieldga.org/event/special-called-meeting-workshop/
LOCATION:City Hall\, 130 S. Laurel Street\, Springfield\, GA\, 31329\, United States
CATEGORIES:Administrative
ORGANIZER;CN="City of Springfield":MAILTO:jsmith@springfieldga.org
END:VEVENT
END:VCALENDAR