BEGIN:VCALENDAR
VERSION:2.0
PRODID:-//The City of Springfield, Georgia - ECPv6.15.20//NONSGML v1.0//EN
CALSCALE:GREGORIAN
METHOD:PUBLISH
X-WR-CALNAME:The City of Springfield, Georgia
X-ORIGINAL-URL:https://springfieldga.org
X-WR-CALDESC:Events for The City of Springfield, Georgia
REFRESH-INTERVAL;VALUE=DURATION:PT1H
X-Robots-Tag:noindex
X-PUBLISHED-TTL:PT1H
BEGIN:VTIMEZONE
TZID:UTC
BEGIN:STANDARD
TZOFFSETFROM:+0000
TZOFFSETTO:+0000
TZNAME:UTC
DTSTART:20220101T000000
END:STANDARD
END:VTIMEZONE
BEGIN:VEVENT
DTSTART;TZID=UTC:20230731T180000
DTEND;TZID=UTC:20230731T181500
DTSTAMP:20260421T162459
CREATED:20230427T141408Z
LAST-MODIFIED:20230427T141647Z
UID:10000118-1690826400-1690827300@springfieldga.org
SUMMARY:Public Hearing of Planning and Zoning Board
DESCRIPTION:Public Hearing Time: 6:00 pm  \nPublic Hearing to hear comments on: \nThere are currently no items scheduled for this public hearing date. If there are no public hearings needed for this month\, the hearing will be cancelled.  \nAny interested parties are encouraged to attend the public hearings to speak for or against these items. Questions can be directed to the Zoning Office at Springfield City Hall by calling (912) 754-7617. Written comments can be submitted to ephillips@Springfieldga.org. \nThe press and public are invited to attend. \nThe Public Hearing Policies and Procedures are adopted by ordinance and can be found in section 5.1.6.2 Policies and Procedures of the Zoning Ordinance of the City of Springfield. This section can be found here:  https://library.municode.com/ga/springfield/codes/code_of_ordinances?nodeId=PTIICOSPGE_APXAZOOR_ARTVPLZOPR_5.1ORPRPLZOBO
URL:https://springfieldga.org/event/public-hearing-of-planning-and-zoning-board-9-2023-08-07/
LOCATION:City Hall\, 130 S. Laurel Street\, Springfield\, GA\, 31329\, United States
CATEGORIES:Administrative
ORGANIZER;CN="City of Springfield":MAILTO:jsmith@springfieldga.org
END:VEVENT
BEGIN:VEVENT
DTSTART;TZID=UTC:20230731T180000
DTEND;TZID=UTC:20230731T190000
DTSTAMP:20260421T162459
CREATED:20230427T142233Z
LAST-MODIFIED:20230427T142637Z
UID:10000252-1690826400-1690830000@springfieldga.org
SUMMARY:Planning & Zoning Board Meeting
DESCRIPTION:Planning Board Meeting Time:  6:00 pm  \nMonthly meeting of the Springfield Planning and Zoning Board. \nAgenda or minutes can be requested by emailing ephillips@springfieldga.org \nThe Planning Board regularly meets on the Monday prior to the second Tuesday of each month. \nMeetings length will vary based on business discussion.
URL:https://springfieldga.org/event/planning-zoning-board-meeting-3-2023-08-07/
LOCATION:City Hall\, 130 S. Laurel Street\, Springfield\, GA\, 31329\, United States
CATEGORIES:Administrative
ORGANIZER;CN="City of Springfield":MAILTO:jsmith@springfieldga.org
END:VEVENT
BEGIN:VEVENT
DTSTART;TZID=UTC:20230804T160000
DTEND;TZID=UTC:20230804T200000
DTSTAMP:20260421T162459
CREATED:20230427T151946Z
LAST-MODIFIED:20230427T152932Z
UID:10000259-1691164800-1691179200@springfieldga.org
SUMMARY:August First Friday
DESCRIPTION:Back to School Bash\nMars Theatre\n\nInfo coming soon\nParking lot next to the Theatre will be closed for vendors and food trucks from 4pm to 8pm.\n\n\nThe Back to School Showdown\nInflatable obstacle course will be set up next to the Theatre. Each school will compete against each other to see who is the best! Trophies and prizes for the winning team and school. Teams of four will compete in this relay event and the fastest time wins! \nFood Trucks:\n\nKona Ice\n\nVendors:\n\nFull list coming soon
URL:https://springfieldga.org/event/august-first-friday/
LOCATION:City Hall\, 130 S. Laurel Street\, Springfield\, GA\, 31329\, United States
CATEGORIES:Community Events,Vendor Event
ATTACH;FMTTYPE=image/png:https://springfieldga.org/wp-content/uploads/2023/04/2023-First-Friday-FB-Headers-with-Dates-07.png
ORGANIZER;CN="City of Springfield":MAILTO:jsmith@springfieldga.org
END:VEVENT
END:VCALENDAR