BEGIN:VCALENDAR
VERSION:2.0
PRODID:-//The City of Springfield, Georgia - ECPv6.15.20//NONSGML v1.0//EN
CALSCALE:GREGORIAN
METHOD:PUBLISH
X-WR-CALNAME:The City of Springfield, Georgia
X-ORIGINAL-URL:https://springfieldga.org
X-WR-CALDESC:Events for The City of Springfield, Georgia
REFRESH-INTERVAL;VALUE=DURATION:PT1H
X-Robots-Tag:noindex
X-PUBLISHED-TTL:PT1H
BEGIN:VTIMEZONE
TZID:UTC
BEGIN:STANDARD
TZOFFSETFROM:+0000
TZOFFSETTO:+0000
TZNAME:UTC
DTSTART:20220101T000000
END:STANDARD
END:VTIMEZONE
BEGIN:VEVENT
DTSTART;TZID=UTC:20230829T180000
DTEND;TZID=UTC:20230829T190000
DTSTAMP:20260421T133420
CREATED:20230825T175411Z
LAST-MODIFIED:20230825T175411Z
UID:10000266-1693332000-1693335600@springfieldga.org
SUMMARY:Special Called Meeting and Workshop
DESCRIPTION:The City of Springfield Mayor and Council will hold a special called meeting on Tuesday August 29th\, 2023 at 6:00 p.m.\, in the Springfield Council Room located at 130 S. Laurel St. reference:\n\n\n\n• Consideration to approve Resolution R2023-11: Providing Issuance of City of Springfield Water and Sewer Revenue Bond\, Series 2023\n\n\n\n• Presentation of Ordinance 2023-21: Conditionally Rezone Parcel S100-56 Located at 601 North Ash Street from a Zoning Classification Of B-1 Medical Only to a Zoning Classification of B-1 for Limited Uses\n\n\n\n• Discussion- Discontinuing the use of the sign on Hwy 119\n\n\n\nImmediately following the close of the Special Called Meeting\, Th City of Springfield Mayor and Council will hold a workshop reference:\n\n\n\n• Alcohol Ordinance
URL:https://springfieldga.org/event/special-called-meeting-and-workshop/
LOCATION:City Hall\, 130 S. Laurel Street\, Springfield\, GA\, 31329\, United States
CATEGORIES:Administrative
ORGANIZER;CN="City of Springfield":MAILTO:jsmith@springfieldga.org
END:VEVENT
END:VCALENDAR