BEGIN:VCALENDAR
VERSION:2.0
PRODID:-//The City of Springfield, Georgia - ECPv6.15.20//NONSGML v1.0//EN
CALSCALE:GREGORIAN
METHOD:PUBLISH
X-ORIGINAL-URL:https://springfieldga.org
X-WR-CALDESC:Events for The City of Springfield, Georgia
REFRESH-INTERVAL;VALUE=DURATION:PT1H
X-Robots-Tag:noindex
X-PUBLISHED-TTL:PT1H
BEGIN:VTIMEZONE
TZID:UTC
BEGIN:STANDARD
TZOFFSETFROM:+0000
TZOFFSETTO:+0000
TZNAME:UTC
DTSTART:20230101T000000
END:STANDARD
END:VTIMEZONE
BEGIN:VEVENT
DTSTART;TZID=UTC:20240415T173000
DTEND;TZID=UTC:20240415T183000
DTSTAMP:20260422T091652
CREATED:20231213T175720Z
LAST-MODIFIED:20231213T175821Z
UID:10000292-1713202200-1713205800@springfieldga.org
SUMMARY:Meeting of the Downtown Development Authority of Springfield\, GA
DESCRIPTION:Regular Time: 5:30 pm  \nMonthly meeting of the Springfield Downtown Development Authority (DDA). \nAgenda or minutes can be requested by emailing ephillips@springfieldga.org \nThe DDA typically meets on the third Monday of each month. \nMeetings length will vary based on business discussion.
URL:https://springfieldga.org/event/meeting-of-the-downtown-development-authority-of-springfield-ga-2024-03-18/2024-04-15/
LOCATION:City Hall\, 130 S. Laurel Street\, Springfield\, GA\, 31329\, United States
CATEGORIES:Administrative
ORGANIZER;CN="City of Springfield":MAILTO:jsmith@springfieldga.org
END:VEVENT
BEGIN:VEVENT
DTSTART;TZID=UTC:20240417T170000
DTEND;TZID=UTC:20240417T200000
DTSTAMP:20260422T091652
CREATED:20240409T141306Z
LAST-MODIFIED:20240409T141306Z
UID:10000450-1713373200-1713384000@springfieldga.org
SUMMARY:2024 General and Primary Election Candidate Forums
DESCRIPTION:The Effingham County Chamber of Commerce is pleased to announce the 2024 General and Primary Election Candidate Forums in partnership with Kinetic by Windstream. These forums\, designed to promote civic engagement and informed decision-making\, will provide a unique opportunity for voters to interact with candidates vying for various offices crucial to the future of Effingham County. \nScheduled to take place at the historic Mars Theatre beginning at 5PM on April 17th and 18th\, the candidate forums will cover a range of races\, including but not limited to those for the School Board\, Board of Commissioners\, District Attorney\, Tax Commissioner\, Probate Judge\, and Clerk of Court. Independently moderated and open to the public\, these forums are essential to the democratic process\, allowing candidates to articulate their platforms and voters to assess their qualifications and positions on key issues. \nIn keeping with the Effingham Chamber of Commerce’s commitment to promoting a pro-business environment and sustained economic prosperity\, all candidates were provided with questionnaires\, the answers for which will be available at the forums. These questions have been carefully crafted with the greater business community in mind\, addressing economic development\, small business\, education\, and infrastructure issues. They aim to give voters valuable insights into the candidates’ positions and priorities. \nAll community members are invited to attend the 2024 Election Candidate Forums at the Mars Theater on April 17th and 18th. Doors will open at 4PM and the forums will commence promptly at 5PM. For more information\, please contact the Effingham County Chamber at 912.754.3301. \nFOR COMPLETE SCHEDULE VISIT: 2024 Candidate Forums – Effingham County Chamber of Commerce\, GA
URL:https://springfieldga.org/event/2024-general-and-primary-election-candidate-forums/2024-04-17/
LOCATION:Mars Theatre\, 106 S Laurel St\, Springfield\, GA\, 31329\, United States
CATEGORIES:Community Events
END:VEVENT
BEGIN:VEVENT
DTSTART;TZID=UTC:20240418T170000
DTEND;TZID=UTC:20240418T200000
DTSTAMP:20260422T091652
CREATED:20240409T141306Z
LAST-MODIFIED:20240409T141306Z
UID:10000451-1713459600-1713470400@springfieldga.org
SUMMARY:2024 General and Primary Election Candidate Forums
DESCRIPTION:The Effingham County Chamber of Commerce is pleased to announce the 2024 General and Primary Election Candidate Forums in partnership with Kinetic by Windstream. These forums\, designed to promote civic engagement and informed decision-making\, will provide a unique opportunity for voters to interact with candidates vying for various offices crucial to the future of Effingham County. \nScheduled to take place at the historic Mars Theatre beginning at 5PM on April 17th and 18th\, the candidate forums will cover a range of races\, including but not limited to those for the School Board\, Board of Commissioners\, District Attorney\, Tax Commissioner\, Probate Judge\, and Clerk of Court. Independently moderated and open to the public\, these forums are essential to the democratic process\, allowing candidates to articulate their platforms and voters to assess their qualifications and positions on key issues. \nIn keeping with the Effingham Chamber of Commerce’s commitment to promoting a pro-business environment and sustained economic prosperity\, all candidates were provided with questionnaires\, the answers for which will be available at the forums. These questions have been carefully crafted with the greater business community in mind\, addressing economic development\, small business\, education\, and infrastructure issues. They aim to give voters valuable insights into the candidates’ positions and priorities. \nAll community members are invited to attend the 2024 Election Candidate Forums at the Mars Theater on April 17th and 18th. Doors will open at 4PM and the forums will commence promptly at 5PM. For more information\, please contact the Effingham County Chamber at 912.754.3301. \nFOR COMPLETE SCHEDULE VISIT: 2024 Candidate Forums – Effingham County Chamber of Commerce\, GA
URL:https://springfieldga.org/event/2024-general-and-primary-election-candidate-forums/2024-04-18/
LOCATION:Mars Theatre\, 106 S Laurel St\, Springfield\, GA\, 31329\, United States
CATEGORIES:Community Events
END:VEVENT
BEGIN:VEVENT
DTSTART;VALUE=DATE:20240420
DTEND;VALUE=DATE:20240421
DTSTAMP:20260422T091652
CREATED:20240311T174002Z
LAST-MODIFIED:20240325T195611Z
UID:10000438-1713571200-1713657599@springfieldga.org
SUMMARY:Old Effingham Festival
DESCRIPTION:Saturday\, April 20th\, 2024 \n10am to 5pm \nDisplays from pre-historic to 1960 \nBuildings dating from 1790 to 1950 \nCanon Firing\, chair caining\, basket weaving\, vendors\, crafts\, food\, bake sale\, old tractors and cars\, bands\, childrens activities\, Photo show featuring people of Effingham plus doll and quilt show.  \nPlant sale from 10am to 3pm Sponsored by the Springfield Garden Club.  \n  \nVendor Spots available – Contact Historic Society at (912) 754-2170 or (912) 755-1145
URL:https://springfieldga.org/event/old-effingham-day/
LOCATION:Effingham Living History Site\, 1002 N. Pine Street\, Springfield\, GA\, 31329\, United States
CATEGORIES:Community Events
ATTACH;FMTTYPE=image/jpeg:https://springfieldga.org/wp-content/uploads/2024/03/Olde-Effingham-Day.jpg
END:VEVENT
END:VCALENDAR