BEGIN:VCALENDAR
VERSION:2.0
PRODID:-//The City of Springfield, Georgia - ECPv6.15.20//NONSGML v1.0//EN
CALSCALE:GREGORIAN
METHOD:PUBLISH
X-WR-CALNAME:The City of Springfield, Georgia
X-ORIGINAL-URL:https://springfieldga.org
X-WR-CALDESC:Events for The City of Springfield, Georgia
REFRESH-INTERVAL;VALUE=DURATION:PT1H
X-Robots-Tag:noindex
X-PUBLISHED-TTL:PT1H
BEGIN:VTIMEZONE
TZID:UTC
BEGIN:STANDARD
TZOFFSETFROM:+0000
TZOFFSETTO:+0000
TZNAME:UTC
DTSTART:20230101T000000
END:STANDARD
END:VTIMEZONE
BEGIN:VEVENT
DTSTART;VALUE=DATE:20240902
DTEND;VALUE=DATE:20240903
DTSTAMP:20260422T215718
CREATED:20231213T180447Z
LAST-MODIFIED:20231213T180447Z
UID:10000305-1725235200-1725321599@springfieldga.org
SUMMARY:City hall Closed
DESCRIPTION:City hall will be closed in observance of Labor Day.
URL:https://springfieldga.org/event/city-hall-closed-21/
LOCATION:City Hall\, 130 S. Laurel Street\, Springfield\, GA\, 31329\, United States
CATEGORIES:Administrative
ORGANIZER;CN="City of Springfield":MAILTO:jsmith@springfieldga.org
END:VEVENT
BEGIN:VEVENT
DTSTART;TZID=UTC:20240906T160000
DTEND;TZID=UTC:20240906T200000
DTSTAMP:20260422T215718
CREATED:20240312T164551Z
LAST-MODIFIED:20240831T180524Z
UID:10000445-1725638400-1725652800@springfieldga.org
SUMMARY:September First Friday Downtown
DESCRIPTION:Classic Country Celebration!\n  \n			\n			\n				\n				\n				\n				\n			\n				\n				\n			\n				\n				\n				\n				\n				\n				\n				\n				\n				\n				\n				\n				\n				\n				\n				\n				\n				\n				Food Trucks:\n			\n			\n				\n				\n				\n				\n				\n			\n				\n				\n				\n				\n			\n				\n				\n				\n				\n				\n				\n				\n				\n				\n				\n				\n					\n					\n						Lobster Dogs\n						Lobster Dogs Food truck serving the Best Lobster Rolls & Stuffed Avocados in Georgia! \n					\n				\n			\n			\n				\n				\n				\n				\n				\n				\n				\n				\n				\n				\n					\n					\n						Pitchin' Berries\n						Açaí & Superfoods bowls! Super foods\, from our mitt to yours! \n					\n				\n			\n			\n				\n				\n				\n				\n				\n				\n				\n				\n				\n				\n					\n					\n						The Big Cheese\n						Gourmet grilled cheese sandwhiches and deserts. \n					\n				\n			\n				\n				\n				\n				\n				\n					\n					\n						Frencheese \n						Burgers\,  Pulled Pork\, BBQ Chicken\, Fried Chicken\, Philly Cheesesteak\, Sausage Dogs.  \n					\n				\n			\n			\n				\n				\n				\n				\n			\n				\n				\n			\n				\n				\n				\n				\n				\n				\n				\n				\n				\n				\n				\n				\n				\n				\n				\n				\n				\n				Lots of Downtown Fun! Check out the events below: \n			\n			\n				\n				\n				\n				\n			\n				\n				\n				\n				\n				\n				\n				\n				\n				\n				\n				\n			\n				\n				\n				\n				\n				Live Show at the Mars Theater: 7:00PM\n			\n			\n				\n				\n				\n				\n			\n				\n				\n			\n				\n				\n				\n				\n				\n				\n				\n				\n				\n				\n				\n				\n				\n				\n				\n				\n				\n				\n					\n					\n						Live Music\n						Loaded on Laurel\, 123. S. Laurel St\, 4-8PM \n Join us Downtown Springfield for a Family Fun Country Evening. Dust your boots off\, grab your hats and come on down. We will have music by Glen Allen and goodies for the kiddos. Of course loaded teas\, shakes and coffee will be on the menu \n					\n				\n			\n			\n				\n				\n				\n				\n				\n				\n				\n				\n				\n				\n					\n					\n						Classic County Celebration \n						Moncrief Square\, 205 N. Laurel St\, 4-8PM \nGet ready for an exciting evening at Moncrief Square\, happening in conjunction with the City’s First Friday event! Bring the whole family out for a night of fun\, community\, and dancing. As always\, we’ll have fun crafts for the kids to enjoy\, but this time we’ve got something extra special for everyone! Starting at 6 PM\, Shindigs Savannah will be on hand to teach us how to Line Dance.  \n					\n				\n			\n				\n				\n				\n				\n				\n					\n					\n						RC Art Show  \n						The Railyard\, 122 N. Laurel St.\,  5-9PM \nCall for Artists! Effingham Artists and Realty Companies are excited to announce the next RC Art Show\, Friday September 6th at The Railyard in Springfield. Visit RCArtShow.com to register today and learn more about becoming a member of @EffinghamArtists.  \n					\n				\n			\n			\n				\n				\n				\n				\n			\n				\n				\n			\n				\n				\n				\n				\n				\n				\n				\n				\n				\n				\n				\n				\n				\n				\n				\n				\n				\n				Plan for Food Trucks\, Fun\, and Family Friendly Activities May through September in 2024!
URL:https://springfieldga.org/event/september-first-friday-downtown/
LOCATION:City Hall\, 130 S. Laurel Street\, Springfield\, GA\, 31329\, United States
CATEGORIES:Community Events,Vendor Event
ATTACH;FMTTYPE=image/png:https://springfieldga.org/wp-content/uploads/2024/03/Sept-Date-Only-FBEH.png
ORGANIZER;CN="City of Springfield":MAILTO:jsmith@springfieldga.org
END:VEVENT
BEGIN:VEVENT
DTSTART;TZID=UTC:20240907T173000
DTEND;TZID=UTC:20240907T230000
DTSTAMP:20260422T215718
CREATED:20240831T180740Z
LAST-MODIFIED:20240831T180907Z
UID:10000525-1725730200-1725750000@springfieldga.org
SUMMARY:Rockin' BBQ
DESCRIPTION:Come and join us for a fantastic BBQ event with delicious food\, fun activities and great company! Details:\nFood: Bowtie BBQ food truckWhen: September 7\, 2024 from 5:30pm – 11pmWhere: 13 Stars\, 122 N Laurel St\, Springfield\, GAActivities: Live Music by Five Door SedanFundraiser: We’ll be accepting donations for the Richmond Hill flooding victims.\nInvite your friends!Free and open to the public!All ages show.Must be 21+ to consume alcohol.
URL:https://springfieldga.org/event/rockin-bbq/
LOCATION:13 Stars\, 122 N Laurel St\, Springfield\, GA\, 31329\, United States
CATEGORIES:Community Events
ORGANIZER;CN="City of Springfield":MAILTO:jsmith@springfieldga.org
END:VEVENT
END:VCALENDAR