BEGIN:VCALENDAR
VERSION:2.0
PRODID:-//The City of Springfield, Georgia - ECPv6.15.20//NONSGML v1.0//EN
CALSCALE:GREGORIAN
METHOD:PUBLISH
X-WR-CALNAME:The City of Springfield, Georgia
X-ORIGINAL-URL:https://springfieldga.org
X-WR-CALDESC:Events for The City of Springfield, Georgia
REFRESH-INTERVAL;VALUE=DURATION:PT1H
X-Robots-Tag:noindex
X-PUBLISHED-TTL:PT1H
BEGIN:VTIMEZONE
TZID:UTC
BEGIN:STANDARD
TZOFFSETFROM:+0000
TZOFFSETTO:+0000
TZNAME:UTC
DTSTART:20230101T000000
END:STANDARD
END:VTIMEZONE
BEGIN:VEVENT
DTSTART;TZID=UTC:20240924T170000
DTEND;TZID=UTC:20240924T210000
DTSTAMP:20260422T175830
CREATED:20240918T160828Z
LAST-MODIFIED:20240918T161449Z
UID:10000532-1727197200-1727211600@springfieldga.org
SUMMARY:Council Workshop
DESCRIPTION:Public Notice is hereby given that the City of Springfield Mayor and Council will hold a workshop on September 24\, 2024 at 5:00 p.m. Workshop items to be discussed: \n• Changes to Alcohol Ordinance.\n• FY2025 Budget and Needs \nis the policy of the City of Springfield that all City-sponsored public meetings and events are accessible to people with disabilities. If you need assistance in participating in this meeting or event due to a disability as defined under the ADA\, please call the City’s ADA Coordinator\, Jennifer Smith\, at (912) 754-7617 or e-mail jsmith@springfieldga.org at least three (3) business days prior to the scheduled meeting or event to request an accommodation.
URL:https://springfieldga.org/event/council-workshop/
LOCATION:City Hall\, 130 S. Laurel Street\, Springfield\, GA\, 31329\, United States
CATEGORIES:Administrative
ORGANIZER;CN="City of Springfield":MAILTO:jsmith@springfieldga.org
END:VEVENT
BEGIN:VEVENT
DTSTART;TZID=UTC:20240928T150000
DTEND;TZID=UTC:20240928T180000
DTSTAMP:20260422T175830
CREATED:20240910T161442Z
LAST-MODIFIED:20240910T161442Z
UID:10000527-1727535600-1727546400@springfieldga.org
SUMMARY:Revolution Cycle & Fitness Grand Reopening Celebration
DESCRIPTION:We are thrilled to announce the Grand Reopening of Revolution Cycle and Fitness! We are excited to showcase our brand new studio location and highlight other local small businesses! We would love for you to be a part of this exciting event!\nEvent Details-Date: September 28th\, 2024Time: 3-6 PMLocation: 832 S. Laurel Street Unit C\, Springfield\, GA 31329
URL:https://springfieldga.org/event/revolution-cycle-fitness-grand-reopening-celebration/
LOCATION:Revolution Cycle & Fitness\, 832 S Laurel St\, Springfield\, GA\, 31329\, United States
CATEGORIES:Community Events,Vendor Event
ATTACH;FMTTYPE=image/jpeg:https://springfieldga.org/wp-content/uploads/2024/09/458644562_122160252788047322_5693419891596270346_n.jpg
END:VEVENT
END:VCALENDAR