BEGIN:VCALENDAR
VERSION:2.0
PRODID:-//The City of Springfield, Georgia - ECPv6.15.20//NONSGML v1.0//EN
CALSCALE:GREGORIAN
METHOD:PUBLISH
X-ORIGINAL-URL:https://springfieldga.org
X-WR-CALDESC:Events for The City of Springfield, Georgia
REFRESH-INTERVAL;VALUE=DURATION:PT1H
X-Robots-Tag:noindex
X-PUBLISHED-TTL:PT1H
BEGIN:VTIMEZONE
TZID:UTC
BEGIN:STANDARD
TZOFFSETFROM:+0000
TZOFFSETTO:+0000
TZNAME:UTC
DTSTART:20230101T000000
END:STANDARD
END:VTIMEZONE
BEGIN:VEVENT
DTSTART;TZID=UTC:20241008T180000
DTEND;TZID=UTC:20241008T181500
DTSTAMP:20260422T221632
CREATED:20240910T222742Z
LAST-MODIFIED:20241114T173448Z
UID:10000530-1728410400-1728411300@springfieldga.org
SUMMARY:Public Hearing of the Mayor and Council
DESCRIPTION:Public Hearing Time: 6:00 pm  \nPublic Hearing to hear comments on: \n1. Request for Special Exemption from the Zoning Ordinance to allow ground floor studio apartments on Laurel Street near Rabun Street. Property known as Parcel S100-7 with zoning of DT- Downtown. \n2.Request for Variance from the Zoning Ordinance to a reduce residential and retail parking requirements for property on Laurel Street near Rabun Street. Property known as Parcel S100-7 with zoning of DT- Downtown. \n3.Request for Rezoning of approximately 5.24 acres of property located at on E. Second Street between S. Maple Street and S. Ash Street in Springfield\, GA (known as parcels S106-6\, S106-7\, and S106-8) from R-1 Detached Single Family Residential Zoning to R-2B Multi-Family Residential Zoning \n4.Request for Rezoning of approximately 31.66 acres of property located at Lily Way near Ga Hwy 21 S. in Springfield\, GA (known as parcels S115-2D & S115-2TPO) from B-1 General Commercial and R-1 Detached Single Family Residential to R-4 High Density Residential. \nAny interested parties are encouraged to attend the public hearings to speak for or against these items. Questions can be directed to the Zoning Office at Springfield City Hall by calling (912) 754-7617. Written comments can be submitted to jsmith@Springfieldga.org. \nThe press and public are invited to attend. \nThe Public Hearing Policies and Procedures are adopted by ordinance and can be found in section 5.1.6.2 Policies and Procedures of the Zoning Ordinance of the City of Springfield. This section can be found here:  https://library.municode.com/ga/springfield/codes/code_of_ordinances?nodeId=PTIICOSPGE_APXAZOOR_ARTVPLZOPR_5.1ORPRPLZOBO
URL:https://springfieldga.org/event/public-hearing-of-the-mayor-and-council-2/
LOCATION:City Hall\, 130 S. Laurel Street\, Springfield\, GA\, 31329\, United States
CATEGORIES:Administrative
ORGANIZER;CN="City of Springfield":MAILTO:jsmith@springfieldga.org
END:VEVENT
BEGIN:VEVENT
DTSTART;TZID=UTC:20241008T180000
DTEND;TZID=UTC:20241008T200000
DTSTAMP:20260422T221632
CREATED:20240306T170041Z
LAST-MODIFIED:20240523T173512Z
UID:10000385-1728410400-1728417600@springfieldga.org
SUMMARY:City Council Meeting
DESCRIPTION:Monthly meeting of the Mayor and City Council. \nPlease visit the Agenda Center for current agendas. Minutes  from past meetings can be requested by emailing jsmith@springfieldga.org \nCity Council regularly meets on the second Tuesday of each month.
URL:https://springfieldga.org/event/city-council-meeting-3/2024-10-08/
LOCATION:City Hall\, 130 S. Laurel Street\, Springfield\, GA\, 31329\, United States
CATEGORIES:Administrative
ORGANIZER;CN="City of Springfield":MAILTO:jsmith@springfieldga.org
END:VEVENT
END:VCALENDAR