BEGIN:VCALENDAR
VERSION:2.0
PRODID:-//The City of Springfield, Georgia - ECPv6.15.20//NONSGML v1.0//EN
CALSCALE:GREGORIAN
METHOD:PUBLISH
X-ORIGINAL-URL:https://springfieldga.org
X-WR-CALDESC:Events for The City of Springfield, Georgia
REFRESH-INTERVAL;VALUE=DURATION:PT1H
X-Robots-Tag:noindex
X-PUBLISHED-TTL:PT1H
BEGIN:VTIMEZONE
TZID:UTC
BEGIN:STANDARD
TZOFFSETFROM:+0000
TZOFFSETTO:+0000
TZNAME:UTC
DTSTART:20230101T000000
END:STANDARD
END:VTIMEZONE
BEGIN:VEVENT
DTSTART;TZID=UTC:20241126T180000
DTEND;TZID=UTC:20241126T190000
DTSTAMP:20260422T222236
CREATED:20241114T174144Z
LAST-MODIFIED:20241114T174144Z
UID:10000534-1732644000-1732647600@springfieldga.org
SUMMARY:Annexation Public Hearing
DESCRIPTION:The City of Springfield Planning and Zoning Board and Mayor and City Council will hold public hearings with meetings immediately following close of the public hearings on November 26\, 2024 beginning at 6:00pm. \nPublic hearings will be held to receive comments on the following items: \n\nRequest for Annexation and Rezoning of Parcels 368-5 and 390-1A located at 340 Courthouse Rd consisting of approx. 148 acres and requesting rezoning from Effingham County Zoning of AR-1 to Springfield Zoning of AR-1.\n\n  \n\nRequest for Annexation and Rezoning of Parcels 367-59 located off Pleasant Acres Rd consisting of approx. 177 acres and requesting rezoning from Effingham County Zoning of AR-1 to Springfield Zoning of AR-1.\n\n  \nAny interested parties are encouraged to attend the public hearings to speak for or against these items. Questions can be directed to the Zoning Office at Springfield City Hall by calling (912) 754-7617. \nAll public hearings and meetings will be held in the Springfield Council Room located at 130 S. Laurel Street (located between Springfield City Hall and Springfield Police Department).
URL:https://springfieldga.org/event/annexation-public-hearing/
LOCATION:City Hall\, 130 S. Laurel Street\, Springfield\, GA\, 31329\, United States
ORGANIZER;CN="City of Springfield":MAILTO:jsmith@springfieldga.org
END:VEVENT
BEGIN:VEVENT
DTSTART;VALUE=DATE:20241128
DTEND;VALUE=DATE:20241130
DTSTAMP:20260422T222236
CREATED:20231213T180655Z
LAST-MODIFIED:20231213T180655Z
UID:10000308-1732752000-1732924799@springfieldga.org
SUMMARY:City Hall closed
DESCRIPTION:City Hall will be closed in observance of Thanksgiving Day.
URL:https://springfieldga.org/event/city-hall-closed-24/
LOCATION:City Hall\, 130 S. Laurel Street\, Springfield\, GA\, 31329\, United States
CATEGORIES:Administrative
ORGANIZER;CN="City of Springfield":MAILTO:jsmith@springfieldga.org
END:VEVENT
BEGIN:VEVENT
DTSTART;VALUE=DATE:20241130
DTEND;VALUE=DATE:20241201
DTSTAMP:20260422T222236
CREATED:20241115T133714Z
LAST-MODIFIED:20241115T133714Z
UID:10000671-1732924800-1733011199@springfieldga.org
SUMMARY:Small Business Saturday - Shop Local on Laurel
DESCRIPTION:Small Business Saturday is coming! You are sure to find just what you are looking for right here on Laurel Street.
URL:https://springfieldga.org/event/small-business-saturday-shop-local-on-laurel/
LOCATION:Laurel Street\, 130 S. Laurel Street\, Springfield\, GA\, 31329\, United States
CATEGORIES:Community Events
END:VEVENT
END:VCALENDAR