BEGIN:VCALENDAR
VERSION:2.0
PRODID:-//The City of Springfield, Georgia - ECPv6.15.20//NONSGML v1.0//EN
CALSCALE:GREGORIAN
METHOD:PUBLISH
X-ORIGINAL-URL:https://springfieldga.org
X-WR-CALDESC:Events for The City of Springfield, Georgia
REFRESH-INTERVAL;VALUE=DURATION:PT1H
X-Robots-Tag:noindex
X-PUBLISHED-TTL:PT1H
BEGIN:VTIMEZONE
TZID:UTC
BEGIN:STANDARD
TZOFFSETFROM:+0000
TZOFFSETTO:+0000
TZNAME:UTC
DTSTART:20230101T000000
END:STANDARD
END:VTIMEZONE
BEGIN:VEVENT
DTSTART;VALUE=DATE:20241221
DTEND;VALUE=DATE:20241222
DTSTAMP:20260422T224059
CREATED:20241120T173137Z
LAST-MODIFIED:20241120T173137Z
UID:10000675-1734739200-1734825599@springfieldga.org
SUMMARY:Christmas Bird Count
DESCRIPTION:Effingham County has been approved by the Audubon Society to be a participant in their annual Christmas Bird Count. This is a great event for those that like the outdoors\, even when it’s chilly outside\, and for people interested in learning more about birds. \nThe counting event will occur on December 21st all day and will encompass a perimeter around Springfield\, Guyton\, and Rincon (see photo). Anyone of any age and bird watching skill is welcome to join\, but they must sign up with me to be an official participant. They should be prepared to walk outside on pavement and dirt roads\, have snacks and water. Organizer may have some binoculars that can be borrowed for the event. \nTo register please contact: John Cassell jcassell@effingham.k12.ga.us
URL:https://springfieldga.org/event/christmas-bird-count/
LOCATION:GA
CATEGORIES:Community Events
ATTACH;FMTTYPE=application/pdf:https://springfieldga.org/wp-content/uploads/2024/11/ChristmasBirdCountFlyer2024.pdf
END:VEVENT
BEGIN:VEVENT
DTSTART;TZID=UTC:20241221T090000
DTEND;TZID=UTC:20241221T120000
DTSTAMP:20260422T224059
CREATED:20241211T171805Z
LAST-MODIFIED:20241211T171846Z
UID:10000677-1734771600-1734782400@springfieldga.org
SUMMARY:Gifts and Photos with Santa!
DESCRIPTION:
URL:https://springfieldga.org/event/gifts-and-photos-with-santa/
LOCATION:Mars Theatre\, 106 S Laurel St\, Springfield\, GA\, 31329\, United States
CATEGORIES:Community Events
ATTACH;FMTTYPE=image/png:https://springfieldga.org/wp-content/uploads/2024/12/PD-Christmas-Flyer-1.png
END:VEVENT
END:VCALENDAR