BEGIN:VCALENDAR
VERSION:2.0
PRODID:-//The City of Springfield, Georgia - ECPv6.15.20//NONSGML v1.0//EN
CALSCALE:GREGORIAN
METHOD:PUBLISH
X-ORIGINAL-URL:https://springfieldga.org
X-WR-CALDESC:Events for The City of Springfield, Georgia
REFRESH-INTERVAL;VALUE=DURATION:PT1H
X-Robots-Tag:noindex
X-PUBLISHED-TTL:PT1H
BEGIN:VTIMEZONE
TZID:UTC
BEGIN:STANDARD
TZOFFSETFROM:+0000
TZOFFSETTO:+0000
TZNAME:UTC
DTSTART:20240101T000000
END:STANDARD
END:VTIMEZONE
BEGIN:VEVENT
DTSTART;TZID=UTC:20250519T173000
DTEND;TZID=UTC:20250519T183000
DTSTAMP:20260422T120838
CREATED:20241114T182131Z
LAST-MODIFIED:20241114T182536Z
UID:10000618-1747675800-1747679400@springfieldga.org
SUMMARY:Meeting of the Downtown Development Authority of Springfield\, GA
DESCRIPTION:Regular Time: 5:30 pm  \nMonthly meeting of the Springfield Downtown Development Authority (DDA). \nAgenda or minutes can be requested by emailing ephillips@springfieldga.org \nThe DDA typically meets on the third Monday of each month. \nMeetings length will vary based on business discussion.
URL:https://springfieldga.org/event/meeting-of-the-downtown-development-authority-of-springfield-ga-2/2025-05-19/
LOCATION:City Hall\, 130 S. Laurel Street\, Springfield\, GA\, 31329\, United States
CATEGORIES:Administrative
ORGANIZER;CN="City of Springfield":MAILTO:jsmith@springfieldga.org
END:VEVENT
BEGIN:VEVENT
DTSTART;TZID=UTC:20250521T083000
DTEND;TZID=UTC:20250521T160000
DTSTAMP:20260422T120838
CREATED:20250507T200133Z
LAST-MODIFIED:20250527T185925Z
UID:10000701-1747816200-1747843200@springfieldga.org
SUMMARY:Catalyst Business Summit
DESCRIPTION:Wednesday\, May 21 | Catalyst Business Summit\, presented in partnership with the Port Wentworth Chamber and Effingham County IDA\, Downtown Springfield\nMore than an event — Catalyst is a movement. Spend the day immersed in big ideas and bold conversations that meet you where you are in business\, then help you grow beyond it. 🎟️ REGISTER HERE \nHear from headline speakers Steve Carse\, founder of King of Pops and author of Work is Fun\, and Steve Nygren\, founder of Serenbe and national leader in sustainable development.\nDive into breakout sessions on AI and automation\, workplace culture\, and rural revitalization.\nExplore Think Talks\, a downtown retail crawl\, pop-up vendors\, regional food\, and interactive workshops built for everyone from solopreneurs to C-suites.\nIf you’re ready to think differently\, grow intentionally\, and connect authentically\, this is your day.
URL:https://springfieldga.org/event/catalyst-business-summit/
LOCATION:Laurel Street\, 130 S. Laurel Street\, Springfield\, GA\, 31329\, United States
END:VEVENT
END:VCALENDAR