BEGIN:VCALENDAR
VERSION:2.0
PRODID:-//The City of Springfield, Georgia - ECPv6.15.20//NONSGML v1.0//EN
CALSCALE:GREGORIAN
METHOD:PUBLISH
X-WR-CALNAME:The City of Springfield, Georgia
X-ORIGINAL-URL:https://springfieldga.org
X-WR-CALDESC:Events for The City of Springfield, Georgia
REFRESH-INTERVAL;VALUE=DURATION:PT1H
X-Robots-Tag:noindex
X-PUBLISHED-TTL:PT1H
BEGIN:VTIMEZONE
TZID:UTC
BEGIN:STANDARD
TZOFFSETFROM:+0000
TZOFFSETTO:+0000
TZNAME:UTC
DTSTART:20240101T000000
END:STANDARD
END:VTIMEZONE
BEGIN:VEVENT
DTSTART;TZID=UTC:20250731T180000
DTEND;TZID=UTC:20250731T200000
DTSTAMP:20260422T075325
CREATED:20250725T181243Z
LAST-MODIFIED:20250725T182429Z
UID:10000713-1753984800-1753992000@springfieldga.org
SUMMARY:Special Called Meeting of Mayor and Council
DESCRIPTION:The City of Springfield Mayor and Council will hold a Special Called Meeting for executive session to discuss personnel matters\, specifically interviews of candidates for City Manager on Thursday July 31\, 2025 at 6:00 p.m.\,  in the Springfield Council Room located at 130 S. Laurel St.
URL:https://springfieldga.org/event/special-called-meeting-of-mayor-and-council-3/
LOCATION:City Hall\, 130 S. Laurel Street\, Springfield\, GA\, 31329\, United States
CATEGORIES:Administrative
ORGANIZER;CN="City of Springfield":MAILTO:jsmith@springfieldga.org
END:VEVENT
BEGIN:VEVENT
DTSTART;TZID=UTC:20250801T170000
DTEND;TZID=UTC:20250801T210000
DTSTAMP:20260422T075325
CREATED:20250317T164525Z
LAST-MODIFIED:20250617T123124Z
UID:10000687-1754067600-1754082000@springfieldga.org
SUMMARY:August First Friday Family Night
DESCRIPTION:Back to School Bash!\n			\n			\n				\n				\n				\n				\n			\n				\n				\n			\n				\n				\n				\n				\n				\n				\n				\n				\n				\n				\n				\n				\n				\n				\n				\n				\n				\n				Food Trucks:\n			\n			\n				\n				\n				\n				\n				\n			\n				\n				\n				\n				\n			\n				\n				\n				\n				\n				\n				\n				\n				\n				\n				\n				\n					\n					\n						Lobster Dogs\n						Lobster Dogs Food truck serving the Best Lobster Rolls & Stuffed Avocados in Georgia! \n					\n				\n			\n			\n				\n				\n				\n				\n				\n				\n				\n				\n				\n				\n					\n					\n						Frencheese \n						Burgers\,  Pulled Pork\, BBQ Chicken\, Fried Chicken\, Philly Cheesesteak\, Sausage Dogs.  \n					\n				\n			\n				\n				\n				\n				\n				\n					\n					\n						King of Pops\n						Cold Treats on a Hot Day.  \n					\n				\n			\n			\n				\n				\n				\n				\n				\n				\n				\n				\n				\n				\n					\n					\n						Baldinos of Pooler\n						Baldinos in Pooler is on the move!  \n					\n				\n			\n				\n				\n				\n				\n				\n					\n					\n						Nieve with Love\n						Ice Cream Sammies\, Sorbet Push Pops and Freezie Pops!
URL:https://springfieldga.org/event/august-first-friday-family-night/
LOCATION:City Hall\, 130 S. Laurel Street\, Springfield\, GA\, 31329\, United States
CATEGORIES:Community Events,Vendor Event
ATTACH;FMTTYPE=image/jpeg:https://springfieldga.org/wp-content/uploads/2025/03/2025-Dates-04-scaled.jpg
ORGANIZER;CN="City of Springfield":MAILTO:jsmith@springfieldga.org
END:VEVENT
END:VCALENDAR