BEGIN:VCALENDAR
VERSION:2.0
PRODID:-//The City of Springfield, Georgia - ECPv6.15.20//NONSGML v1.0//EN
CALSCALE:GREGORIAN
METHOD:PUBLISH
X-ORIGINAL-URL:https://springfieldga.org
X-WR-CALDESC:Events for The City of Springfield, Georgia
REFRESH-INTERVAL;VALUE=DURATION:PT1H
X-Robots-Tag:noindex
X-PUBLISHED-TTL:PT1H
BEGIN:VTIMEZONE
TZID:UTC
BEGIN:STANDARD
TZOFFSETFROM:+0000
TZOFFSETTO:+0000
TZNAME:UTC
DTSTART:20240101T000000
END:STANDARD
END:VTIMEZONE
BEGIN:VEVENT
DTSTART;TZID=UTC:20250804T180000
DTEND;TZID=UTC:20250804T181500
DTSTAMP:20260422T092150
CREATED:20250715T172335Z
LAST-MODIFIED:20250715T172338Z
UID:10000608-1754330400-1754331300@springfieldga.org
SUMMARY:Public Hearing of the Planning & Zoning Board
DESCRIPTION:Public Hearing Time: 6:00 pm  \nPublic Hearing to hear comments on: \n\nRequest for Conditional Use for manufacturing of firearms and ammunitions at B-1 Zoned property located at 1216 S. Laurel Street (Parcel S111-3)\n\n\nRequest for Conditional Use for Restaurant at DT Zoned property located at 104 E. First Street (Parcel S102-50A)\n\n\nRequest for Conditional Use for Collision Repair Center at B-1 Zoned property located on Lily Way near Bebee Rd (Parcel S115-2D)\n\nAny interested parties are encouraged to attend the public hearings to speak for or against these items. Questions can be directed to the Zoning Office at Springfield City Hall by calling (912) 754-7617. Written comments can be submitted to ephillips@Springfieldga.org. \nThe press and public are invited to attend. \nThe Public Hearing Policies and Procedures are adopted by ordinance and can be found in section 5.1.6.2 Policies and Procedures of the Zoning Ordinance of the City of Springfield. This section can be found here:  https://library.municode.com/ga/springfield/codes/code_of_ordinances?nodeId=PTIICOSPGE_APXAZOOR_ARTVPLZOPR_5.1ORPRPLZOBO
URL:https://springfieldga.org/event/public-hearing-of-the-planning-zoning-board-5-10/
LOCATION:City Hall\, 130 S. Laurel Street\, Springfield\, GA\, 31329\, United States
CATEGORIES:Administrative
ORGANIZER;CN="City of Springfield":MAILTO:jsmith@springfieldga.org
END:VEVENT
BEGIN:VEVENT
DTSTART;TZID=UTC:20250804T180000
DTEND;TZID=UTC:20250804T190000
DTSTAMP:20260422T092150
CREATED:20241114T183633Z
LAST-MODIFIED:20241114T192238Z
UID:10000560-1754330400-1754334000@springfieldga.org
SUMMARY:Planning & Zoning Board Meeting
DESCRIPTION:Planning Board Meeting Time:  6:00 pm  \nMonthly meeting of the Springfield Planning and Zoning Board. Agenda or minutes can be requested by emailing ephillips@springfieldga.org \nThe Planning Board regularly meets on the Monday prior to the second Tuesday of each month. Meetings length will vary based on business discussion. \nThe press and public are invited to attend. \nAny interested parties are encouraged to attend the meetings. The public is encouraged to ask questions or seek clarification about agenda items prior to the meeting. Questions can be directed to the Zoning Office at Springfield City Hall by calling (912) 754-7617. Written comments can be submitted to ephillips@Springfieldga.org. \nThe Public Hearing Policies and Procedures are adopted by ordinance and can be found in section 5.1.6.2 Policies and Procedures of the Zoning Ordinance of the City of Springfield. This section can be found here:  https://library.municode.com/ga/springfield/codes/code_of_ordinances?nodeId=PTIICOSPGE_APXAZOOR_ARTVPLZOPR_5.1ORPRPLZOBO
URL:https://springfieldga.org/event/planning-zoning-board-meeting-4-2/
LOCATION:City Hall\, 130 S. Laurel Street\, Springfield\, GA\, 31329\, United States
CATEGORIES:Administrative
ORGANIZER;CN="City of Springfield":MAILTO:jsmith@springfieldga.org
END:VEVENT
BEGIN:VEVENT
DTSTART;TZID=UTC:20250805T100000
DTEND;TZID=UTC:20250805T103000
DTSTAMP:20260422T092150
CREATED:20250725T181530Z
LAST-MODIFIED:20250725T181530Z
UID:10000714-1754388000-1754389800@springfieldga.org
SUMMARY:Tax Levy Public Hearing
DESCRIPTION:The City of Springfield Mayor and Council will hold Public Hearings on Tuesday August 5\, 2025 at 10:00 a.m. and 5:00 p.m.\,  in the Springfield Council Room located at 130 S. Laurel St. reference: \n2025 Tax Levy
URL:https://springfieldga.org/event/tax-levy-public-hearing/2025-08-05/1/
LOCATION:City Hall\, 130 S. Laurel Street\, Springfield\, GA\, 31329\, United States
CATEGORIES:Administrative
ORGANIZER;CN="City of Springfield":MAILTO:jsmith@springfieldga.org
END:VEVENT
BEGIN:VEVENT
DTSTART;TZID=UTC:20250805T170000
DTEND;TZID=UTC:20250805T173000
DTSTAMP:20260422T092150
CREATED:20250725T181530Z
LAST-MODIFIED:20250725T181530Z
UID:10000715-1754413200-1754415000@springfieldga.org
SUMMARY:Tax Levy Public Hearing
DESCRIPTION:The City of Springfield Mayor and Council will hold Public Hearings on Tuesday August 5\, 2025 at 10:00 a.m. and 5:00 p.m.\,  in the Springfield Council Room located at 130 S. Laurel St. reference: \n2025 Tax Levy
URL:https://springfieldga.org/event/tax-levy-public-hearing/2025-08-05/2/
LOCATION:City Hall\, 130 S. Laurel Street\, Springfield\, GA\, 31329\, United States
CATEGORIES:Administrative
ORGANIZER;CN="City of Springfield":MAILTO:jsmith@springfieldga.org
END:VEVENT
BEGIN:VEVENT
DTSTART;TZID=UTC:20250805T180000
DTEND;TZID=UTC:20250805T200000
DTSTAMP:20260422T092150
CREATED:20250725T181808Z
LAST-MODIFIED:20250725T181808Z
UID:10000716-1754416800-1754424000@springfieldga.org
SUMMARY:Capital Improvement Element Plan Development Workshop
DESCRIPTION:The City of Springfield Mayor and Council will hold a workshop on Tuesday August 5\, 2025 at 6:00 p.m.\,  in the Springfield Council Room located at 130 S. Laurel St. reference: Capital Improvement Element Plan Development
URL:https://springfieldga.org/event/capital-improvement-element-plan-development-workshop/
LOCATION:City Hall\, 130 S. Laurel Street\, Springfield\, GA\, 31329\, United States
CATEGORIES:Administrative
ORGANIZER;CN="City of Springfield":MAILTO:jsmith@springfieldga.org
END:VEVENT
BEGIN:VEVENT
DTSTART;TZID=UTC:20250806T180000
DTEND;TZID=UTC:20250806T200000
DTSTAMP:20260422T092150
CREATED:20250725T182139Z
LAST-MODIFIED:20250725T182139Z
UID:10000717-1754503200-1754510400@springfieldga.org
SUMMARY:Special Called Meeting of Mayor and Council
DESCRIPTION:The City of Springfield Mayor and Council will hold a Special Called Meeting for executive session to discuss personnel matters\, specifically interviews of candidates for City Manager on Wednesday August 6\, 2025 at 6:00 p.m.\,  in the Springfield Council Room located at 130 S. Laurel St
URL:https://springfieldga.org/event/special-called-meeting-of-mayor-and-council-4/
LOCATION:City Hall\, 130 S. Laurel Street\, Springfield\, GA\, 31329\, United States
CATEGORIES:Administrative
ORGANIZER;CN="City of Springfield":MAILTO:jsmith@springfieldga.org
END:VEVENT
END:VCALENDAR