BEGIN:VCALENDAR
VERSION:2.0
PRODID:-//The City of Springfield, Georgia - ECPv6.15.20//NONSGML v1.0//EN
CALSCALE:GREGORIAN
METHOD:PUBLISH
X-ORIGINAL-URL:https://springfieldga.org
X-WR-CALDESC:Events for The City of Springfield, Georgia
REFRESH-INTERVAL;VALUE=DURATION:PT1H
X-Robots-Tag:noindex
X-PUBLISHED-TTL:PT1H
BEGIN:VTIMEZONE
TZID:UTC
BEGIN:STANDARD
TZOFFSETFROM:+0000
TZOFFSETTO:+0000
TZNAME:UTC
DTSTART:20250101T000000
END:STANDARD
END:VTIMEZONE
BEGIN:VEVENT
DTSTART;TZID=UTC:20260210T143000
DTEND;TZID=UTC:20260210T160000
DTSTAMP:20260421T150709
CREATED:20260123T200527Z
LAST-MODIFIED:20260123T204733Z
UID:10000786-1770733800-1770739200@springfieldga.org
SUMMARY:Development Impact Fee Ordinance Advisory Committee Meeting
DESCRIPTION:Discussion and review of the draft Development Impact Fee Ordinance. \nPublic is invite to observe the committee meeting.
URL:https://springfieldga.org/event/development-impact-fee-advisory-committee-meeting/
LOCATION:City Hall\, 130 S. Laurel Street\, Springfield\, GA\, 31329\, United States
CATEGORIES:Administrative
ORGANIZER;CN="City of Springfield":MAILTO:jsmith@springfieldga.org
END:VEVENT
BEGIN:VEVENT
DTSTART;TZID=UTC:20260210T180000
DTEND;TZID=UTC:20260210T183000
DTSTAMP:20260421T150709
CREATED:20260123T200150Z
LAST-MODIFIED:20260123T200150Z
UID:10000785-1770746400-1770748200@springfieldga.org
SUMMARY:Public Hearing of the Mayor & Council
DESCRIPTION:Public Hearing Time: 6:00 pm  \nPublic Hearing to hear comments on: \n\nRequest for Special Exemption from the Zoning Ordinance regarding minimum lot size at 804 N. Maple Street. Property zoning of R-1\, Parcel ID S100-34\nRequest for Special Exemption from the Zoning Ordinance regarding a side setback reduction at 118 Rose Drive. Property zoning of R-1\, Parcel ID S117-34.\nRequest for Conditional Use to operate an Event Venue at Downtown “DT” Zoned property located 205 N. Laurel Street\, Parcel ID S102-44.\nAddition of a Capital Improvement Element to the Comprehensive Plan\n\n  \nAny interested parties are encouraged to attend the public hearings to speak for or against these items. Questions can be directed to the Zoning Office at Springfield City Hall by calling (912) 754-7617. Written comments can be submitted to ephillips@Springfieldga.org. \nThe press and public are invited to attend. \nThe Public Hearing Policies and Procedures are adopted by ordinance and can be found in section 5.1.6.2 Policies and Procedures of the Zoning Ordinance of the City of Springfield. This section can be found here:  https://library.municode.com/ga/springfield/codes/code_of_ordinances?nodeId=PTIICOSPGE_APXAZOOR_ARTVPLZOPR_5.1ORPRPLZOBO
URL:https://springfieldga.org/event/public-hearing-of-the-mayor-council-4/
LOCATION:City Hall\, 130 S. Laurel Street\, Springfield\, GA\, 31329\, United States
CATEGORIES:Administrative
ORGANIZER;CN="City of Springfield":MAILTO:jsmith@springfieldga.org
END:VEVENT
BEGIN:VEVENT
DTSTART;TZID=UTC:20260210T180000
DTEND;TZID=UTC:20260210T200000
DTSTAMP:20260421T150709
CREATED:20240306T170041Z
LAST-MODIFIED:20240523T173512Z
UID:10000401-1770746400-1770753600@springfieldga.org
SUMMARY:City Council Meeting
DESCRIPTION:Monthly meeting of the Mayor and City Council. \nPlease visit the Agenda Center for current agendas. Minutes  from past meetings can be requested by emailing jsmith@springfieldga.org \nCity Council regularly meets on the second Tuesday of each month.
URL:https://springfieldga.org/event/city-council-meeting-3/2026-02-10/
LOCATION:City Hall\, 130 S. Laurel Street\, Springfield\, GA\, 31329\, United States
CATEGORIES:Administrative
ORGANIZER;CN="City of Springfield":MAILTO:jsmith@springfieldga.org
END:VEVENT
END:VCALENDAR