BEGIN:VCALENDAR
VERSION:2.0
PRODID:-//The City of Springfield, Georgia - ECPv6.15.20//NONSGML v1.0//EN
CALSCALE:GREGORIAN
METHOD:PUBLISH
X-ORIGINAL-URL:https://springfieldga.org
X-WR-CALDESC:Events for The City of Springfield, Georgia
REFRESH-INTERVAL;VALUE=DURATION:PT1H
X-Robots-Tag:noindex
X-PUBLISHED-TTL:PT1H
BEGIN:VTIMEZONE
TZID:UTC
BEGIN:STANDARD
TZOFFSETFROM:+0000
TZOFFSETTO:+0000
TZNAME:UTC
DTSTART:20250101T000000
END:STANDARD
END:VTIMEZONE
BEGIN:VEVENT
DTSTART;TZID=UTC:20260512T180000
DTEND;TZID=UTC:20260512T200000
DTSTAMP:20260421T192910
CREATED:20240306T170041Z
LAST-MODIFIED:20240523T173512Z
UID:10000404-1778608800-1778616000@springfieldga.org
SUMMARY:City Council Meeting
DESCRIPTION:Monthly meeting of the Mayor and City Council. \nPlease visit the Agenda Center for current agendas. Minutes  from past meetings can be requested by emailing jsmith@springfieldga.org \nCity Council regularly meets on the second Tuesday of each month.
URL:https://springfieldga.org/event/city-council-meeting-3/2026-05-12/
LOCATION:City Hall\, 130 S. Laurel Street\, Springfield\, GA\, 31329\, United States
CATEGORIES:Administrative
ORGANIZER;CN="City of Springfield":MAILTO:jsmith@springfieldga.org
END:VEVENT
END:VCALENDAR