BEGIN:VCALENDAR
VERSION:2.0
PRODID:-//The City of Springfield, Georgia - ECPv6.15.20//NONSGML v1.0//EN
CALSCALE:GREGORIAN
METHOD:PUBLISH
X-WR-CALNAME:The City of Springfield, Georgia
X-ORIGINAL-URL:https://springfieldga.org
X-WR-CALDESC:Events for The City of Springfield, Georgia
REFRESH-INTERVAL;VALUE=DURATION:PT1H
X-Robots-Tag:noindex
X-PUBLISHED-TTL:PT1H
BEGIN:VTIMEZONE
TZID:UTC
BEGIN:STANDARD
TZOFFSETFROM:+0000
TZOFFSETTO:+0000
TZNAME:UTC
DTSTART:20240101T000000
END:STANDARD
END:VTIMEZONE
BEGIN:VEVENT
DTSTART;TZID=UTC:20250517T090000
DTEND;TZID=UTC:20250517T110000
DTSTAMP:20260421T200414
CREATED:20250402T163254Z
LAST-MODIFIED:20250402T163254Z
UID:10000696-1747472400-1747479600@springfieldga.org
SUMMARY:Springfield Slow Ride
DESCRIPTION:
URL:https://springfieldga.org/event/springfield-slow-ride/
LOCATION:Second Street Parking Lot\, 200 S. Laurel Street\, Springfield\, 31329\, United States
CATEGORIES:Athletic,Community Events
ATTACH;FMTTYPE=image/png:https://springfieldga.org/wp-content/uploads/2025/04/KBL-Springfield-slow-ride.png
ORGANIZER;CN="Kids Bike League":MAILTO:alden@georgiahilo.org
END:VEVENT
END:VCALENDAR