BEGIN:VCALENDAR
VERSION:2.0
PRODID:-//The City of Springfield, Georgia - ECPv6.15.20//NONSGML v1.0//EN
CALSCALE:GREGORIAN
METHOD:PUBLISH
X-WR-CALNAME:The City of Springfield, Georgia
X-ORIGINAL-URL:https://springfieldga.org
X-WR-CALDESC:Events for The City of Springfield, Georgia
REFRESH-INTERVAL;VALUE=DURATION:PT1H
X-Robots-Tag:noindex
X-PUBLISHED-TTL:PT1H
BEGIN:VTIMEZONE
TZID:UTC
BEGIN:STANDARD
TZOFFSETFROM:+0000
TZOFFSETTO:+0000
TZNAME:UTC
DTSTART:20230101T000000
END:STANDARD
END:VTIMEZONE
BEGIN:VEVENT
DTSTART;TZID=UTC:20241206T170000
DTEND;TZID=UTC:20241206T200000
DTSTAMP:20260422T003929
CREATED:20241115T134925Z
LAST-MODIFIED:20241115T135310Z
UID:10000672-1733504400-1733515200@springfieldga.org
SUMMARY:Lesley Manning: A Celebration of Art\, Spirit\, and 70 Years of Creativity
DESCRIPTION:Realty Companies is proud to announce an exclusive art exhibit and sale celebrating the 70th birthday of local painter\, illustrator\, and jewelry maker Lesley Manning. The event will be held at The Realty Companies\, 122 North Laurel Street\, Springfield Georgia\, on December 6\, 2024 at 5 – 8 pm to coincide with Springfields First friday and Tree Lighting.  \nLesley Manning has long been recognized for her delicate and ethereal artwork\, which spans multiple mediums. A respiratory therapist by trade but an artist at heart\, Lesley’s creative journey has always been guided by a singular force: the spirit. “I describe my painting process as excavating God’s beauty\,” she shares. “I just let the spirit take over and paint as if in a vision.” \nLesley’s work explores themes of nature\, from plants and animals to fluid\, sometimes otherworldly forms. Her delicate brushstrokes and intuitive approach create pieces that feel at once timeless and transcendent\, inviting viewers to experience the natural beauty with an organic and sometimes abstract twist. Lesley has mastered the art of capturing fleeting moments of grace and wonder. \nThis exhibit will feature a curated selection of Lesley’s paintings\, drawings\, and a range of jewelry pieces. As part of this special celebration\, works will be available for purchase\, offering collectors and art enthusiasts the opportunity to own a piece of Lesley Manning’s spirit-filled creations. \n“We are thrilled to honor Lesley’s extraordinary talent and artistic journey\,” said Lindsey Gerow\, Founder of Effingham Artists. “Lesley has always been a guiding light in my own artistic journey and I am honored for Adrian [Webber\, Savannah Market Director of Realty Companies and Co-Founder of Effingham Artists] and I to be able to showcase her breathtaking work in the RC Art Show Gallery. This idea for Lesley to exhibit her collection grew during a “Artist’s Way” Workshop in summer of 2023. Lesley spoke often of just wanting her artwork to be seen and loved\, she has worked so hard to get it ready for this exhibit”. \nThis celebration not only marks a milestone in Lesley’s life but also offers the public a chance to engage with her work and possibly take home a gift of a lifetime this holiday season. Friends\, family\, art enthusiasts\, the general public are welcome to stop by this Free public eve
URL:https://springfieldga.org/event/lesley-manning/
LOCATION:The Railyard\, 122 N. Laurel Street\, Springfield\, GA\, 31329\, United States
CATEGORIES:Community Events
ATTACH;FMTTYPE=image/jpeg:https://springfieldga.org/wp-content/uploads/2024/11/12-6-24.jpg
ORGANIZER;CN="Realty Companies":MAILTO:adrian.webber@realtycompanies.us
END:VEVENT
BEGIN:VEVENT
DTSTART;TZID=UTC:20240607T170000
DTEND;TZID=UTC:20240607T200000
DTSTAMP:20260422T003929
CREATED:20240521T182749Z
LAST-MODIFIED:20240521T183653Z
UID:10000519-1717779600-1717790400@springfieldga.org
SUMMARY:The RC Art Show
DESCRIPTION:FRIDAY JUNE 7 | 5-8P\n\n\nThe Railyard in Springfield\n\n122 N Laurel Street Suite B Springfield GA 31329 \n\n\n\n\n\n\nWe’re thrilled to announce our inaugural art exhibition at The Gallery at The Railyard\, one of Springfield’s most cherished gems nestled in the heart of downtown Springfield. \n\n\n\n\n\n\nArtists working across a spectrum of mediums are invited to present their best works\, contributing to a rich and dynamic showcase of creativity. \nRegistration has CLOSED however feel free to contact us for future shows.
URL:https://springfieldga.org/event/the-rc-art-show/
LOCATION:The Railyard\, 122 N. Laurel Street\, Springfield\, GA\, 31329\, United States
CATEGORIES:Community Events
ATTACH;FMTTYPE=image/png:https://springfieldga.org/wp-content/uploads/2024/05/art-show.png
ORGANIZER;CN="Realty Companies":MAILTO:adrian.webber@realtycompanies.us
END:VEVENT
END:VCALENDAR