BEGIN:VCALENDAR
VERSION:2.0
PRODID:-//The City of Springfield, Georgia - ECPv6.15.20//NONSGML v1.0//EN
CALSCALE:GREGORIAN
METHOD:PUBLISH
X-ORIGINAL-URL:https://springfieldga.org
X-WR-CALDESC:Events for The City of Springfield, Georgia
REFRESH-INTERVAL;VALUE=DURATION:PT1H
X-Robots-Tag:noindex
X-PUBLISHED-TTL:PT1H
BEGIN:VTIMEZONE
TZID:UTC
BEGIN:STANDARD
TZOFFSETFROM:+0000
TZOFFSETTO:+0000
TZNAME:UTC
DTSTART:20220101T000000
END:STANDARD
END:VTIMEZONE
BEGIN:VEVENT
DTSTART;VALUE=DATE:20251108
DTEND;VALUE=DATE:20251109
DTSTAMP:20260421T132252
CREATED:20250527T190918Z
LAST-MODIFIED:20250527T190918Z
UID:10000705-1762560000-1762646399@springfieldga.org
SUMMARY:Springfield Fall Festival
DESCRIPTION:The Annual Springfield Fall Festival is scheduled for November 8\, 2025. This is a one day festival in the heart of downtown Springfield. Vendors\, Food Trucks\, Music and more fill the downtown streets. You can find more information on the website at www.SpringfieldFallFestvial.com
URL:https://springfieldga.org/event/springfield-fall-festival-2/
LOCATION:Laurel Street\, 130 S. Laurel Street\, Springfield\, GA\, 31329\, United States
CATEGORIES:Community Events,Vendor Event
ATTACH;FMTTYPE=image/png:https://springfieldga.org/wp-content/uploads/2025/05/Final-Images-01-scaled.png
ORGANIZER;CN="City of Springfield":MAILTO:jsmith@springfieldga.org
END:VEVENT
BEGIN:VEVENT
DTSTART;TZID=UTC:20251020T170000
DTEND;TZID=UTC:20251020T183000
DTSTAMP:20260421T132252
CREATED:20251014T175949Z
LAST-MODIFIED:20251014T175949Z
UID:10000756-1760979600-1760985000@springfieldga.org
SUMMARY:2025 Effingham County Fair Parade
DESCRIPTION:Please contact the Effingham County Fair Committee for more information regarding booth and event details. \n  \nThis event is not hosted by the City of Springfield. Please contact the Event Organizer below for more information.
URL:https://springfieldga.org/event/2025-effingham-county-fair-parade/
LOCATION:Laurel Street\, 130 S. Laurel Street\, Springfield\, GA\, 31329\, United States
CATEGORIES:Community Events
ATTACH;FMTTYPE=image/jpeg:https://springfieldga.org/wp-content/uploads/2021/10/Parade-SM.jpg
END:VEVENT
BEGIN:VEVENT
DTSTART;TZID=UTC:20250927T100000
DTEND;TZID=UTC:20250927T150000
DTSTAMP:20260421T132252
CREATED:20250929T173048Z
LAST-MODIFIED:20250929T173048Z
UID:10000727-1758967200-1758985200@springfieldga.org
SUMMARY:Out of the Darkness Car Show
DESCRIPTION:
URL:https://springfieldga.org/event/out-of-the-darkness-car-show/
LOCATION:Laurel Street\, 130 S. Laurel Street\, Springfield\, GA\, 31329\, United States
CATEGORIES:Community Events
ATTACH;FMTTYPE=image/jpeg:https://springfieldga.org/wp-content/uploads/2025/09/ivr.jpg
END:VEVENT
BEGIN:VEVENT
DTSTART;TZID=UTC:20250521T083000
DTEND;TZID=UTC:20250521T160000
DTSTAMP:20260421T132252
CREATED:20250507T200133Z
LAST-MODIFIED:20250527T185925Z
UID:10000701-1747816200-1747843200@springfieldga.org
SUMMARY:Catalyst Business Summit
DESCRIPTION:Wednesday\, May 21 | Catalyst Business Summit\, presented in partnership with the Port Wentworth Chamber and Effingham County IDA\, Downtown Springfield\nMore than an event — Catalyst is a movement. Spend the day immersed in big ideas and bold conversations that meet you where you are in business\, then help you grow beyond it. 🎟️ REGISTER HERE \nHear from headline speakers Steve Carse\, founder of King of Pops and author of Work is Fun\, and Steve Nygren\, founder of Serenbe and national leader in sustainable development.\nDive into breakout sessions on AI and automation\, workplace culture\, and rural revitalization.\nExplore Think Talks\, a downtown retail crawl\, pop-up vendors\, regional food\, and interactive workshops built for everyone from solopreneurs to C-suites.\nIf you’re ready to think differently\, grow intentionally\, and connect authentically\, this is your day.
URL:https://springfieldga.org/event/catalyst-business-summit/
LOCATION:Laurel Street\, 130 S. Laurel Street\, Springfield\, GA\, 31329\, United States
END:VEVENT
BEGIN:VEVENT
DTSTART;TZID=UTC:20250516T084500
DTEND;TZID=UTC:20250516T093000
DTSTAMP:20260421T132252
CREATED:20250325T192815Z
LAST-MODIFIED:20250325T192815Z
UID:10000694-1747385100-1747387800@springfieldga.org
SUMMARY:Senior Class Parade
DESCRIPTION:The Annual Senior Parade through Downtown Springfield will be on May16th!\nCome out and cheer on our graduates!
URL:https://springfieldga.org/event/senior-class-parade/
LOCATION:Laurel Street\, 130 S. Laurel Street\, Springfield\, GA\, 31329\, United States
CATEGORIES:Community Events
END:VEVENT
BEGIN:VEVENT
DTSTART;VALUE=DATE:20241130
DTEND;VALUE=DATE:20241201
DTSTAMP:20260421T132252
CREATED:20241115T133714Z
LAST-MODIFIED:20241115T133714Z
UID:10000671-1732924800-1733011199@springfieldga.org
SUMMARY:Small Business Saturday - Shop Local on Laurel
DESCRIPTION:Small Business Saturday is coming! You are sure to find just what you are looking for right here on Laurel Street.
URL:https://springfieldga.org/event/small-business-saturday-shop-local-on-laurel/
LOCATION:Laurel Street\, 130 S. Laurel Street\, Springfield\, GA\, 31329\, United States
CATEGORIES:Community Events
END:VEVENT
BEGIN:VEVENT
DTSTART;VALUE=DATE:20241109
DTEND;VALUE=DATE:20241110
DTSTAMP:20260421T132252
CREATED:20240312T170551Z
LAST-MODIFIED:20240312T170551Z
UID:10000446-1731110400-1731196799@springfieldga.org
SUMMARY:Springfield Fall Festival
DESCRIPTION:Join The City of Springfield for the annual Springfield Fall Festival! \nMore info on our website:  www.SpringfieldFallFestival.com \n 
URL:https://springfieldga.org/event/springfield-fall-festival/
LOCATION:Laurel Street\, 130 S. Laurel Street\, Springfield\, GA\, 31329\, United States
CATEGORIES:Community Events,Vendor Event
ATTACH;FMTTYPE=image/jpeg:https://springfieldga.org/wp-content/uploads/2024/03/Fall-Festival-Logo-image.jpg
ORGANIZER;CN="City of Springfield":MAILTO:jsmith@springfieldga.org
END:VEVENT
BEGIN:VEVENT
DTSTART;TZID=UTC:20240629T100000
DTEND;TZID=UTC:20240629T120000
DTSTAMP:20260421T132252
CREATED:20240605T163901Z
LAST-MODIFIED:20240605T164851Z
UID:10000522-1719655200-1719662400@springfieldga.org
SUMMARY:Effingham Heroes Freedom Parade
DESCRIPTION:Please mark your calendars for Saturday\, June 29th! Our Effingham Heroes Freedom Parade will be in Springfield at 10:00 am. We have new entries this year and our favorites\, the Shriners\, are returning.  We want you to enjoy the fun with us! See you in Springfield! \n  \n			\n			\n				\n				\n				\n				\n				\n				\n				\n				\n				\n				\n			\n			\n				\n				\n				\n				\n			\n				\n				\n				\n				\n				\n				\n				\n				\n				\n				\n				More Info available on our Facebook page:  \n			\n				\n				\n				\n				\n				\n			\n			\n				\n				\n				\n				\n			\n				\n				\n				\n				\n				\n				\n				\n				\n				\n				\n				This is a privately hosted event taking place in Springfield\, GA. For more information\, please contact the event organizer listed below. 
URL:https://springfieldga.org/event/effingham-heroes-freedom-parade/
LOCATION:Laurel Street\, 130 S. Laurel Street\, Springfield\, GA\, 31329\, United States
CATEGORIES:Community Events
ATTACH;FMTTYPE=image/jpeg:https://springfieldga.org/wp-content/uploads/2024/06/Freedom-Parade.jpg
ORGANIZER;CN="Effingham Heroes":MAILTO:effinghamheroes@gmail.com
END:VEVENT
BEGIN:VEVENT
DTSTART;TZID=UTC:20231111T100000
DTEND;TZID=UTC:20231111T220000
DTSTAMP:20260421T132252
CREATED:20231121T143643Z
LAST-MODIFIED:20231121T152732Z
UID:10000277-1699696800-1699740000@springfieldga.org
SUMMARY:Springfield Fall Festival
DESCRIPTION:Please visit the website for more information
URL:https://springfieldga.org/event/springfield-fall-festvival/
LOCATION:Laurel Street\, 130 S. Laurel Street\, Springfield\, GA\, 31329\, United States
CATEGORIES:Community Events,Vendor Event
ATTACH;FMTTYPE=image/jpeg:https://springfieldga.org/wp-content/uploads/2023/11/Facebook-Cover-Date-only-scaled.jpg
ORGANIZER;CN="City of Springfield":MAILTO:jsmith@springfieldga.org
END:VEVENT
BEGIN:VEVENT
DTSTART;TZID=UTC:20231016T170000
DTEND;TZID=UTC:20231016T183000
DTSTAMP:20260421T132252
CREATED:20230427T143406Z
LAST-MODIFIED:20230427T143442Z
UID:10000254-1697475600-1697481000@springfieldga.org
SUMMARY:2023 Effingham County Fair Parade
DESCRIPTION:Please contact the Effingham County Fair Committee for more information regarding booth and event details. \n  \nThis event is not hosted by the City of Springfield. Please contact the Event Organizer below for more information.
URL:https://springfieldga.org/event/2023-effingham-county-fair-parade/
LOCATION:Laurel Street\, 130 S. Laurel Street\, Springfield\, GA\, 31329\, United States
CATEGORIES:Community Events
ATTACH;FMTTYPE=image/jpeg:https://springfieldga.org/wp-content/uploads/2021/10/Parade-SM.jpg
END:VEVENT
END:VCALENDAR