BEGIN:VCALENDAR
VERSION:2.0
PRODID:-//The City of Springfield, Georgia - ECPv6.15.20//NONSGML v1.0//EN
CALSCALE:GREGORIAN
METHOD:PUBLISH
X-ORIGINAL-URL:https://springfieldga.org
X-WR-CALDESC:Events for The City of Springfield, Georgia
REFRESH-INTERVAL;VALUE=DURATION:PT1H
X-Robots-Tag:noindex
X-PUBLISHED-TTL:PT1H
BEGIN:VTIMEZONE
TZID:UTC
BEGIN:STANDARD
TZOFFSETFROM:+0000
TZOFFSETTO:+0000
TZNAME:UTC
DTSTART:20230101T000000
END:STANDARD
END:VTIMEZONE
BEGIN:VEVENT
DTSTART;TZID=UTC:20240607T160000
DTEND;TZID=UTC:20240607T200000
DTSTAMP:20260422T004750
CREATED:20240531T195724Z
LAST-MODIFIED:20240531T195724Z
UID:10000521-1717776000-1717790400@springfieldga.org
SUMMARY:Serendipity Gifts Grand Opening
DESCRIPTION:We are thrilled to invite you to the Grand Opening of Serendipity Gifts! Join us for an evening of fun and celebration as we unveil our charming boutique filled with southern-inspired apparel and gifts! \nWhether you’re looking for the perfect gift or simply want to enjoy an evening out\, you won’t want to miss our Grand Opening! Here’s the details! \n\nWhat: A celebration with giveaways\, special offers & a sampling of treats\nWhere: 105 N. Laurel St. Springfield\, GA 31329\nWhen: Friday\, June 7th 4-8pm\n\n  \n\n 
URL:https://springfieldga.org/event/serendipity-gifts-grand-opening/
LOCATION:Serendipity Gifts\, 105 N Laurel St Suite B\, Springfield\, Georgia\, 31329
CATEGORIES:Community Events
ORGANIZER;CN="City of Springfield":MAILTO:jsmith@springfieldga.org
END:VEVENT
END:VCALENDAR